
BEGIN:VCALENDAR
VERSION:2.0
PRODID:-//The Chesspedia - ECPv5.1.2.1//NONSGML v1.0//EN
CALSCALE:GREGORIAN
METHOD:PUBLISH
X-WR-CALNAME:The Chesspedia
X-ORIGINAL-URL:https://thechesspedia.net
X-WR-CALDESC:Events for The Chesspedia
BEGIN:VTIMEZONE
TZID:UTC
BEGIN:STANDARD
TZOFFSETFROM:+0000
TZOFFSETTO:+0000
TZNAME:UTC
DTSTART:20160101T000000
END:STANDARD
END:VTIMEZONE
BEGIN:VEVENT
DTSTART;VALUE=DATE:20160908
DTEND;VALUE=DATE:20160909
DTSTAMP:20260423T095806
CREATED:20160908T080410Z
LAST-MODIFIED:20161103T055002Z
UID:19673-1473292800-1473379199@thechesspedia.net
SUMMARY:September 8
DESCRIPTION:QUOTE OF THE DAY \nCarlsen: “I ran out of steam towards the end but fortunately I played better than he did”- Magnus Carlsen\, 2017\nBIRTHS \nThomas Loyd (1830-07.03.1914)\, American composer\, He was the oldest brother of Sam Loyd.\nHector Rossetto (1922-23.02.2009)\, Argentine Grandmaster who was a five-time the Argentine Champion.\nGheorghi Teodoru (1932)\, Romanian composer.\nFriedrich Baumbach (1935)\, German International Correspondence Chess Grandmaster\, most famous for being the eleventh ICCF World Champion\, 1983–89. Doctor in Chemical Sciences.\nAmador Cespedes Rodriguez (1956)\, Spanish Grandmaster born in Cuba. He won three Cuban championships.\nSergey Smagin (1958)\, Russian Grandmaster and coach.\nPeter Leko (1979) Hungarian Grandmaster\, the world’s youngest grandmaster in 1994 and a two-time World Championship Candidate.\nGoletiani Rusudan (1980)\, GEO\, a Georgian-American International Master and Woman Grandmaster. She won the 2005 U.S. Women’s Chess Championship and the 2003 American Continental Women’s Chess Championship.\nEvgenia Meshcheriakova (1985)\, Russian Women Grandmaster. \nDEATHS \nElijah Williams (07.10.1809-1854)\, was an eminent British chess player of the mid-19th century who defeated the celebrated British player Howard Staunton in the play-off for third place at the 1851 London tournament.\nLuigi Ceriani (23.01.1894-1969)\, Italian composer.\nMijo Udovcic (11.09.1920-1984)\, the first Croatian Grandmaster who jointly with Borislav Ivkov won the Yugoslav championships in 1963. \nCHESS EVENTS \n1849 The first wooden chess sets from Jacques with Staunton design was available in London. The first sets actually had a different pattern to the King’s Rook and King’s Knight that distinguished it from the Queen’s Rook and the Queen’s Knight.\n1996 A. Shariyazdanov (RUS) and M. Lomineishvili (GEO) won the European Junior Championships for Boys and Girls in Sifolk\, Hungary.\n2006 In Israel\, Alexander Grischuk of Russia became the first World Blitz Champion.\n2012 The contract between Agon and FIDE was approved by the General Assembly by majority vote. AGON\, founded by London-based entrepreneur Andrew Paulson\, was granted the long-term\, exclusive rights to organize and commercialize the World Chess Championship Cycle by FIDE\, the Fédération Internationale des Échecs.\n2012 The FIDE 0General Assembly approved the creation of an Anti-Cheating Committee to examine cheating cases and to report to the General Assembly. \nWORLD EVENTS \n1504 Michelangelo’s David is unveiled in Piazza della Signoria in Florence.\n1565 The Knights of Malta lift the Ottoman siege of Malta that began on May 18.\n1926 Germany is admitted to the League of Nations.\n1930 3M begins marketing Scotch transparent tape.\n1941 World War II: Siege of Leningrad begins. German forces begin a siege against the Soviet Union’s second-largest city\, Leningrad.\n1944 World War II: London is hit by a V-2 rocket for the first time.\n1946 A 95.6% vote in favor of abolishing the monarchy in Bulgaria.\n1962 Newly independent Algeria\, by referendum\, adopts a constitution.\n1978 Black Friday\, a massacre by soldiers against protesters in Tehran\, provoked 700-3000 deaths\, it marks the beginning of the end of the monarchy in Iran;\n1991 The Republic of Macedonia becomes independent. \n(Source: Wikipedia) \nGAME OF THE DAY \n\n\n \n\n\n	\n				[Event "Grand Slam Final 2nd"]\n[Site "Bilbao"]\n[Date "2009.09.08"]\n[Round "3"]\n[White "Karjakin\, Sergey"]\n[Black "Grischuk\, Alexander"]\n[Result "1-0"]\n[ECO "C93"]\n[WhiteElo "2722"]\n[BlackElo "2733"]\n[PlyCount "77"]\n[EventDate "2009.09.06"]\n[EventType "tourn"]\n[EventRounds "6"]\n\n1. e4 e5 2. Nf3 Nc6 3. Bb5 a6 4. Ba4 Nf6 5. O-O Be7 6. Re1 b5 7. Bb3 d6 8. c3\nO-O 9. h3 Bb7 10. d4 Re8 11. Nbd2 Bf8 12. a3 h6 13. d5 Nb8 14. Nh2 Nbd7 15. Qf3\nQc8 16. Ndf1 c6 17. dxc6 Qxc6 18. Ng4 Re7 19. Ng3 d5 20. exd5 Nxd5 21. Nf5 Re6\n22. Qg3 Kh8 23. Be3 h5 24. Rad1 Nxe3 25. Ngxe3 Rg6 26. Qh2 Rf6 27. Bd5 Qc8 28.\nQg3 g6 29. Qg5 Bg7 30. Ne7 Qc7 31. Ng4 Rf4 32. Nh6 Rf8 33. Nxf7+ R4xf7 34.\nNxg6+ Kh7 35. Qxh5+ Bh6 36. Bxf7 Rxf7 37. Rxd7 Rxd7 38. Nf8+ Kg7 39. Ne6+ 1-0\n				\n			You must activate JavaScript to enhance chess game visualization.		\n	\n	\n	\n		jQuery(document).ready(function($) {\n						$.chessgame.navigationButtonClass  = 'rpbchessboard-jQuery-enableSmoothness';\n			$.chessgame.navigationFrameClass   = 'wp-dialog';\n			$.chessgame.navigationFrameOptions = {"squareSize":32\,"showCoordinates":true\,"colorset":"original"\,"pieceset":"cburnett"\,"animationSpeed":200\,"showMoveArrow":true};\n			var selector = '#' + "rpbchessboard-69e9ed2ea6bc4-1" + ' .rpbchessboard-chessgameAnchor';\n			$(selector).removeClass('rpbchessboard-chessgameAnchor').chessgame({"pgn":"[Event \"Grand Slam Final 2nd\"]\r\n[Site \"Bilbao\"]\r\n[Date \"2009.09.08\"]\r\n[Round \"3\"]\r\n[White \"Karjakin\, Sergey\"]\r\n[Black \"Grischuk\, Alexander\"]\r\n[Result \"1-0\"]\r\n[ECO \"C93\"]\r\n[WhiteElo \"2722\"]\r\n[BlackElo \"2733\"]\r\n[PlyCount \"77\"]\r\n[EventDate \"2009.09.06\"]\r\n[EventType \"tourn\"]\r\n[EventRounds \"6\"]\r\n\r\n1. e4 e5 2. Nf3 Nc6 3. Bb5 a6 4. Ba4 Nf6 5. O-O Be7 6. Re1 b5 7. Bb3 d6 8. c3\r\nO-O 9. h3 Bb7 10. d4 Re8 11. Nbd2 Bf8 12. a3 h6 13. d5 Nb8 14. Nh2 Nbd7 15. Qf3\r\nQc8 16. Ndf1 c6 17. dxc6 Qxc6 18. Ng4 Re7 19. Ng3 d5 20. exd5 Nxd5 21. Nf5 Re6\r\n22. Qg3 Kh8 23. Be3 h5 24. Rad1 Nxe3 25. Ngxe3 Rg6 26. Qh2 Rf6 27. Bd5 Qc8 28.\r\nQg3 g6 29. Qg5 Bg7 30. Ne7 Qc7 31. Ng4 Rf4 32. Nh6 Rf8 33. Nxf7+ R4xf7 34.\r\nNxg6+ Kh7 35. Qxh5+ Bh6 36. Bxf7 Rxf7 37. Rxd7 Rxd7 38. Nf8+ Kg7 39. Ne6+ 1-0"\,"pieceSymbols":"native"\,"navigationBoard":"above"\,"showFlipButton":true\,"showDownloadButton":true\,"navigationBoardOptions":{"squareSize":32\,"showCoordinates":true\,"colorset":"original"\,"pieceset":"cburnett"\,"animationSpeed":200\,"showMoveArrow":true}\,"diagramOptions":{"squareSize":32\,"showCoordinates":true\,"colorset":"original"\,"pieceset":"cburnett"\,"animationSpeed":200\,"showMoveArrow":true}});\n		});\n	\n\n\n \n\n
URL:https://thechesspedia.net/day/september-8/
CATEGORIES:September
ATTACH;FMTTYPE=image/png:https://thechesspedia.net/wp-content/uploads/2016/09/sept-8.png
END:VEVENT
END:VCALENDAR