
BEGIN:VCALENDAR
VERSION:2.0
PRODID:-//The Chesspedia - ECPv5.1.2.1//NONSGML v1.0//EN
CALSCALE:GREGORIAN
METHOD:PUBLISH
X-WR-CALNAME:The Chesspedia
X-ORIGINAL-URL:https://thechesspedia.net
X-WR-CALDESC:Events for The Chesspedia
BEGIN:VTIMEZONE
TZID:UTC
BEGIN:STANDARD
TZOFFSETFROM:+0000
TZOFFSETTO:+0000
TZNAME:UTC
DTSTART:20160101T000000
END:STANDARD
END:VTIMEZONE
BEGIN:VEVENT
DTSTART;VALUE=DATE:20160907
DTEND;VALUE=DATE:20160908
DTSTAMP:20260422T003659
CREATED:20160907T080209Z
LAST-MODIFIED:20161103T054954Z
UID:19671-1473206400-1473292799@thechesspedia.net
SUMMARY:September 7
DESCRIPTION:QUOTE OF THE DAY \nThank the stars that I have been banned by FIDE so it is very clear I have nothing to do with this mess…- Garry Kasparov\, 2015\nBIRTHS \nFrancois Andre Philidor (1726-31.08.1795)\, was a French chess player and composer. He was regarded as the best world chess player of his age.\nSamuel Rosenthal (1837-12.09.1902)\, Polish-born French Master and journalist who he scored victories over all the leading masters of the time.\nJohann Hermann Zukertort (1842-20.06.1888)\, German-Polish Master. One of the leading world players for most of the 1870’s and 1880’s\, who lost to Wilhelm Steinitz for the first World Chess Championship in 1886.\nNenad Petrovic (1907-09.11.1989)\, the first Croatian Grandmaster of chess composition and World Champion in 1947 in the solving of chess problems.\nSergey Kudrin (1959)\, US Grandmaster born in the Soviet Union.\nSalvador Alonso (1974)\, Argentine Grandmaster.\nSahaj Grover (1995)\, Indian Grandmaster who won the World U10 championship in 2005. \nCHESS EVENTS \n1946 M. Botvinnik from USSR won the first major international tournament after WW2 in Groningen\, Holland.\n1971 07.09 At the Women’s Candidates in Minsk\, USSR\, Alla Kushnir (USSR) beat Ms. Tatania Zatulovskaya (USSR) 5½-4½.\n1993 The PCA World Championship started in London between G. Kasparov (RUS) and N. Short (ENG). The prize fund was allegedly US$ 2½00\,000 but one of the sponsors reportedly withdrew.\n2009 In Colombia\, Martha Fierro (ECU) won the American Continental Women’s Championship.\n2012 FIDE General Assembly accepted as a full member the federations of Togo\, Gambia\, and Lesotho \nWORLD EVENTS \n1228 Holy Roman Emperor Frederick II lands in Acre\, Israel\, and starts the Sixth Crusade\, which results in a peaceful restoration of the Kingdom of Jerusalem.\n1778 American Revolutionary War: France invades Dominica in the British West Indies before Britain is even aware of France’s involvement in the war.\n1812 French invasion of Russia: The Battle of Borodino\, the bloodiest battle of the Napoleonic Wars\, was fought near Moscow and resulted in a French victory.\n1822 Dom Pedro I declares Brazil independent from Portugal on the shores of the Ipiranga Brook in São Paulo.\n1896 The first successful heart surgery was conducted on this day by Ludwig Rehn?\n1923 The International Criminal Police Organization (INTERPOL) is formed.\n1927 The first fully electronic television system is achieved by Philo Farnsworth.\n1940 World War II: The German Luftwaffe begins the Blitz\, bombing London and other British cities for over 50 consecutive nights.\n1953 Nikita Khrushchev is elected the first secretary of the Communist Party of the Soviet Union.\n1999 – A 5.9 magnitude earthquake rocks Athens\, rupturing a previously unknown fault\, killing 143\, injuring more than 500\, and leaving 50\,000 people homeless. \n(Source: Wikipedia) \nGAME OF THE DAY \n\n\n \n\n\n	\n				[Event "Karlsbad"]\n[Site "Karlsbad"]\n[Date "1907.09.07"]\n[Round "14"]\n[White "Janowski\, Dawid Markelowicz"]\n[Black "Berger\, Johann Nepomuk"]\n[Result "1-0"]\n[ECO "D04"]\n[PlyCount "65"]\n[EventDate "1907.08.20"]\n1. d4 d5 2. Nf3 c5 3. dxc5 e6 4. e3 Bxc5 5. Be2 Nf6 6. O-O O-O 7. a3 b6 8. b4\nBd6 9. Bb2 Bb7 10. Nbd2 Nbd7 11. c4 Qe7 12. cxd5 Bxd5 13. Nd4 a5 14. b5 Nc5 15.\nBf3 Nd3 16. Bxd5 Nxb2 17. Qb3 Nxd5 18. Qxb2 Qf6 19. Rac1 Rac8 20. Qb3 Qh6 21.\ng3 Bc5 22. N2f3 Qh5 23. Kg2 Nf6 24. Nc6 Kh8 25. Rfd1 h6 26. Rc4 Nd5 27. Rh4 Qg6\n28. Nce5 Qh7 29. e4 Ne7 30. Rd7 Rce8 31. Ng5 Qg8 32. Qc3 f6 33. Rxe7 1-0\n				\n			You must activate JavaScript to enhance chess game visualization.		\n	\n	\n	\n		jQuery(document).ready(function($) {\n						$.chessgame.navigationButtonClass  = 'rpbchessboard-jQuery-enableSmoothness';\n			$.chessgame.navigationFrameClass   = 'wp-dialog';\n			$.chessgame.navigationFrameOptions = {"squareSize":32\,"showCoordinates":true\,"colorset":"original"\,"pieceset":"cburnett"\,"animationSpeed":200\,"showMoveArrow":true};\n			var selector = '#' + "rpbchessboard-69e8182be42dc-1" + ' .rpbchessboard-chessgameAnchor';\n			$(selector).removeClass('rpbchessboard-chessgameAnchor').chessgame({"pgn":"[Event \"Karlsbad\"]\r\n[Site \"Karlsbad\"]\r\n[Date \"1907.09.07\"]\r\n[Round \"14\"]\r\n[White \"Janowski\, Dawid Markelowicz\"]\r\n[Black \"Berger\, Johann Nepomuk\"]\r\n[Result \"1-0\"]\r\n[ECO \"D04\"]\r\n[PlyCount \"65\"]\r\n[EventDate \"1907.08.20\"]\r\n1. d4 d5 2. Nf3 c5 3. dxc5 e6 4. e3 Bxc5 5. Be2 Nf6 6. O-O O-O 7. a3 b6 8. b4\r\nBd6 9. Bb2 Bb7 10. Nbd2 Nbd7 11. c4 Qe7 12. cxd5 Bxd5 13. Nd4 a5 14. b5 Nc5 15.\r\nBf3 Nd3 16. Bxd5 Nxb2 17. Qb3 Nxd5 18. Qxb2 Qf6 19. Rac1 Rac8 20. Qb3 Qh6 21.\r\ng3 Bc5 22. N2f3 Qh5 23. Kg2 Nf6 24. Nc6 Kh8 25. Rfd1 h6 26. Rc4 Nd5 27. Rh4 Qg6\r\n28. Nce5 Qh7 29. e4 Ne7 30. Rd7 Rce8 31. Ng5 Qg8 32. Qc3 f6 33. Rxe7 1-0"\,"pieceSymbols":"native"\,"navigationBoard":"above"\,"showFlipButton":true\,"showDownloadButton":true\,"navigationBoardOptions":{"squareSize":32\,"showCoordinates":true\,"colorset":"original"\,"pieceset":"cburnett"\,"animationSpeed":200\,"showMoveArrow":true}\,"diagramOptions":{"squareSize":32\,"showCoordinates":true\,"colorset":"original"\,"pieceset":"cburnett"\,"animationSpeed":200\,"showMoveArrow":true}});\n		});\n	\n\n\n \n\n
URL:https://thechesspedia.net/day/september-7/
CATEGORIES:September
ATTACH;FMTTYPE=image/png:https://thechesspedia.net/wp-content/uploads/2016/09/sept-7.png
END:VEVENT
END:VCALENDAR