
BEGIN:VCALENDAR
VERSION:2.0
PRODID:-//The Chesspedia - ECPv5.1.2.1//NONSGML v1.0//EN
CALSCALE:GREGORIAN
METHOD:PUBLISH
X-WR-CALNAME:The Chesspedia
X-ORIGINAL-URL:https://thechesspedia.net
X-WR-CALDESC:Events for The Chesspedia
BEGIN:VTIMEZONE
TZID:UTC
BEGIN:STANDARD
TZOFFSETFROM:+0000
TZOFFSETTO:+0000
TZNAME:UTC
DTSTART:20160101T000000
END:STANDARD
END:VTIMEZONE
BEGIN:VEVENT
DTSTART;VALUE=DATE:20160904
DTEND;VALUE=DATE:20160905
DTSTAMP:20260423T102059
CREATED:20160904T075538Z
LAST-MODIFIED:20161103T053418Z
UID:19661-1472947200-1473033599@thechesspedia.net
SUMMARY:September 4
DESCRIPTION:QUOTE OF THE DAY \nFischer wanted to prove that all world championship games after his victory were prearranged. He did not convince me.- Vishy Anand\, 2008\nBIRTHS \nFrederik Willem Nanning (1892-12.06.1958)\, Dutch composer.\nJean Luc Seret (1951)\, French International Master who won four national titles.\nMichael Stean (1953)\, English Grandmaster\, author\, and journalist. One of Korchnoi’s seconds in 1978 and Short in London in 1993.\nJavier Ochoa de Echaguen (1954)\, International Master\, President of the Spanish chess federation\, FIDE Officer.\nThomas Paehtz (1956)\, German Grandmaster who was twice East German  and once German Champion.\nMatthieu Cornette (1985)\, French Grandmaster and French Champion 2016.\nStephen  Gordon (1986)\, English Grandmaster. He won 11 titles of British Youth Champion. \nDEATHS \nFedor Parfenovic Bohatirchuk (14.11.1892-1984)\, Ukrainian-Canadian International Master. Accused to be involved in war crimes\, he managed to escape the investigators and immigrated to Canada. \nCHESS EVENTS \n1954 The 11th Olympiad opened in Amsterdam. This time\, the US team was absent. Only 26 teams took part and were divided into 4 groups. \nWORLD EVENTS \n1666 In London\, England\, the most destructive damage from the Great Fire occurs.\n1781 Los Angeles is founded as El Pueblo de Nuestra Señora La Reina de los Ángeles de Porciúncula  by 44 Spanish settlers.\n1800 The French garrison in Valletta surrenders to British troops who had been called at the invitation of the Maltese. The islands of Malta andGozo become the Malta Protectorate.\n1870 Emperor Napoleon III of France is deposed and the Third Republic is declared.\n1882 Thomas Edison flips the switch to the first commercial electrical power plant in history\, lighting one square mile of lower Manhattan. This is considered by many as the day that began the electrical age.\n1888 George Eastman registers the trademark Kodak and receives a patent for his camera that uses roll film.\n1965 Albert Schweitzer\, French-Gabonese physician\, theologian\, and missionary\, Nobel Prize laureate died (b. 1875)\n1972 Mark Spitz becomes the first competitor to win seven medals at a single Olympic Games.\n1998 Google is founded by Larry Page and Sergey Brin\, two students at Stanford University. \n(Source Wikipedia) \nGAME OF THE DAY \n\n\n \n\n\n	\n				[Event "Biarritz m"]\n[Site "Biarritz"]\n[Date "1912.09.04"]\n[Round "?"]\n[White "Janowski\, Dawid Markelowicz"]\n[Black "Marshall\, Frank James"]\n[Result "0-1"]\n[ECO "C42"]\n[PlyCount "44"]\n[EventDate "1912.??.??"]\n[EventType "match"]\n[EventRounds "9"]\n[EventCountry "FRA"]\n1. e4 e5 2. Nf3 Nf6 3. Nxe5 d6 4. Nf3 Nxe4 5. d4 d5 6. Bd3 Bd6 7. c4 O-O 8.\ncxd5 $2 Bb4+ 9. Kf1 Qxd5 10. Qc2 Re8 11. Nc3 Nxc3 12. bxc3 Qxf3 13. cxb4 Nc6\n14. Bb2 Nxb4 15. Bxh7+ Kh8 16. gxf3 Bh3+ 17. Kg1 Nxc2 18. Bxc2 Re2 19. Rc1 Rae8\n20. Bc3 R8e3 21. Bb4 Rxf3 22. Bd1 Rf6 0-1\n				\n			You must activate JavaScript to enhance chess game visualization.		\n	\n	\n	\n		jQuery(document).ready(function($) {\n						$.chessgame.navigationButtonClass  = 'rpbchessboard-jQuery-enableSmoothness';\n			$.chessgame.navigationFrameClass   = 'wp-dialog';\n			$.chessgame.navigationFrameOptions = {"squareSize":32\,"showCoordinates":true\,"colorset":"original"\,"pieceset":"cburnett"\,"animationSpeed":200\,"showMoveArrow":true};\n			var selector = '#' + "rpbchessboard-69e9f28be852e-1" + ' .rpbchessboard-chessgameAnchor';\n			$(selector).removeClass('rpbchessboard-chessgameAnchor').chessgame({"pgn":"[Event \"Biarritz m\"]\r\n[Site \"Biarritz\"]\r\n[Date \"1912.09.04\"]\r\n[Round \"?\"]\r\n[White \"Janowski\, Dawid Markelowicz\"]\r\n[Black \"Marshall\, Frank James\"]\r\n[Result \"0-1\"]\r\n[ECO \"C42\"]\r\n[PlyCount \"44\"]\r\n[EventDate \"1912.??.??\"]\r\n[EventType \"match\"]\r\n[EventRounds \"9\"]\r\n[EventCountry \"FRA\"]\r\n1. e4 e5 2. Nf3 Nf6 3. Nxe5 d6 4. Nf3 Nxe4 5. d4 d5 6. Bd3 Bd6 7. c4 O-O 8.\r\ncxd5 $2 Bb4+ 9. Kf1 Qxd5 10. Qc2 Re8 11. Nc3 Nxc3 12. bxc3 Qxf3 13. cxb4 Nc6\r\n14. Bb2 Nxb4 15. Bxh7+ Kh8 16. gxf3 Bh3+ 17. Kg1 Nxc2 18. Bxc2 Re2 19. Rc1 Rae8\r\n20. Bc3 R8e3 21. Bb4 Rxf3 22. Bd1 Rf6 0-1"\,"pieceSymbols":"native"\,"navigationBoard":"above"\,"showFlipButton":true\,"showDownloadButton":true\,"navigationBoardOptions":{"squareSize":32\,"showCoordinates":true\,"colorset":"original"\,"pieceset":"cburnett"\,"animationSpeed":200\,"showMoveArrow":true}\,"diagramOptions":{"squareSize":32\,"showCoordinates":true\,"colorset":"original"\,"pieceset":"cburnett"\,"animationSpeed":200\,"showMoveArrow":true}});\n		});\n	\n\n\n \n\n
URL:https://thechesspedia.net/day/september-4/
CATEGORIES:September
ATTACH;FMTTYPE=image/png:https://thechesspedia.net/wp-content/uploads/2016/09/sept-4.png
END:VEVENT
END:VCALENDAR