
BEGIN:VCALENDAR
VERSION:2.0
PRODID:-//The Chesspedia - ECPv5.1.2.1//NONSGML v1.0//EN
CALSCALE:GREGORIAN
METHOD:PUBLISH
X-WR-CALNAME:The Chesspedia
X-ORIGINAL-URL:https://thechesspedia.net
X-WR-CALDESC:Events for The Chesspedia
BEGIN:VTIMEZONE
TZID:UTC
BEGIN:STANDARD
TZOFFSETFROM:+0000
TZOFFSETTO:+0000
TZNAME:UTC
DTSTART:20160101T000000
END:STANDARD
END:VTIMEZONE
BEGIN:VEVENT
DTSTART;VALUE=DATE:20160930
DTEND;VALUE=DATE:20161001
DTSTAMP:20260421T233131
CREATED:20160930T085711Z
LAST-MODIFIED:20161103T080028Z
UID:19737-1475193600-1475279999@thechesspedia.net
SUMMARY:September 30
DESCRIPTION:QUOTE OF THE DAY \nI think I am certainly more talented than many other people. But I don’t know what talent consists of.- Magnus Carlsen\, 2014\nBIRTHS \nRudolf von Gottschall (1823-21.03.1909)\, German amateur\, author and journalist.\nJan Rusek (1910-09.02.1987\, Polish problemist who composed more than 1\,000 problems.\nJanos Flesch (1933-09.12.1983)\, Hungarian Grandmaster\, coach and writer who is best known for claiming a world record simultaneous blindfold exhibition when he played 52 opponents in Budapest in 1960.\nEnamul Hossain (1981)\,  Bangladeshi Grandmaster who won the Bangladeshi Chess championship in 1997 and 2006.\nMikhailo Oleksienko (1986)\, Ukrainian Grandmaster.\nAltanulzii Enkhtuul (1994)\, Mongolian Woman Grandmaster. \nCHESS EVENTS \n1961 The USSR won the 3rd Chess Correspondence Olympiad.\n1994 M. Chiburdanidze and Zs. Polgar tied for the first place in the Women’s Candidates’ Tournament\, organized by Interpolis in Tilburg.\n1996 The GA approved Jersey Chess Federation and Macau Chess Association as full members.\n1996. Kirsan Ilyumzhinov was elected FIDE President.\n2007 In Cebu\, Philippines\, Zhang Pengxiang  of China won the Asian Individual Championship.\n2007 The World Chess Championship 2007 was held in Mexico City\, It was an eight-player\, Double Round Robin tournament. Viswanathan Anand of India won the tournament and the title of World Chess Champion. \nWORLD EVENTS \n1399 Henry IV is proclaimed King of England.\n1860 Britain’s first tram service begins in Birkenhead\, Merseyside.\n1882 Thomas Edison’s first commercial hydroelectric power plant (later known as Appleton Edison Light Company) begins operation on the Fox River in Appleton\, Wisconsin\, United States.\n1895 Madagascar becomes a French protectorate.\n1947 Pakistan and Yemen join the United Nations.\n1955 Film star James Dean dies in a road accident aged 24.\n1965 The 30 September Movement attempts a coup against the Indonesian government\, which is crushed by the military under Suharto and leads to a mass anti-communist purge\, with over 500\,000 people killed.\n1966 The British protectorate of Bechuanaland declares its independence and becomes the Republic of Botswana. Seretse Khama takes office as the first President.\n1968 The Boeing 747 is rolled out and shown to the public for the first time at the Boeing Everett Factory.\n2005 The controversial drawings of Muhammad are printed in the Danish newspaper Jyllands-Posten.(Source: Wikipedia) \nGAME OF THE DAY \n\n\n \n\n\n	\n				[Event "EU-Cup 19th"]\n[Site "Rethymnon"]\n[Date "2003.09.30"]\n[Round "3.1"]\n[White "Ivanchuk\, Vassily"]\n[Black "Van Wely\, Loek"]\n[Result "1-0"]\n[ECO "B33"]\n[WhiteElo "2710"]\n[BlackElo "2661"]\n[PlyCount "79"]\n[EventDate "2003.09.28"]\n[EventType "team-swiss"]\n[EventRounds "7"]\n[EventCountry "GRE"]\n1. e4 c5 2. Nf3 Nc6 3. d4 cxd4 4. Nxd4 Nf6 5. Nc3 e5 6. Ndb5 d6 7. Bg5 a6 8.\nNa3 b5 9. Bxf6 gxf6 10. Nd5 f5 11. g3 fxe4 12. Bg2 Bg7 13. Bxe4 Rb8 14. Qh5 Ne7\n15. Nxe7 Qxe7 16. c3 Be6 17. Rd1 Qd7 18. O-O h6 19. Nc2 O-O 20. Ne3 f5 21. Bd5\nKh8 22. Bxe6 Qxe6 23. Nd5 f4 24. Rd2 Rf5 25. Qe2 fxg3 26. hxg3 e4 27. Rfd1 Rbf8\n28. f4 Qg6 29. Qxe4 Qxg3+ 30. Rg2 Qh3 31. Ne7 Rh5 32. Ng6+ Kg8 33. Nxf8 Qh1+\n34. Kf2 Qxd1 35. Qh7+ Kxf8 36. Qxg7+ Ke8 37. Qg8+ Kd7 38. Rg7+ Kc6 39. Qa8+ Kb6\n40. Qb7+ 1-0\n				\n			You must activate JavaScript to enhance chess game visualization.		\n	\n	\n	\n		jQuery(document).ready(function($) {\n						$.chessgame.navigationButtonClass  = 'rpbchessboard-jQuery-enableSmoothness';\n			$.chessgame.navigationFrameClass   = 'wp-dialog';\n			$.chessgame.navigationFrameOptions = {"squareSize":32\,"showCoordinates":true\,"colorset":"original"\,"pieceset":"cburnett"\,"animationSpeed":200\,"showMoveArrow":true};\n			var selector = '#' + "rpbchessboard-69e808d3268ed-1" + ' .rpbchessboard-chessgameAnchor';\n			$(selector).removeClass('rpbchessboard-chessgameAnchor').chessgame({"pgn":"[Event \"EU-Cup 19th\"]\r\n[Site \"Rethymnon\"]\r\n[Date \"2003.09.30\"]\r\n[Round \"3.1\"]\r\n[White \"Ivanchuk\, Vassily\"]\r\n[Black \"Van Wely\, Loek\"]\r\n[Result \"1-0\"]\r\n[ECO \"B33\"]\r\n[WhiteElo \"2710\"]\r\n[BlackElo \"2661\"]\r\n[PlyCount \"79\"]\r\n[EventDate \"2003.09.28\"]\r\n[EventType \"team-swiss\"]\r\n[EventRounds \"7\"]\r\n[EventCountry \"GRE\"]\r\n1. e4 c5 2. Nf3 Nc6 3. d4 cxd4 4. Nxd4 Nf6 5. Nc3 e5 6. Ndb5 d6 7. Bg5 a6 8.\r\nNa3 b5 9. Bxf6 gxf6 10. Nd5 f5 11. g3 fxe4 12. Bg2 Bg7 13. Bxe4 Rb8 14. Qh5 Ne7\r\n15. Nxe7 Qxe7 16. c3 Be6 17. Rd1 Qd7 18. O-O h6 19. Nc2 O-O 20. Ne3 f5 21. Bd5\r\nKh8 22. Bxe6 Qxe6 23. Nd5 f4 24. Rd2 Rf5 25. Qe2 fxg3 26. hxg3 e4 27. Rfd1 Rbf8\r\n28. f4 Qg6 29. Qxe4 Qxg3+ 30. Rg2 Qh3 31. Ne7 Rh5 32. Ng6+ Kg8 33. Nxf8 Qh1+\r\n34. Kf2 Qxd1 35. Qh7+ Kxf8 36. Qxg7+ Ke8 37. Qg8+ Kd7 38. Rg7+ Kc6 39. Qa8+ Kb6\r\n40. Qb7+ 1-0"\,"pieceSymbols":"native"\,"navigationBoard":"above"\,"showFlipButton":true\,"showDownloadButton":true\,"navigationBoardOptions":{"squareSize":32\,"showCoordinates":true\,"colorset":"original"\,"pieceset":"cburnett"\,"animationSpeed":200\,"showMoveArrow":true}\,"diagramOptions":{"squareSize":32\,"showCoordinates":true\,"colorset":"original"\,"pieceset":"cburnett"\,"animationSpeed":200\,"showMoveArrow":true}});\n		});\n	\n\n\n \n\n
URL:https://thechesspedia.net/day/september-30/
CATEGORIES:September
ATTACH;FMTTYPE=image/png:https://thechesspedia.net/wp-content/uploads/2016/07/sept-30.png
END:VEVENT
END:VCALENDAR