
BEGIN:VCALENDAR
VERSION:2.0
PRODID:-//The Chesspedia - ECPv5.1.2.1//NONSGML v1.0//EN
CALSCALE:GREGORIAN
METHOD:PUBLISH
X-WR-CALNAME:The Chesspedia
X-ORIGINAL-URL:https://thechesspedia.net
X-WR-CALDESC:Events for The Chesspedia
BEGIN:VTIMEZONE
TZID:UTC
BEGIN:STANDARD
TZOFFSETFROM:+0000
TZOFFSETTO:+0000
TZNAME:UTC
DTSTART:20160101T000000
END:STANDARD
END:VTIMEZONE
BEGIN:VEVENT
DTSTART;VALUE=DATE:20160903
DTEND;VALUE=DATE:20160904
DTSTAMP:20260423T092834
CREATED:20160903T075256Z
LAST-MODIFIED:20161103T053328Z
UID:19658-1472860800-1472947199@thechesspedia.net
SUMMARY:September 3
DESCRIPTION:QUOTE OF THE DAY \nIn the 70s Karpov was a darling of the Politburo or the political elite. So Kramnik is now. Just like the old days. But at least Karpov\, unlike him\, played in and won qualifying matches.- Veselin Topalov\nBIRTHS \nAlexander Koblents (1916-09.12.1993)\, Soviet-Latvian Master\, trainer\, and writer. He was the main coach of M. Tal.\nFederico Alliney (1920-04.10.1991)\, Italian chess composer.\nProf. Kurt Jungwirth (1929)\, Austrian chess amateur\, ECU President\, FIDE officer.\nVladislav Nevednichy (1969)\, Romania Grandmaster who played for some time for Moldova. Romanian Champion in 2008.\nNatasa Bojkovic (1971)\, Serbian International Master and Women Grandmaster\, Girls’ World Junior  Champion in 1991.\nAlexander Onischuk (1975)\, Ukraine-born American Grandmaster who became the 2006 US Champion and was second of A. Karpov and V. Topalov.\nRashad Babaev (1981)\, Azeri Grandmaster.\nImre Hera (1986)\, Hungarian Grandmaster and author. \nDEATHS \nJiri Chocolous (09.12.1856-1930)\, Czech chess composer\, one of the fathers of the Bohemian composing school.\nAlexander Ilyin – Genevsky (28.11.1894-1941)Soviet Master and organizer\, one of the founders of the Soviet chess school\, a writer\, a military organizer\, a historian and a diplomat. He died in a Nazi air raid on a barge on Lake Ladoga\, Russia. \nCHESS EVENTS \n1963 Florian Gheorgiu (ROM) won the tile on Sonneborn-Berger at the 7th World Junior Championship in Vrnjacka Banja\, Yugoslavia.\n1981 O. Cvitan (YUG) won the 20th World Junior Championship in Mexico.\n2013 In Tromso Norway\, the Russian Vladimir Kramnik claimed victory in the FIDE World Cup \nWORLD EVENTS \n1189 Richard I of England (a.k.a. Richard “the Lionheart”) is crowned at Westminster.\n1658 Richard Cromwell becomes Lord Protector of England.\n1777 American Revolutionary War: During the Battle of Cooch’s Bridge\, the Flag of the United States is flown in battle for the first time.\n1935 Sir Malcolm Campbell reaches a speed of 304.331 miles per hour on the Bonneville Salt Flats in Utah\, becoming the first person to drive an automobile over 300 mph.\n1939 World War II: France\, the United Kingdom\, New Zealand and Australia declare war on Germany after the invasion of Poland\, forming theAllies.\n1943 World War II: The Allied invasion of Italy begins on the same day that U.S. General Dwight D. Eisenhower and Italian Marshal Pietro Badoglio sign the Armistice of Cassibile aboard the Royal Navy battleship HMS Nelson off Malta.\n1944 Holocaust: Diarist Anne Frank and her family are placed on the last transport train from the Westerbork transit camp to the Auschwitz concentration camp\, arriving three days later.\n1971 Qatar becomes an independent state. \n
URL:https://thechesspedia.net/day/september-3/
CATEGORIES:September
ATTACH;FMTTYPE=image/png:https://thechesspedia.net/wp-content/uploads/2016/09/sept-3.png
END:VEVENT
END:VCALENDAR