
BEGIN:VCALENDAR
VERSION:2.0
PRODID:-//The Chesspedia - ECPv5.1.2.1//NONSGML v1.0//EN
CALSCALE:GREGORIAN
METHOD:PUBLISH
X-WR-CALNAME:The Chesspedia
X-ORIGINAL-URL:https://thechesspedia.net
X-WR-CALDESC:Events for The Chesspedia
BEGIN:VTIMEZONE
TZID:UTC
BEGIN:STANDARD
TZOFFSETFROM:+0000
TZOFFSETTO:+0000
TZNAME:UTC
DTSTART:20160101T000000
END:STANDARD
END:VTIMEZONE
BEGIN:VEVENT
DTSTART;VALUE=DATE:20160929
DTEND;VALUE=DATE:20160930
DTSTAMP:20260422T020822
CREATED:20160929T085537Z
LAST-MODIFIED:20161103T075947Z
UID:19734-1475107200-1475193599@thechesspedia.net
SUMMARY:September 29
DESCRIPTION:QUOTE OF THE DAY \nI detest the endgame. A well-played game should be practically decided in the middle-game!- David Janowski\nBIRTHS \nIsakas Vistaneckis (1920-30.12.2000) Lithuanian Master who won 5 Lithuanian championships before to emigrate to Israel.\nKira Zvorikina (1919-06.09.2014)\, Russian Women Grandmaster who won five Soviet Women championships.\nEvgenij Ermenkov (1949)\, Bulgarian Grandmaster who won 5 Bulgarian championships.\nSergey Ivanov (1961)\, Russian Grandmaster.\nVigen Mirumian (1977)\, Czech Grandmaster born in Armenia.\nOlivier Barbosa (1986)\, Filipino Grandmaster. \nDEATH \nChernev Irving (29.01.1900-1981)\, was a prolific Russian-American chess author. \nCHESS EVENT \n1947. The Bulgarian post office released the first ‘chess stamp’. \nWORLD EVENTS \n1789 The United States Department of War first establishes a regular army with a strength of several hundred men.\n1885 The first practical public electric tramway in the world is opened in Blackpool\, England.\n1899 The Malolos Congress ratified the Philippine Declaration of Independence from Spain.\n1902 Émile Zola\, French journalist\, author\, and playwright died (b. 1840)\n1923 The British Mandate for Palestine takes effect\, creating Mandatory Palestine.\n1923 The French Mandate for Syria and the Lebanon takes effect.\n1938 The Munich Agreement between Germany\, the United Kingdom\, France and Italy settles the Sudetenland dispute in Germany’s favor.\n1954 The convention establishing CERN (the European Organization for Nuclear Research) is signed.\n1971 Oman joins the Arab League.\n2008 Following the bankruptcies of Lehman Brothers and Washington Mutual\, The Dow Jones Industrial Average falls 777.68 points\, the largest single-day point loss in its history. \n(Source Wikipedia) \n\n\n \n\n\n	\n				[Event "EU-Cup 27th"]\n[Site "Rogaska Slatina"]\n[Date "2011.09.29"]\n[Round "5"]\n[White "Naiditsch\, Arkadij"]\n[Black "Giri\, Anish"]\n[Result "1-0"]\n[ECO "B91"]\n[WhiteElo "2707"]\n[BlackElo "2722"]\n[PlyCount "51"]\n[EventDate "2011.09.25"]\n[EventType "team-swiss"]\n[EventRounds "7"]\n[EventCountry "SLO"]\n[SourceTitle "CBM 145"]\n[Source "ChessBase"]\n[SourceDate "2011.11.11"]\n[WhiteTeam "Baden-Baden"]\n[BlackTeam "SHSM-64"]\n[WhiteTeamCountry "GER"]\n[BlackTeamCountry "RUS"]\n\n1. e4 c5 2. Nf3 d6 3. d4 cxd4 4. Nxd4 Nf6 5. Nc3 a6 6. g3 e5 7. Nb3 Nbd7 8. Bg2\nb5 9. O-O Bb7 10. a4 b4 11. Nd5 a5 12. Bd2 Nc5 13. Nxf6+ Qxf6 14. c3 Bxe4 15.\nBxe4 Nxe4 16. Qe2 Nxd2 17. Qb5+ Ke7 18. Nxd2 Rd8 19. Nc4 Qf3 20. cxb4 Ke6 21.\nbxa5 Be7 22. a6 h5 23. Ra3 Qg4 24. f4 exf4 25. Rxf4 Qd1+ 26. Rf1 1-0\n				\n			You must activate JavaScript to enhance chess game visualization.		\n	\n	\n	\n		jQuery(document).ready(function($) {\n						$.chessgame.navigationButtonClass  = 'rpbchessboard-jQuery-enableSmoothness';\n			$.chessgame.navigationFrameClass   = 'wp-dialog';\n			$.chessgame.navigationFrameOptions = {"squareSize":32\,"showCoordinates":true\,"colorset":"original"\,"pieceset":"cburnett"\,"animationSpeed":200\,"showMoveArrow":true};\n			var selector = '#' + "rpbchessboard-69e82d96970ed-1" + ' .rpbchessboard-chessgameAnchor';\n			$(selector).removeClass('rpbchessboard-chessgameAnchor').chessgame({"pgn":"[Event \"EU-Cup 27th\"]\r\n[Site \"Rogaska Slatina\"]\r\n[Date \"2011.09.29\"]\r\n[Round \"5\"]\r\n[White \"Naiditsch\, Arkadij\"]\r\n[Black \"Giri\, Anish\"]\r\n[Result \"1-0\"]\r\n[ECO \"B91\"]\r\n[WhiteElo \"2707\"]\r\n[BlackElo \"2722\"]\r\n[PlyCount \"51\"]\r\n[EventDate \"2011.09.25\"]\r\n[EventType \"team-swiss\"]\r\n[EventRounds \"7\"]\r\n[EventCountry \"SLO\"]\r\n[SourceTitle \"CBM 145\"]\r\n[Source \"ChessBase\"]\r\n[SourceDate \"2011.11.11\"]\r\n[WhiteTeam \"Baden-Baden\"]\r\n[BlackTeam \"SHSM-64\"]\r\n[WhiteTeamCountry \"GER\"]\r\n[BlackTeamCountry \"RUS\"]\r\n\r\n1. e4 c5 2. Nf3 d6 3. d4 cxd4 4. Nxd4 Nf6 5. Nc3 a6 6. g3 e5 7. Nb3 Nbd7 8. Bg2\r\nb5 9. O-O Bb7 10. a4 b4 11. Nd5 a5 12. Bd2 Nc5 13. Nxf6+ Qxf6 14. c3 Bxe4 15.\r\nBxe4 Nxe4 16. Qe2 Nxd2 17. Qb5+ Ke7 18. Nxd2 Rd8 19. Nc4 Qf3 20. cxb4 Ke6 21.\r\nbxa5 Be7 22. a6 h5 23. Ra3 Qg4 24. f4 exf4 25. Rxf4 Qd1+ 26. Rf1 1-0"\,"pieceSymbols":"native"\,"navigationBoard":"above"\,"showFlipButton":true\,"showDownloadButton":true\,"navigationBoardOptions":{"squareSize":32\,"showCoordinates":true\,"colorset":"original"\,"pieceset":"cburnett"\,"animationSpeed":200\,"showMoveArrow":true}\,"diagramOptions":{"squareSize":32\,"showCoordinates":true\,"colorset":"original"\,"pieceset":"cburnett"\,"animationSpeed":200\,"showMoveArrow":true}});\n		});\n	\n\n\n \n\n
URL:https://thechesspedia.net/day/september-29/
CATEGORIES:September
ATTACH;FMTTYPE=image/png:https://thechesspedia.net/wp-content/uploads/2016/07/sept-29.png
END:VEVENT
END:VCALENDAR