
BEGIN:VCALENDAR
VERSION:2.0
PRODID:-//The Chesspedia - ECPv5.1.2.1//NONSGML v1.0//EN
CALSCALE:GREGORIAN
METHOD:PUBLISH
X-WR-CALNAME:The Chesspedia
X-ORIGINAL-URL:https://thechesspedia.net
X-WR-CALDESC:Events for The Chesspedia
BEGIN:VTIMEZONE
TZID:UTC
BEGIN:STANDARD
TZOFFSETFROM:+0000
TZOFFSETTO:+0000
TZNAME:UTC
DTSTART:20160101T000000
END:STANDARD
END:VTIMEZONE
BEGIN:VEVENT
DTSTART;VALUE=DATE:20160928
DTEND;VALUE=DATE:20160929
DTSTAMP:20260422T003612
CREATED:20160929T085326Z
LAST-MODIFIED:20161103T075926Z
UID:19730-1475020800-1475107199@thechesspedia.net
SUMMARY:September 28
DESCRIPTION:QUOTE OF THE DAY \nTen years ago I said that 2010 would be the end\, chess would be exhausted. But it is not true\, chess will not die so quickly.- Vishy Anand\, 2008\nBIRTHS \n  \nReinhart Fuchs (1934) German International Master who was East German Champion in 1953 and 1956.\nOrla Hermann Krause 03.11.1867-1935)\, Danish Master and chess theoretician who played and got a silver medal at the 1927 Olympiad.\nGergios Makropoulos (1953)\, Greek International Master\, organiser and journalist who is the FIDE Deputy President for more than 20 years.\nStellan Brynell (1962)\, Swedish Grandmaster who was the Swedish Champion in 1991 and  2005.\nSergey Nadyrhanov (1963)\, Russian Grandmaster.\nVladimir Chuchelov (1969)\, Belgium Grandmaster born in Russia and well-known former coach of Caruana\, Giri and Hou Yifan.\nNino Khurtsidze (1975)\, Georgian International Master and Woman Grandmaster who won the World Junior Girls Chess Championship in 1993 and 1995.\nPavel Potapov\, Russian Grandmaster (1990).\nAleksandra Goryachkina (1998)\, Russian Woman Grandmaster who was Woman Russian Champion in 2015 and won the World Junior Girls Chess Championships\, in 2013 and in 2014. \nCHESS EVENT \n2002 Bosna and BAS Belgrade are the winners of the European Club Cup for men and women. \nWORLD EVENTS \n1066 William the Conqueror invades England beginning the Norman conquest of England.\n1844 Oscar I of Sweden–Norway is crowned king of Sweden.\n1924 First round-the-world flight completed.\n1928 Sir Alexander Fleming notices a bacteria-killing mold growing in his laboratory\, discovering what later became known as penicillin.\n1939 Nazi Germany and the Soviet Union agree on a division of Poland after their invasion during World War II.\n1939 Warsaw surrenders to Nazi Germany during World War II.\n1958 France ratifies a new Constitution of France; the French Fifth Republic is then formed upon the formal adoption of the new constitution onOctober 4. Guinea rejects the new constitution\, voting for independence instead.\n1960 Mali and Senegal join the United Nations.\n1970 Egyptian President Gamal Abdel Nasser dies of a heart attack in Cairo. Anwar Sadat is named as Nasser’s temporary successor\, and will later become the permanent successor.\n1994 The cruise ferry MS Estonia sinks in Baltic Sea\, killing 852 people.\n1995 Bob Denard and a group of mercenaries take the islands of the Comoros in a coup.\n1995 Israeli Prime Minister Yitzhak Rabin and PLO Chairman Yasser Arafat sign the Interim Agreement on the West Bank and the Gaza Strip. \n(Source: Wikipedia) \nGAME OF THE DAY \n\n\n \n\n\n	\n				[Event "EU-Cup 17th"]\n[Site "Panormo"]\n[Date "2001.09.28"]\n[Round "5.5"]\n[White "Krasenkow\, Michal"]\n[Black "Kindermann\, Stefan"]\n[Result "1-0"]\n[ECO "A04"]\n[WhiteElo "2573"]\n[BlackElo "2520"]\n[BlackTeam "Graz Merkur"]\n[WhiteTeamCountry "POL"]\n[BlackTeamCountry "AUT"]\n\n1. Nf3 f5 2. d3 d6 3. e4 e5 4. Nc3 Nc6 5. exf5 Bxf5 6. d4 Nb4 7. Bb5+ c6 8. Ba4\ne4 9. Ng5 d5 10. f3 exf3 11. O-O Nf6 12. a3 Na6 13. Qxf3 Bg4 14. Qd3 Qd7 15. h3\nBh5 16. Re1+ Be7 17. Ne6 Kf7 18. Nxd5 Nxd5 19. Qf5+ Nf6 20. Bb3 Bg6 21. Nxg7+\nKf8 22. Qxd7 Nxd7 23. Bh6 1-0\n				\n			You must activate JavaScript to enhance chess game visualization.		\n	\n	\n	\n		jQuery(document).ready(function($) {\n						$.chessgame.navigationButtonClass  = 'rpbchessboard-jQuery-enableSmoothness';\n			$.chessgame.navigationFrameClass   = 'wp-dialog';\n			$.chessgame.navigationFrameOptions = {"squareSize":32\,"showCoordinates":true\,"colorset":"original"\,"pieceset":"cburnett"\,"animationSpeed":200\,"showMoveArrow":true};\n			var selector = '#' + "rpbchessboard-69e817fccfda2-1" + ' .rpbchessboard-chessgameAnchor';\n			$(selector).removeClass('rpbchessboard-chessgameAnchor').chessgame({"pgn":"[Event \"EU-Cup 17th\"]\r\n[Site \"Panormo\"]\r\n[Date \"2001.09.28\"]\r\n[Round \"5.5\"]\r\n[White \"Krasenkow\, Michal\"]\r\n[Black \"Kindermann\, Stefan\"]\r\n[Result \"1-0\"]\r\n[ECO \"A04\"]\r\n[WhiteElo \"2573\"]\r\n[BlackElo \"2520\"]\r\n[BlackTeam \"Graz Merkur\"]\r\n[WhiteTeamCountry \"POL\"]\r\n[BlackTeamCountry \"AUT\"]\r\n\r\n1. Nf3 f5 2. d3 d6 3. e4 e5 4. Nc3 Nc6 5. exf5 Bxf5 6. d4 Nb4 7. Bb5+ c6 8. Ba4\r\ne4 9. Ng5 d5 10. f3 exf3 11. O-O Nf6 12. a3 Na6 13. Qxf3 Bg4 14. Qd3 Qd7 15. h3\r\nBh5 16. Re1+ Be7 17. Ne6 Kf7 18. Nxd5 Nxd5 19. Qf5+ Nf6 20. Bb3 Bg6 21. Nxg7+\r\nKf8 22. Qxd7 Nxd7 23. Bh6 1-0"\,"pieceSymbols":"native"\,"navigationBoard":"above"\,"showFlipButton":true\,"showDownloadButton":true\,"navigationBoardOptions":{"squareSize":32\,"showCoordinates":true\,"colorset":"original"\,"pieceset":"cburnett"\,"animationSpeed":200\,"showMoveArrow":true}\,"diagramOptions":{"squareSize":32\,"showCoordinates":true\,"colorset":"original"\,"pieceset":"cburnett"\,"animationSpeed":200\,"showMoveArrow":true}});\n		});\n	\n\n\n \n\n
URL:https://thechesspedia.net/day/september-28/
CATEGORIES:September
ATTACH;FMTTYPE=image/png:https://thechesspedia.net/wp-content/uploads/2016/07/sept-28.png
END:VEVENT
END:VCALENDAR