
BEGIN:VCALENDAR
VERSION:2.0
PRODID:-//The Chesspedia - ECPv5.1.2.1//NONSGML v1.0//EN
CALSCALE:GREGORIAN
METHOD:PUBLISH
X-WR-CALNAME:The Chesspedia
X-ORIGINAL-URL:https://thechesspedia.net
X-WR-CALDESC:Events for The Chesspedia
BEGIN:VTIMEZONE
TZID:UTC
BEGIN:STANDARD
TZOFFSETFROM:+0000
TZOFFSETTO:+0000
TZNAME:UTC
DTSTART:20160101T000000
END:STANDARD
END:VTIMEZONE
BEGIN:VEVENT
DTSTART;VALUE=DATE:20160927
DTEND;VALUE=DATE:20160928
DTSTAMP:20260422T003737
CREATED:20160927T085127Z
LAST-MODIFIED:20161103T075907Z
UID:19728-1474934400-1475020799@thechesspedia.net
SUMMARY:September 27
DESCRIPTION:QUOTE OF THE DAY \nKasparov doesn’t care about chess\, but only about himself and his political goals- Kirsan Ilyumzhinov\, 2015\nBIRTHS \nMarcus Antonius Vida (1485-1566)\, Italian humanist\, a Bishop and a poet.\nCharles Locock (1862-1946)\, British literary scholar\, editor and translator\, who wrote on a wide array of subjects\, including chess\, billiards and croquet.\nSigmund Herland (1865-15.08.1954). Romanian Master and chess composer.\nIsrael Schiffman 1903-29.04.1930)\, Ukrainian chess composer.\nVladimir Petrov (1907-1943)\, Latvian strong player who participated in few Olympiads before WWII. Arrested by the Soviets in 1940\, he was sentenced to ten years in a corrective labor camp where he died in 1943.\nBraslav Rabar (1919-06.12.1973)\, Croatian International Master who won the Yugoslav championship in 1951.  He is remembered for designing the Opening Classification System that was used by the Chess Informant.\nJohn Fedorowicz (1958)\, US Grandmaster\, author and coach who was US Junior Champion in 1978.\nIgor Stohl (1964) Slovakian Grandmaster\, coach and author who won the national championship title in 1984.\nAlexei Fedorov (1972)\, Belarus Grandmaster.\nVlad Cristian Jianu (1984)\, Romanian Grandmaster who was the Romanian Champion in 2006.\nDavid Baramidze (1988)\, German Grandmaster born in Georgia.\nIllya Nyzhnyk (1996)\, Ukrainian Grandmaster who was at 14 years and three months\, the youngest Grandmaster in the world.\nJan Krejci (1992)\, Czech Grandmaster. \nCHESS EVENTS \n1970 USSR won the gold medal at the 19th Olympiad. However\, they drew 6 matches and finished only one point ahead of Hungary.\n1985 Max Dlugy USA won the World Junior Championship in Sharjah\, UAE.\n2013 In Turkey\, Yu Yangyi from China and Goryachkina Aleksandra from Russia became the World Junior Champions 2013 \nWORLD EVENTS \n1825 The world’s first public railway to use steam locomotives\, the Stockton and Darlington Railway\, is ceremonially opened.\n1908 The first production of the Ford Model T automobile was built at the Ford Piquette Avenue Plant in Detroit\, Michigan.\n1928 The Republic of China is recognized by the United States.\n1928 The Republic of China is recognized by the United States.\n1959 Typhoon Vera kills nearly 5\,000 people in Japan.\n1961 Sierra Leone joins the United Nations.\n1962 The Yemen Arab Republic is established.1998 – The Google internet search engine retrospectively claims this as its birthday. \n(Source: Wikipedia) \nGAME OF THE DAY \n\n\n \n\n\n	\n				[Event "EU-Cup 27th"]\n[Site "Rogaska Slatina"]\n[Date "2011.09.27"]\n[Round "3"]\n[White "Gelfand\, Boris"]\n[Black "Jobava\, Baadur"]\n[Result "1-0"]\n[ECO "A61"]\n[WhiteElo "2746"]\n[BlackElo "2712"]\n[PlyCount "57"]\n[EventDate "2011.09.25"]\n[EventType "team-swiss"]\n[EventRounds "7"]\n\n1. d4 Nf6 2. c4 e6 3. Nf3 c5 4. d5 exd5 5. cxd5 g6 6. Nc3 Bg7 7. Bf4 d6 8. Qa4+\nBd7 9. Qb3 b5 10. Bxd6 Qb6 11. Be5 O-O 12. e3 c4 13. Qd1 Na6 14. a4 Nb4 15.\naxb5 Bf5 16. Bxc4 Rfc8 17. b3 Ng4 18. Bxg7 Nc2+ 19. Qxc2 Bxc2 20. Bd4 Qd8 21.\nO-O Qe7 22. Rfc1 Bf5 23. e4 Bd7 24. h3 Nf6 25. d6 Qd8 26. e5 Nh5 27. Nd5 Kf8\n28. Be3 Ng7 29. Bg5 1-0\n				\n			You must activate JavaScript to enhance chess game visualization.		\n	\n	\n	\n		jQuery(document).ready(function($) {\n						$.chessgame.navigationButtonClass  = 'rpbchessboard-jQuery-enableSmoothness';\n			$.chessgame.navigationFrameClass   = 'wp-dialog';\n			$.chessgame.navigationFrameOptions = {"squareSize":32\,"showCoordinates":true\,"colorset":"original"\,"pieceset":"cburnett"\,"animationSpeed":200\,"showMoveArrow":true};\n			var selector = '#' + "rpbchessboard-69e8185168a50-1" + ' .rpbchessboard-chessgameAnchor';\n			$(selector).removeClass('rpbchessboard-chessgameAnchor').chessgame({"pgn":"[Event \"EU-Cup 27th\"]\r\n[Site \"Rogaska Slatina\"]\r\n[Date \"2011.09.27\"]\r\n[Round \"3\"]\r\n[White \"Gelfand\, Boris\"]\r\n[Black \"Jobava\, Baadur\"]\r\n[Result \"1-0\"]\r\n[ECO \"A61\"]\r\n[WhiteElo \"2746\"]\r\n[BlackElo \"2712\"]\r\n[PlyCount \"57\"]\r\n[EventDate \"2011.09.25\"]\r\n[EventType \"team-swiss\"]\r\n[EventRounds \"7\"]\r\n\r\n1. d4 Nf6 2. c4 e6 3. Nf3 c5 4. d5 exd5 5. cxd5 g6 6. Nc3 Bg7 7. Bf4 d6 8. Qa4+\r\nBd7 9. Qb3 b5 10. Bxd6 Qb6 11. Be5 O-O 12. e3 c4 13. Qd1 Na6 14. a4 Nb4 15.\r\naxb5 Bf5 16. Bxc4 Rfc8 17. b3 Ng4 18. Bxg7 Nc2+ 19. Qxc2 Bxc2 20. Bd4 Qd8 21.\r\nO-O Qe7 22. Rfc1 Bf5 23. e4 Bd7 24. h3 Nf6 25. d6 Qd8 26. e5 Nh5 27. Nd5 Kf8\r\n28. Be3 Ng7 29. Bg5 1-0"\,"pieceSymbols":"native"\,"navigationBoard":"above"\,"showFlipButton":true\,"showDownloadButton":true\,"navigationBoardOptions":{"squareSize":32\,"showCoordinates":true\,"colorset":"original"\,"pieceset":"cburnett"\,"animationSpeed":200\,"showMoveArrow":true}\,"diagramOptions":{"squareSize":32\,"showCoordinates":true\,"colorset":"original"\,"pieceset":"cburnett"\,"animationSpeed":200\,"showMoveArrow":true}});\n		});\n	\n\n\n \n\n
URL:https://thechesspedia.net/day/september-27/
CATEGORIES:September
ATTACH;FMTTYPE=image/png:https://thechesspedia.net/wp-content/uploads/2016/07/sept-27.png
END:VEVENT
END:VCALENDAR