
BEGIN:VCALENDAR
VERSION:2.0
PRODID:-//The Chesspedia - ECPv5.1.2.1//NONSGML v1.0//EN
CALSCALE:GREGORIAN
METHOD:PUBLISH
X-WR-CALNAME:The Chesspedia
X-ORIGINAL-URL:https://thechesspedia.net
X-WR-CALDESC:Events for The Chesspedia
BEGIN:VTIMEZONE
TZID:UTC
BEGIN:STANDARD
TZOFFSETFROM:+0000
TZOFFSETTO:+0000
TZNAME:UTC
DTSTART:20160101T000000
END:STANDARD
END:VTIMEZONE
BEGIN:VEVENT
DTSTART;VALUE=DATE:20160924
DTEND;VALUE=DATE:20160925
DTSTAMP:20260423T095911
CREATED:20160924T084536Z
LAST-MODIFIED:20161103T063331Z
UID:19720-1474675200-1474761599@thechesspedia.net
SUMMARY:September 24
DESCRIPTION:QUOTE OF THE DAY \nI think I would beat Tal pretty easily. Fischer would be more difficult\, but I think I could beat him too.- Magnus Carlsen\nBIRTHS \nAntonia Ivanova (1931-25.05.2004)\, Bulgarian Woman Grandmaster who won 6 Bulgarian Women championships.\nAnatoly Machulsky (1956)\, Russian Grandmaster who made a fortune after creating a betting company.\nJohn Donaldson (1958)\, American International Master who was the coach of the US team which won the gold at the 2016 Olympiad.\nRaj Tischbierek (1962)\, German Grandmaster and journalist who was twice the East German champion.\nLars Bo Hansen (1968) Danish Grandmaster who won two national titles. \nDEATHS \nRosendo Balinas (10.09.1941-1998)\, Filipino Grandmaster\, lawyer\, a chess writer and journalist. He was considered as the strongest Asian player during the 1960s and early 1970s\,\nKonstantin Lerner (28.02.1950-2011)\, Israeli Grandmaster born in Ukraine. Ukrainian Champion and USSR vice-Champion in 1986. \nCHESS EVENTS \n1911. Czechoslovakia\, one of the largest round robin tournament in the chess history organized at Carlsbad ended with the victory of R. Teichmann ahead of A. Rubinstein and K. Schlechter. The event attracted 26 contestants who played 325 games. \n1956In Moscow\, once again the Soviet Union proved its superiority and won the 12th Olympiad with 31/44. Yugoslavia finished second after tiebreak.\n2000 IM O. Cherikov from Russia won the World Senior Championship. Ms. Fatalibekova from Russia won the Women’s World Senior Championship. \nWORLD EVENTS \n1664 The Dutch Republic surrenders New Amsterdam to England.\n1830 Belgian Revolution: A revolutionary committee of notables forms the Provisional Government of Belgium.\n1852 The first airship powered by (a steam) engine\, created by Henri Giffard\, travels 17 miles (27 km) from Paris to Trappes.\n1911 His Majesty’s Airship No. 1\, Britain’s first rigid airship\, is wrecked by strong winds before her maiden flight at Barrow-in-Furness.\n1948 The Honda Motor Company is founded.\n1960 USS Enterprise\, the world’s first nuclear-powered aircraft carrier\, is launched.\n1968 Swaziland joins the United Nations.\n1973 Guinea-Bissau declares its independence from Portugal.\n1975 Dougal Haston and Doug Scott on the Southwest Face expedition become the first people to reach the summit of Mount Everest by any of its faces.\n1979 CompuServe launches the first consumer internet service\, which features the first public electronic mail service.\n1993 The Cambodian monarchy is restored\, with Norodom Sihanouk as king. \n(Source Wikipedia) \nTHE GAME OF THE DAY \n\n\n \n\n\n	\n				[Event "EU-Cup 16th"]\n[Site "Neum"]\n[Date "2000.09.30"]\n[Round "7.2"]\n[White "Svidler\, Peter"]\n[Black "Adams\, Michael"]\n[Result "1-0"]\n[ECO "C78"]\n[WhiteElo "2689"]\n[BlackElo "2755"]\n[PlyCount "67"]\n[EventDate "2000.09.24"]\n[EventType "team"]\n[EventRounds "7"]\n[EventCountry "BIH"]\n\n1. e4 e5 2. Nf3 Nc6 3. Bb5 a6 4. Ba4 Nf6 5. O-O Bc5 6. c3 b5 7. Bc2 d6 8. a4\nBg4 9. d3 O-O 10. h3 Bh5 11. Nbd2 b4 12. a5 Rb8 13. Qe2 bxc3 14. bxc3 d5 15. d4\nexd4 16. Qxa6 dxc3 17. Qxc6 cxd2 18. Nxd2 Bd4 19. Ra4 dxe4 20. Nxe4 Nxe4 21.\nBxe4 Be2 22. Bxh7+ Kh8 23. Bc2 Re8 24. Re1 Re6 25. Qxe6 fxe6 26. Rxe2 e5 27. a6\nQd7 28. a7 Ra8 29. Rxe5 g6 30. Re4 c5 31. Ra6 Rxa7 32. Rxg6 Bg7 33. Bb2 Qb5 34.\nBc3 1-0\n				\n			You must activate JavaScript to enhance chess game visualization.		\n	\n	\n	\n		jQuery(document).ready(function($) {\n						$.chessgame.navigationButtonClass  = 'rpbchessboard-jQuery-enableSmoothness';\n			$.chessgame.navigationFrameClass   = 'wp-dialog';\n			$.chessgame.navigationFrameOptions = {"squareSize":32\,"showCoordinates":true\,"colorset":"original"\,"pieceset":"cburnett"\,"animationSpeed":200\,"showMoveArrow":true};\n			var selector = '#' + "rpbchessboard-69e9ed6f3fc32-1" + ' .rpbchessboard-chessgameAnchor';\n			$(selector).removeClass('rpbchessboard-chessgameAnchor').chessgame({"pgn":"[Event \"EU-Cup 16th\"]\r\n[Site \"Neum\"]\r\n[Date \"2000.09.30\"]\r\n[Round \"7.2\"]\r\n[White \"Svidler\, Peter\"]\r\n[Black \"Adams\, Michael\"]\r\n[Result \"1-0\"]\r\n[ECO \"C78\"]\r\n[WhiteElo \"2689\"]\r\n[BlackElo \"2755\"]\r\n[PlyCount \"67\"]\r\n[EventDate \"2000.09.24\"]\r\n[EventType \"team\"]\r\n[EventRounds \"7\"]\r\n[EventCountry \"BIH\"]\r\n\r\n1. e4 e5 2. Nf3 Nc6 3. Bb5 a6 4. Ba4 Nf6 5. O-O Bc5 6. c3 b5 7. Bc2 d6 8. a4\r\nBg4 9. d3 O-O 10. h3 Bh5 11. Nbd2 b4 12. a5 Rb8 13. Qe2 bxc3 14. bxc3 d5 15. d4\r\nexd4 16. Qxa6 dxc3 17. Qxc6 cxd2 18. Nxd2 Bd4 19. Ra4 dxe4 20. Nxe4 Nxe4 21.\r\nBxe4 Be2 22. Bxh7+ Kh8 23. Bc2 Re8 24. Re1 Re6 25. Qxe6 fxe6 26. Rxe2 e5 27. a6\r\nQd7 28. a7 Ra8 29. Rxe5 g6 30. Re4 c5 31. Ra6 Rxa7 32. Rxg6 Bg7 33. Bb2 Qb5 34.\r\nBc3 1-0"\,"pieceSymbols":"native"\,"navigationBoard":"above"\,"showFlipButton":true\,"showDownloadButton":true\,"navigationBoardOptions":{"squareSize":32\,"showCoordinates":true\,"colorset":"original"\,"pieceset":"cburnett"\,"animationSpeed":200\,"showMoveArrow":true}\,"diagramOptions":{"squareSize":32\,"showCoordinates":true\,"colorset":"original"\,"pieceset":"cburnett"\,"animationSpeed":200\,"showMoveArrow":true}});\n		});\n	\n\n\n \n\n
URL:https://thechesspedia.net/day/september-24/
CATEGORIES:September
ATTACH;FMTTYPE=image/png:https://thechesspedia.net/wp-content/uploads/2016/07/sept-24.png
END:VEVENT
END:VCALENDAR