
BEGIN:VCALENDAR
VERSION:2.0
PRODID:-//The Chesspedia - ECPv5.1.2.1//NONSGML v1.0//EN
CALSCALE:GREGORIAN
METHOD:PUBLISH
X-WR-CALNAME:The Chesspedia
X-ORIGINAL-URL:https://thechesspedia.net
X-WR-CALDESC:Events for The Chesspedia
BEGIN:VTIMEZONE
TZID:UTC
BEGIN:STANDARD
TZOFFSETFROM:+0000
TZOFFSETTO:+0000
TZNAME:UTC
DTSTART:20160101T000000
END:STANDARD
END:VTIMEZONE
BEGIN:VEVENT
DTSTART;VALUE=DATE:20160917
DTEND;VALUE=DATE:20160918
DTSTAMP:20260425T111851
CREATED:20160712T082530Z
LAST-MODIFIED:20161103T062706Z
UID:19699-1474070400-1474156799@thechesspedia.net
SUMMARY:September 17
DESCRIPTION:QUOTE OF THE DAY \nI have often written that Karpov is like an iceberg. Well\, Kasparov was the Titanic.- Alexander Roshal\n
URL:https://thechesspedia.net/day/september-17/
CATEGORIES:September
ATTACH;FMTTYPE=image/png:https://thechesspedia.net/wp-content/uploads/2016/07/sept-17.png
END:VEVENT
END:VCALENDAR