
BEGIN:VCALENDAR
VERSION:2.0
PRODID:-//The Chesspedia - ECPv5.1.2.1//NONSGML v1.0//EN
CALSCALE:GREGORIAN
METHOD:PUBLISH
X-WR-CALNAME:The Chesspedia
X-ORIGINAL-URL:https://thechesspedia.net
X-WR-CALDESC:Events for The Chesspedia
BEGIN:VTIMEZONE
TZID:UTC
BEGIN:STANDARD
TZOFFSETFROM:+0000
TZOFFSETTO:+0000
TZNAME:UTC
DTSTART:20160101T000000
END:STANDARD
END:VTIMEZONE
BEGIN:VEVENT
DTSTART;VALUE=DATE:20160916
DTEND;VALUE=DATE:20160917
DTSTAMP:20260421T233241
CREATED:20160916T082322Z
LAST-MODIFIED:20161103T061857Z
UID:19698-1473984000-1474070399@thechesspedia.net
SUMMARY:September 16
DESCRIPTION:QUOTE OF THE DAY \nWhat am I doing in this pool of piranhas?- Nigel Short\, 2017\nPaul Rudolf von Bilguer (21.09.1815-1840)\, German Master  theoretician.\nHugo Rohr (1865-09-12-1937) German composer who was  specialized in selfmates. He composed more than 1300 problems.\nJoseph Jean Opdenoordt 1892-04.04.1966)\, Dutch chess composer.\nHans Bouwmeester (1929)\, Dutch International Master and GMC.\nVerica Nedeljkovic (1927\, born Jovanovic)\, Serbian Women Grandmaster who won the Yugoslav Women’s championship on six occasions\nMark Carl Diesen US International Master (1957-09.12.2008)\, was a World Junior Chess Champion in 1976\, the US Junior Co-Champion.\nIgor Efimov (1960) Monegasque Grandmaster born in Georgia who won two Italian championships and few Monaco championships.\nBerge Ostenstad (1964)\, Norwegian Grandmaster who was seven times national champion.\nDirk Poldauf (1965)\, German International Master.\nElena Zayac (1969)\, Russian International Master and Woman Grandmaster who was  Women’s Champion in 1988.\nEldar Gasanov (1982)\, Ukrainian Grandmaster who was the Ukrainian U20 Champion in 2002.\nLiubov Kostiukova (1983)\, Ukrainian International Master and Woman Grandmaster.\nKatarzyna Toma\, (1985)\, Polish Woman Grandmaster.\nGunay Mammadzada\, (2000)\, Azeri Woman Grandmaster. \nCHESS EVENTS \n1927 The World Championship match opened in Buenos Aires between José Raul Capablanca of Cuba and Alexander Alekhine of France.\n1939 The FIDE GA adopted unanimously the following declaration: “The World Champion’s title is not owned by a World Champion. FIDE as the highest world chess organizer must set up regulations for the event and must deliver the title”.\n\nWORLD EVENTS\n1810 – With the Grito de Dolores\, Father Miguel Hidalgo begins Mexico’s fight for independence from Spain.\n1908 The General Motors Corporation is founded.\n1955 The military coup to unseat President Juan Perón of Argentina is launched at midnight.\n1955 A Soviet Navy Zulu-class submarine becomes the first to launch a ballistic missile.\n1963 Malaysia is formed from the Federation of Malaya\, Singapore\, North Borneo (Sabah) and Sarawak. However\, Singapore soon leaves this new country.\n1975 Papua New Guinea gains independence from Australia.\n1975 Cape Verde\, Mozambique\, and São Tomé and Príncipe join the United Nations.\n1980 Saint Vincent and the Grenadines join the United Nations.\n1982 Lebanon War: The Sabra and Shatila massacre in Lebanon takes place.\n1992 The trial of the deposed Panamanian dictator Manuel Noriega ends in the United States with a 40-year sentence for drug trafficking and money laundering. \n(Source: Wikipedia) \nGAME OF THE DAY \n\n\n \n\n\n	\n				[Event "Candidates Tournament"]\n[Site "Zuerich"]\n[Date "1953.09.16"]\n[Round "11"]\n[White "Keres\, Paul"]\n[Black "Reshevsky\, Samuel Herman"]\n[Result "1/2-1/2"]\n[ECO "E28"]\n[PlyCount "81"]\n[EventDate "1953.08.30"]\n[EventType "tourn"]\n[EventRounds "30"]\n[EventCountry "SUI"]\n[SourceTitle "Candidates"]\n1. d4 Nf6 2. c4 e6 3. Nc3 Bb4 4. e3 c5 5. Bd3 O-O 6. a3 Bxc3+ 7. bxc3 b6 8. e4\nBb7 9. Bg5 h6 10. h4 d6 11. e5 dxe5 12. dxe5 Be4 13. Rh3 Bxd3 14. Rxd3 Qc7 15.\nBxf6 gxf6 16. Qg4+ Kh8 17. Qf3 Nd7 18. O-O-O Nxe5 19. Qxf6+ Kh7 20. Rd6 Nxc4\n21. Nf3 Nxd6 22. Ng5+ Kg8 23. Qxh6 f6 24. Nxe6 Qe7 25. Rxd6 Rf7 26. Qd2 Re8 27.\nf4 f5 28. Qd5 Kh8 29. Qe5+ Qf6 30. Kc2 c4 31. Kd2 Kg8 32. Qd5 Qxh4 33. Qxc4\nQf2+ 34. Kc1 Qg1+ 35. Kc2 Qxg2+ 36. Kb3 b5 37. Qd4 Qf1 38. Kb4 Qc4+ 39. Qxc4\nbxc4 40. Kxc4 Rc8+ 41. Kb5 1/2-1/2\n				\n			You must activate JavaScript to enhance chess game visualization.		\n	\n	\n	\n		jQuery(document).ready(function($) {\n						$.chessgame.navigationButtonClass  = 'rpbchessboard-jQuery-enableSmoothness';\n			$.chessgame.navigationFrameClass   = 'wp-dialog';\n			$.chessgame.navigationFrameOptions = {"squareSize":32\,"showCoordinates":true\,"colorset":"original"\,"pieceset":"cburnett"\,"animationSpeed":200\,"showMoveArrow":true};\n			var selector = '#' + "rpbchessboard-69e8091954de7-1" + ' .rpbchessboard-chessgameAnchor';\n			$(selector).removeClass('rpbchessboard-chessgameAnchor').chessgame({"pgn":"[Event \"Candidates Tournament\"]\r\n[Site \"Zuerich\"]\r\n[Date \"1953.09.16\"]\r\n[Round \"11\"]\r\n[White \"Keres\, Paul\"]\r\n[Black \"Reshevsky\, Samuel Herman\"]\r\n[Result \"1\/2-1\/2\"]\r\n[ECO \"E28\"]\r\n[PlyCount \"81\"]\r\n[EventDate \"1953.08.30\"]\r\n[EventType \"tourn\"]\r\n[EventRounds \"30\"]\r\n[EventCountry \"SUI\"]\r\n[SourceTitle \"Candidates\"]\r\n1. d4 Nf6 2. c4 e6 3. Nc3 Bb4 4. e3 c5 5. Bd3 O-O 6. a3 Bxc3+ 7. bxc3 b6 8. e4\r\nBb7 9. Bg5 h6 10. h4 d6 11. e5 dxe5 12. dxe5 Be4 13. Rh3 Bxd3 14. Rxd3 Qc7 15.\r\nBxf6 gxf6 16. Qg4+ Kh8 17. Qf3 Nd7 18. O-O-O Nxe5 19. Qxf6+ Kh7 20. Rd6 Nxc4\r\n21. Nf3 Nxd6 22. Ng5+ Kg8 23. Qxh6 f6 24. Nxe6 Qe7 25. Rxd6 Rf7 26. Qd2 Re8 27.\r\nf4 f5 28. Qd5 Kh8 29. Qe5+ Qf6 30. Kc2 c4 31. Kd2 Kg8 32. Qd5 Qxh4 33. Qxc4\r\nQf2+ 34. Kc1 Qg1+ 35. Kc2 Qxg2+ 36. Kb3 b5 37. Qd4 Qf1 38. Kb4 Qc4+ 39. Qxc4\r\nbxc4 40. Kxc4 Rc8+ 41. Kb5 1\/2-1\/2"\,"pieceSymbols":"native"\,"navigationBoard":"above"\,"showFlipButton":true\,"showDownloadButton":true\,"navigationBoardOptions":{"squareSize":32\,"showCoordinates":true\,"colorset":"original"\,"pieceset":"cburnett"\,"animationSpeed":200\,"showMoveArrow":true}\,"diagramOptions":{"squareSize":32\,"showCoordinates":true\,"colorset":"original"\,"pieceset":"cburnett"\,"animationSpeed":200\,"showMoveArrow":true}});\n		});\n	\n\n\n \n\n
URL:https://thechesspedia.net/day/september-16/
CATEGORIES:September
ATTACH;FMTTYPE=image/png:https://thechesspedia.net/wp-content/uploads/2016/09/sept-16.png
END:VEVENT
END:VCALENDAR