
BEGIN:VCALENDAR
VERSION:2.0
PRODID:-//The Chesspedia - ECPv5.1.2.1//NONSGML v1.0//EN
CALSCALE:GREGORIAN
METHOD:PUBLISH
X-WR-CALNAME:The Chesspedia
X-ORIGINAL-URL:https://thechesspedia.net
X-WR-CALDESC:Events for The Chesspedia
BEGIN:VTIMEZONE
TZID:UTC
BEGIN:STANDARD
TZOFFSETFROM:+0000
TZOFFSETTO:+0000
TZNAME:UTC
DTSTART:20160101T000000
END:STANDARD
END:VTIMEZONE
BEGIN:VEVENT
DTSTART;VALUE=DATE:20160915
DTEND;VALUE=DATE:20160916
DTSTAMP:20260425T112232
CREATED:20160915T082046Z
LAST-MODIFIED:20161103T061850Z
UID:19694-1473897600-1473983999@thechesspedia.net
SUMMARY:September 15
DESCRIPTION:QUOTE OF THE DAY \nFischer wanted to prove that all world championship games after his victory were prearranged. He did not convince me.- Vishy Anand\, 2008\nBIRTHS \nJan Kleczynski (1895-08.06.1937)\, Polish pianist\, composer\, journalist\, and Master.\nHans Ree (1944)\, Dutch Grandmaster and chess journalist. He shared two titles of European Junior Champion and won four titles of Dutch Champion.\nMarton Krajcsovits (1937-2006)\, Hungarian amateur who was working many years for the Hungarian chess federation.\nMichalik\, Peter (1990)\, Czech Grandmaster. \nDEATHS \nEugene Chatard (1850-1924)\, French player known for giving his name to a variation of the French defence: the Alekhine-Chatard Attack. He was the first who compiled thousand of endgame-studies\, analyzed tons of endgame-position.\nVictor Goglidze (27.11.1905-1964)\, was a strong Georgian International Master. \nCHESS EVENTS \n1994 Gretarsson (ISL) and Zhu Chen (CHN) won the World Junior Championships for Boys and Girls in Matinhos\, Brazil.\n2000 Viswanathan Anand (IND) and Xu Yuhua (CHN) were the winners of the 1st World Cup organized in Shenyang\, China.\n2000 Garry Kasparov\, Vladimir Kramnik and Anatoly Karpov decided not to participate at the next World Championship. \nWORLD EVENTS \n668 Eastern Roman Emperor Constans II is assassinated in his bath at Syracuse\, Italy.\n1821 Guatemala\, El Salvador\, Honduras\, Nicaragua\, and Costa Rica jointly declare independence from Spain.\n1916 World War I: Tanks are used for the first time in battle\, at the Battle of the Somme.\n1935 Nazi Germany adopts a new national flag bearing the swastika.\n1947 Typhoon Kathleen hit the Kanto Region in Japan killing 1\,077.\n1950 Korean War: United States forces land at Inchon.\n1959 Nikita Khrushchev becomes the first Soviet leader to visit the United States.\n1971 The first Greenpeace ship sets sail to protest against nuclear testing on Amchitka Island.\n1978 Muhammad Ali outpointed Leon Spinks in a rematch to become the first boxer to win the world heavyweight title three times at theSuperdome in New Orleans.\n1981 Vanuatu becomes a member of the United Nations.\n2008 Lehman Brothers files for Chapter 11 bankruptcy\, the largest bankruptcy filing in U.S. history. \n(Source: Wikipedia) \nGAME OF THE DAY \n\n\n \n\n\n	\n				[Event "Candidates Tournament"]\n[Site "Bled/Zagreb/Belgrade"]\n[Date "1959.09.15"]\n[Round "6"]\n[White "Tal\, Mihail"]\n[Black "Fischer\, Robert James"]\n[Result "1-0"]\n[ECO "E93"]\n[PlyCount "81"]\n[EventDate "1959.09.07"]\n[EventType "tourn"]\n[EventRounds "28"]\n[EventCountry "CRO"]\n5. Be2 O-O 6. Nf3 e5 7. d5 Nbd7 8. Bg5\nh6 9. Bh4 a6 10. Nd2 Qe8 11. O-O Nh7 12. b4 Ng5 13. f3 f5 14. Bf2 Qe7 15. Rc1\nNf6 16. c5 Bd7 17. Qc2 Nh5 18. b5 fxe4 19. Ndxe4 Nxe4 20. fxe4 Nf4 21. c6 Qg5\n22. Bf3 bxc6 23. dxc6 Bg4 24. Bxg4 Qxg4 25. Be3 axb5 26. Bxf4 exf4 27. Nxb5 Rf7\n28. Qc4 Rc8 29. Rf3 Be5 30. Rcf1 Kg7 31. a4 Ra8 32. Kh1 Qg5 33. g3 Raf8 34.\ngxf4 Bxf4 35. Nd4 Qh4 36. Rxf4 Rxf4 37. Ne6+ Kh8 38. Qd4+ R8f6 39. Nxf4 Kh7 40.\ne5 dxe5 41. Qd7+ 1-0\n				\n			You must activate JavaScript to enhance chess game visualization.		\n	\n	\n	\n		jQuery(document).ready(function($) {\n						$.chessgame.navigationButtonClass  = 'rpbchessboard-jQuery-enableSmoothness';\n			$.chessgame.navigationFrameClass   = 'wp-dialog';\n			$.chessgame.navigationFrameOptions = {"squareSize":32\,"showCoordinates":true\,"colorset":"original"\,"pieceset":"cburnett"\,"animationSpeed":200\,"showMoveArrow":true};\n			var selector = '#' + "rpbchessboard-69eca3f81fce3-1" + ' .rpbchessboard-chessgameAnchor';\n			$(selector).removeClass('rpbchessboard-chessgameAnchor').chessgame({"pgn":"[Event \"Candidates Tournament\"]\r\n[Site \"Bled\/Zagreb\/Belgrade\"]\r\n[Date \"1959.09.15\"]\r\n[Round \"6\"]\r\n[White \"Tal\, Mihail\"]\r\n[Black \"Fischer\, Robert James\"]\r\n[Result \"1-0\"]\r\n[ECO \"E93\"]\r\n[PlyCount \"81\"]\r\n[EventDate \"1959.09.07\"]\r\n[EventType \"tourn\"]\r\n[EventRounds \"28\"]\r\n[EventCountry \"CRO\"]\r\n5. Be2 O-O 6. Nf3 e5 7. d5 Nbd7 8. Bg5\r\nh6 9. Bh4 a6 10. Nd2 Qe8 11. O-O Nh7 12. b4 Ng5 13. f3 f5 14. Bf2 Qe7 15. Rc1\r\nNf6 16. c5 Bd7 17. Qc2 Nh5 18. b5 fxe4 19. Ndxe4 Nxe4 20. fxe4 Nf4 21. c6 Qg5\r\n22. Bf3 bxc6 23. dxc6 Bg4 24. Bxg4 Qxg4 25. Be3 axb5 26. Bxf4 exf4 27. Nxb5 Rf7\r\n28. Qc4 Rc8 29. Rf3 Be5 30. Rcf1 Kg7 31. a4 Ra8 32. Kh1 Qg5 33. g3 Raf8 34.\r\ngxf4 Bxf4 35. Nd4 Qh4 36. Rxf4 Rxf4 37. Ne6+ Kh8 38. Qd4+ R8f6 39. Nxf4 Kh7 40.\r\ne5 dxe5 41. Qd7+ 1-0"\,"pieceSymbols":"native"\,"navigationBoard":"above"\,"showFlipButton":true\,"showDownloadButton":true\,"navigationBoardOptions":{"squareSize":32\,"showCoordinates":true\,"colorset":"original"\,"pieceset":"cburnett"\,"animationSpeed":200\,"showMoveArrow":true}\,"diagramOptions":{"squareSize":32\,"showCoordinates":true\,"colorset":"original"\,"pieceset":"cburnett"\,"animationSpeed":200\,"showMoveArrow":true}});\n		});\n	\n\n\n \n\n
URL:https://thechesspedia.net/day/september-15/
CATEGORIES:September
ATTACH;FMTTYPE=image/png:https://thechesspedia.net/wp-content/uploads/2016/09/sept-15.png
END:VEVENT
END:VCALENDAR