
BEGIN:VCALENDAR
VERSION:2.0
PRODID:-//The Chesspedia - ECPv5.1.2.1//NONSGML v1.0//EN
CALSCALE:GREGORIAN
METHOD:PUBLISH
X-WR-CALNAME:The Chesspedia
X-ORIGINAL-URL:https://thechesspedia.net
X-WR-CALDESC:Events for The Chesspedia
BEGIN:VTIMEZONE
TZID:UTC
BEGIN:STANDARD
TZOFFSETFROM:+0000
TZOFFSETTO:+0000
TZNAME:UTC
DTSTART:20160101T000000
END:STANDARD
END:VTIMEZONE
BEGIN:VEVENT
DTSTART;VALUE=DATE:20160914
DTEND;VALUE=DATE:20160915
DTSTAMP:20260422T021038
CREATED:20160712T081737Z
LAST-MODIFIED:20161103T061840Z
UID:19691-1473811200-1473897599@thechesspedia.net
SUMMARY:September 14
DESCRIPTION:QUOTE OF THE DAY \nFor goodness’ sake\, how could Kasparov\, after all his matches against Karpov\, support him in the FIDE President elections? What sort of unprincipled person do you have to be? I would never understand that.- Viktor Korchnoi\, 2012\nBIRTHS \nPatrick Thomas Duffy (1834-1888) Irish player and chess columnist.\nAndrey Khardin (14.09.1842 – 06.02.1910)\, Russian player and lawyer.\nAdolf Albin (1848-01.02.1920) Romanian Master and author who only learnt the game in his 20s and did not play in international events until his 40s.\nPierre Biscay (1905-30.07.1969)\, French composer and solutionist. International judge for chess composition.\nVladimir Bron\, Soviet (1909-01.01.1985)\, Russian Grandmaster for chess composition.\nAlberto Armeni (1944)\, Italian player and chess composer.\nGrigory Serper (1969)\, American Grandmaster born in Uzbekistan who won the world Open in 1996.\nRuslan Sherbakov (1969) Russian grandmaster\, coach and author.\nMikheil Kekelidze (1974)\, Georgian Grandmaster.\nMarian Petrov (1975)\, Bulgarian Grandmaster who was the Bulgarian Champion in 2002.\nPavel Skatchkov (1979)\, Russian Grandmaster.\nJulio Catalino Sadorra (1986)\, Filipino Grandmaster who drew with M. Carlsen at the 2016 Olympiad.\nChen Lin (1988)\, Chinese Grandmaster. \nDEATHS \nAlexander McDonnell (1798–1835)\, an Irish Master\, who contested a series of six matches with the world’s leading player Louis-Charles Mahé de La Bourdonnais in the summer of 1834.\nJean Taubenhaus  (14.12.1850-1919)\, was a strong Polish–born French Master who was teaching chess at the Cafe de la Régence in Paris.\nGerhard Paul Latzel (28.08.1912-1980)\, German chess composer. \nCHESS EVENTS \n1975 In Italy\, Anatoly Karpov won the super strong category 14 of Milan ahead of Lajos Portisch.\n1992 B. Khatanbaatar was the first Mongolian chess player to win the Asian Junior Championship. \nWORLD EVENTS  \n1741 George Frideric Handel completes his oratorio Messiah\n1752 The British Empire adopts the Gregorian calendar\, skipping eleven days (the previous day was September 2).\n1791 The Papal States lose Avignon to revolutionary France.\n1812 Napoleonic Wars: The French Grande Armée enters Moscow. The Fire of Moscow begins as soon as Russian troops leave the city.\n1901 U.S. President William McKinley dies after an assassination attempt on September 6\, and is succeeded by Vice President Theodore Roosevelt.\n1917 Russia is officially proclaimed a republic.\n1944 World War II: Maastricht becomes the first Dutch city to be liberated by allied forces.\n1960 The Organization of Petroleum Exporting Countries (OPEC) is founded.\n1960 Congo Crisis: With CIA help\, Mobutu Sese Seko seizes power in a military coup.\n1982 President-elect of Lebanon\, Bachir Gemayel\, is assassinated.\n1999 Kiribati\, Nauru and Tonga join the United Nations.\n2000 Microsoft releases Windows ME.\n2003 In a referendum\, Estonia approves joining the European Union. \n(Source: Wikipedia) \nGAME OF THE DAY \n\n\n \n\n\n	\n				[Event "Karlsbad"]\n[Site "Karlsbad"]\n[Date "1907.09.14"]\n[Round "19"]\n[White "Olland\, Adolf Georg"]\n[Black "Wolf\, Heinrich"]\n[Result "1-0"]\n[ECO "B12"]\n[PlyCount "97"]\n[EventDate "1907.08.20"]\n[EventType "tourn"]\n[EventRounds "20"]\n1. e4 c6 2. d4 d5 3. Bd3 dxe4 4. Bxe4 Nf6 5. Bf3 g6 6. Nc3 Bg7 7. Bf4 Nbd7 8.\nQd2 Nb6 9. O-O-O Nfd5 10. Nxd5 cxd5 11. Qa5 Bd7 12. Ne2 Bc6 13. Nc3 Qd7 14.\nRhe1 O-O 15. b3 e6 16. h4 Nc8 17. Ne2 Nd6 18. g4 h6 19. Qd2 Kh7 20. Ng3 a5 21.\ng5 h5 22. Bxh5 gxh5 23. Bxd6 Qxd6 24. Qd3+ Kh8 25. Nxh5 Qa3+ 26. Kb1 a4 27. Rd2\nRg8 28. f4 axb3 29. cxb3 Qb4 30. Re5 Bxe5 31. fxe5 Rg6 32. Nf6 Bb5 33. Qc2 Qf8\n34. Rg2 Rc8 35. Qd1 Rxf6 36. gxf6 Qh6 37. Rg5 Rc3 38. Kb2 Rd3 39. Qc1 Bc6 40.\nRg8+ Kxg8 41. Qxh6 Rg3 42. Qf4 Rg2+ 43. Kc3 Kh7 44. Kb4 Kg8 45. Kc5 Kf8 46. Kd6\nKe8 47. Qh6 Rg8 48. Qd2 Kf8 49. Qa5 1-0\n				\n			You must activate JavaScript to enhance chess game visualization.		\n	\n	\n	\n		jQuery(document).ready(function($) {\n						$.chessgame.navigationButtonClass  = 'rpbchessboard-jQuery-enableSmoothness';\n			$.chessgame.navigationFrameClass   = 'wp-dialog';\n			$.chessgame.navigationFrameOptions = {"squareSize":32\,"showCoordinates":true\,"colorset":"original"\,"pieceset":"cburnett"\,"animationSpeed":200\,"showMoveArrow":true};\n			var selector = '#' + "rpbchessboard-69e82e1e12ed4-1" + ' .rpbchessboard-chessgameAnchor';\n			$(selector).removeClass('rpbchessboard-chessgameAnchor').chessgame({"pgn":"[Event \"Karlsbad\"]\r\n[Site \"Karlsbad\"]\r\n[Date \"1907.09.14\"]\r\n[Round \"19\"]\r\n[White \"Olland\, Adolf Georg\"]\r\n[Black \"Wolf\, Heinrich\"]\r\n[Result \"1-0\"]\r\n[ECO \"B12\"]\r\n[PlyCount \"97\"]\r\n[EventDate \"1907.08.20\"]\r\n[EventType \"tourn\"]\r\n[EventRounds \"20\"]\r\n1. e4 c6 2. d4 d5 3. Bd3 dxe4 4. Bxe4 Nf6 5. Bf3 g6 6. Nc3 Bg7 7. Bf4 Nbd7 8.\r\nQd2 Nb6 9. O-O-O Nfd5 10. Nxd5 cxd5 11. Qa5 Bd7 12. Ne2 Bc6 13. Nc3 Qd7 14.\r\nRhe1 O-O 15. b3 e6 16. h4 Nc8 17. Ne2 Nd6 18. g4 h6 19. Qd2 Kh7 20. Ng3 a5 21.\r\ng5 h5 22. Bxh5 gxh5 23. Bxd6 Qxd6 24. Qd3+ Kh8 25. Nxh5 Qa3+ 26. Kb1 a4 27. Rd2\r\nRg8 28. f4 axb3 29. cxb3 Qb4 30. Re5 Bxe5 31. fxe5 Rg6 32. Nf6 Bb5 33. Qc2 Qf8\r\n34. Rg2 Rc8 35. Qd1 Rxf6 36. gxf6 Qh6 37. Rg5 Rc3 38. Kb2 Rd3 39. Qc1 Bc6 40.\r\nRg8+ Kxg8 41. Qxh6 Rg3 42. Qf4 Rg2+ 43. Kc3 Kh7 44. Kb4 Kg8 45. Kc5 Kf8 46. Kd6\r\nKe8 47. Qh6 Rg8 48. Qd2 Kf8 49. Qa5 1-0"\,"pieceSymbols":"native"\,"navigationBoard":"above"\,"showFlipButton":true\,"showDownloadButton":true\,"navigationBoardOptions":{"squareSize":32\,"showCoordinates":true\,"colorset":"original"\,"pieceset":"cburnett"\,"animationSpeed":200\,"showMoveArrow":true}\,"diagramOptions":{"squareSize":32\,"showCoordinates":true\,"colorset":"original"\,"pieceset":"cburnett"\,"animationSpeed":200\,"showMoveArrow":true}});\n		});\n	\n\n\n \n\n  \n
URL:https://thechesspedia.net/day/september-14/
CATEGORIES:September
ATTACH;FMTTYPE=image/png:https://thechesspedia.net/wp-content/uploads/2016/09/sept-14.png
END:VEVENT
END:VCALENDAR