
BEGIN:VCALENDAR
VERSION:2.0
PRODID:-//The Chesspedia - ECPv5.1.2.1//NONSGML v1.0//EN
CALSCALE:GREGORIAN
METHOD:PUBLISH
X-WR-CALNAME:The Chesspedia
X-ORIGINAL-URL:https://thechesspedia.net
X-WR-CALDESC:Events for The Chesspedia
BEGIN:VTIMEZONE
TZID:UTC
BEGIN:STANDARD
TZOFFSETFROM:+0000
TZOFFSETTO:+0000
TZNAME:UTC
DTSTART:20160101T000000
END:STANDARD
END:VTIMEZONE
BEGIN:VEVENT
DTSTART;VALUE=DATE:20160912
DTEND;VALUE=DATE:20160913
DTSTAMP:20260422T003831
CREATED:20160912T081306Z
LAST-MODIFIED:20161103T061359Z
UID:19686-1473638400-1473724799@thechesspedia.net
SUMMARY:September 12
DESCRIPTION:QUOTE OF THE DAY \nAs chess players\, Kasparov and Karpov have exhausted themselves\, the people began to forget them and they are trying to attract attention with their inadequate statements.- Kirsan Ilyumzhinov\, 2010\nBIRTHS \nPierre Charles Saint Amant (1800-29.10.1872)\, one of the best French chess players of the middle of the 19th century. Renewed the edition of the magazine Le Palamede in 1842 and run until the end of 1847.\nEugene Delmar (1841-22.02. 1909)\, one of the leading US Masters of the 19th century and the four-time New York State champion.\nArvid Kubbel 1889-11.01.1938)\, Russian chess player and composer of chess problems and endgame studies.\nGustaf Nyholm (27.01.1888-1957)\,  Swedish Master who was the first Swedish Champion and a Nordic Champion.\nConstantin Ionescu (1958)\, Romanian Grandmaster who was Romanian Champion in 1999.\nAlexander Shabalov (1967)\, American Grandmaster who was a four-time winner of the United States Chess Championship born in Latvia.\nAbbasifar\, Hasan (1972); Iranian Grandmaster and FIDE Trainer.\nAndre Cheron (1895 12.09.1980)\, French player and composer of over 300 studies. He won the France championship in 1926–27–29.\nBojan Vuckovic (1980)\, Serbian Grandmandmaster and  International Solving Grandmaster.\nSheikh Sultan bin Khalifa El Nehyan (1982). UAE chess philanthropist who is the President of Asian Chess Association since 2010.\nAlexander Riazantsev (1985)\, Russian Grandmaster and national coach.\nAnna S Corke (1990)\, English Women Grandmaster born in Hongkong who won the HK championship 4 times. In 2014 she left chess to started a Ph.D. program in Slavic Languages and Literatures at Yale University. \nDEATHS \nFrancis Lee (1857-1909) British Master and writer.\nJanos Balogh(10.09.1892-1980)\, Hungarian–Romanian International Master of Correspondence. \nCHESS EVENTS \n1958 Mikhail Tal of USSR won the 4th Interzonal Tournament in Portoroz\, Slovenia with 13.5/21. The fifteen-year-old American Bobby Fischer made his debut on the international scene making his last norm before to be awarded the title of Grandmaster.\n1991 The team of the USSR won the World U-26 Team Championship in Maringa\, Brazil with 33 points.\n2007 In Teheran\, Iran\, Tania Sachdev of India became the Asian Women’s Champion. \nWORLD EVENTS \n490 BC – Battle of Marathon: The conventionally accepted date for the Battle of Marathon. The Athenians and their Plataean allies\, defeat the first Persian invasion force of Greece.\n1848 Switzerland becomes a Federal state.\n1890 Salisbury\, Rhodesia\, is founded.\n1919 Adolf Hitler joins the German Workers’ Party (later the Nazi Party).\n1923 Southern Rhodesia\, today called Zimbabwe\, is annexed by the United Kingdom.\n1958 Jack Kilby demonstrates the first integrated circuit.\n1962 President John F. Kennedy\, at a speech at Rice University\, reaffirms that the U.S. will put a man on the moon by the end of the decade.\n1974 Emperor Haile Selassie of Ethiopia\, ‘Messiah’ of the Rastafari movement\, is deposed following a military coup by the Derg\, ending a reign of 58 years.\n1980 Military coup in Turkey.\n1990 The two German states and the Four Powers sign the Treaty on the Final Settlement with Respect to Germany in Moscow\, paving the way for German reunification. \n(Source: Wikipedia) \n\n\n \n\n\n	\n				[Event "URS-ch06 sf1"]\n[Site "Odessa"]\n[Date "1929.09.12"]\n[Round "?"]\n[White "Kan\, Ilia Abramovich"]\n[Black "Botvinnik\, Mikhail"]\n[Result "1-0"]\n[ECO "C51"]\n[PlyCount "37"]\n[EventDate "1929.??.??"]\n\n1. e4 e5 2. Nf3 Nc6 3. Bc4 Bc5 4. b4 Bb6 5. a4 a6 6. Nc3 Nf6 7. Nd5 Nxe4 8. O-O\nO-O 9. d3 Nf6 10. Bg5 d6 11. Nd2 Bg4 12. Bxf6 Qc8 13. Nxb6 cxb6 14. f3 Be6 15.\nBh4 Nxb4 16. Be7 Qc5+ 17. Kh1 Rfe8 18. Ne4 Qc6 19. Bxd6 1-0\n				\n			You must activate JavaScript to enhance chess game visualization.		\n	\n	\n	\n		jQuery(document).ready(function($) {\n						$.chessgame.navigationButtonClass  = 'rpbchessboard-jQuery-enableSmoothness';\n			$.chessgame.navigationFrameClass   = 'wp-dialog';\n			$.chessgame.navigationFrameOptions = {"squareSize":32\,"showCoordinates":true\,"colorset":"original"\,"pieceset":"cburnett"\,"animationSpeed":200\,"showMoveArrow":true};\n			var selector = '#' + "rpbchessboard-69e81887e96b4-1" + ' .rpbchessboard-chessgameAnchor';\n			$(selector).removeClass('rpbchessboard-chessgameAnchor').chessgame({"pgn":"[Event \"URS-ch06 sf1\"]\r\n[Site \"Odessa\"]\r\n[Date \"1929.09.12\"]\r\n[Round \"?\"]\r\n[White \"Kan\, Ilia Abramovich\"]\r\n[Black \"Botvinnik\, Mikhail\"]\r\n[Result \"1-0\"]\r\n[ECO \"C51\"]\r\n[PlyCount \"37\"]\r\n[EventDate \"1929.??.??\"]\r\n\r\n1. e4 e5 2. Nf3 Nc6 3. Bc4 Bc5 4. b4 Bb6 5. a4 a6 6. Nc3 Nf6 7. Nd5 Nxe4 8. O-O\r\nO-O 9. d3 Nf6 10. Bg5 d6 11. Nd2 Bg4 12. Bxf6 Qc8 13. Nxb6 cxb6 14. f3 Be6 15.\r\nBh4 Nxb4 16. Be7 Qc5+ 17. Kh1 Rfe8 18. Ne4 Qc6 19. Bxd6 1-0"\,"pieceSymbols":"native"\,"navigationBoard":"above"\,"showFlipButton":true\,"showDownloadButton":true\,"navigationBoardOptions":{"squareSize":32\,"showCoordinates":true\,"colorset":"original"\,"pieceset":"cburnett"\,"animationSpeed":200\,"showMoveArrow":true}\,"diagramOptions":{"squareSize":32\,"showCoordinates":true\,"colorset":"original"\,"pieceset":"cburnett"\,"animationSpeed":200\,"showMoveArrow":true}});\n		});\n	\n\n\n \n\n
URL:https://thechesspedia.net/day/september-12/
CATEGORIES:September
ATTACH;FMTTYPE=image/png:https://thechesspedia.net/wp-content/uploads/2016/09/sept-12.png
END:VEVENT
END:VCALENDAR