
BEGIN:VCALENDAR
VERSION:2.0
PRODID:-//The Chesspedia - ECPv5.1.2.1//NONSGML v1.0//EN
CALSCALE:GREGORIAN
METHOD:PUBLISH
X-WR-CALNAME:The Chesspedia
X-ORIGINAL-URL:https://thechesspedia.net
X-WR-CALDESC:Events for The Chesspedia
BEGIN:VTIMEZONE
TZID:UTC
BEGIN:STANDARD
TZOFFSETFROM:+0000
TZOFFSETTO:+0000
TZNAME:UTC
DTSTART:20160101T000000
END:STANDARD
END:VTIMEZONE
BEGIN:VEVENT
DTSTART;VALUE=DATE:20160911
DTEND;VALUE=DATE:20160912
DTSTAMP:20260422T003828
CREATED:20160911T081030Z
LAST-MODIFIED:20161103T061221Z
UID:19683-1473552000-1473638399@thechesspedia.net
SUMMARY:September 11
DESCRIPTION:\nQUOTE OF THE DAY \nThank the stars that I have been banned by FIDE so it is very clear I have nothing to do with this mess…- Garry Kasparov\, 2015\nBIRTHS \nJan Willem te Kolste (1874-31.01.1936)\, Dutch Master who won the unofficial Dutch championship in 1907.\nLuis Palau (1896-08.02.1971)\, Argentine International Master who represented his country in the firsts Olympiads.\nWilliam Winter (1898-18.12.1955)\, British Master who won the British championship in 1935 and 1936. Winter has the distinction of being the only British Champion to have served time in prison (for his political activities).\nJulius Perlis (19.01.1880-1913)\, Strong Austrian Master who died from exposure in a mountaineering accident in the Alps.\nEduard Meduna (1950) Czech Grandmaster who won twice the Czech championship.\nArkadi Vul (1953)\, Russian Grandmaster.\nJacob Meister (1955)\, German Grandmaster born in Russia.\nDmitry Gurevich (1956)\, American Grandmaster and coach born in Russia.\nTurjhan Yilmaz (1958) Turkish International Master who won 5 titles of Turkish Champion.\nPredrag Nikolic (1960)\, Bosnian Grandmaster who is living in the Netherlands and became the 2015 World Senior Champion.\nKetino Kachiani-Gersinska (1971)\, German International Master and Woman Grandmaster born in Georgia who won two titles of World Girls Champion in 1989 and 1990.\nTea Lanchava (1974)\, Dutch International Master and Woman Grandmaster born in Georgia. She was the Dutch Woman Champion in 2012. \nDEATHS \nJules Arnous de Riviere  (04.05.1830-1905) French strong player best known for playing many games in Paris with Paul Morphy.\nCarl Carls (16.09.1880-1958). German International Master who represented Germany in few Olympiads. \nCHESS EVENTS \n1928 11.09 From Lausanne\, Switzerland\, Alekhine answered to Bogoljubov: “…By these lines I’m accepting in principle your challenge (the first that I have received since I won the title) and I don’t see any problem with playing this match in 1929. It is clear that the conditions of this match will be set in accordance with the Agreement made in London in 1922\, which both of us signed. So\, the venue of the match and the date of our meeting will depend on your guarantees or those ones from the organizer”. \nWORLD EVENTS \n1565 – Ottoman forces retreat from Malta ending the Great Siege of Malta.\n1609 – Henry Hudson discovers Manhattan Island and the indigenous people living there.\n1789 – Alexander Hamilton is appointed the first United States Secretary of the Treasury.\n1944 – World War II: The Western Allied invasion of Germany begins near the city of Aachen.\n1944 – World War II: RAF bombing raid on Darmstadt and the following firestorm kill 11\,500.\n1945 – Franz Beckenbauer\, German footballer and manager was born.\n1950 – Korean War: President Harry S. Truman approved military operations north of the 38th parallel.\n1973 – A coup in Chile headed by General Augusto Pinochet topples the democratically elected president Salvador Allende. Pinochet exercises dictatorial power until ousted in a referendum in 1988\, staying in power until 1990.\n2001 – Two hijacked aircraft crash into the World Trade Center in New York City\, while a third smashes into The Pentagon in Arlington County\, Virginia\, and a fourth into a field near Shanksville\, Pennsylvania\, in a series of coordinated suicide attacks by 19 members of al-Qaeda. A total of 2\,996 people were killed. \n(Source: Wikipedia) \nGAME OF THE DAY \n\n\n \n\n\n	\n				[Event "Karlsbad"]\n[Site "Karlsbad"]\n[Date "1911.09.11"]\n[Round "16"]\n[White "Spielmann\, Rudolf"]\n[Black "Rubinstein\, Akiba"]\n[Result "1-0"]\n[ECO "C49"]\n[PlyCount "73"]\n[EventDate "1911.08.21"]\n[EventType "tourn"]\n[EventRounds "25"]\n[EventCountry "CZE"]\n1. e4 e5 2. Nf3 Nc6 3. Nc3 Nf6 4. Bb5 Bb4 5. O-O O-O 6. d3 d6 7. Bg5 Bxc3 8.\nbxc3 Qe7 9. Re1 Nd8 10. d4 Ne6 11. Bc1 c6 12. Bf1 Rd8 13. g3 Qc7 14. Nh4 d5 15.\nf4 exf4 16. e5 Ne4 17. gxf4 f5 18. exf6 Nxf6 19. f5 Nf8 20. Qf3 Qf7 21. Bd3 Bd7\n22. Bf4 Re8 23. Be5 c5 24. Kh1 c4 25. Be2 Bc6 26. Qf4 N8d7 27. Bf3 Re7 28. Re2\nRf8 29. Rg1 Qe8 30. Reg2 Rff7 31. Qh6 Kf8 32. Ng6+ hxg6 33. Qh8+ Ng8 34. Bd6\nQd8 35. Rxg6 Ndf6 36. Rxf6 Rxf6 37. Rxg7 1-0\n				\n			You must activate JavaScript to enhance chess game visualization.		\n	\n	\n	\n		jQuery(document).ready(function($) {\n						$.chessgame.navigationButtonClass  = 'rpbchessboard-jQuery-enableSmoothness';\n			$.chessgame.navigationFrameClass   = 'wp-dialog';\n			$.chessgame.navigationFrameOptions = {"squareSize":32\,"showCoordinates":true\,"colorset":"original"\,"pieceset":"cburnett"\,"animationSpeed":200\,"showMoveArrow":true};\n			var selector = '#' + "rpbchessboard-69e81884e48d8-1" + ' .rpbchessboard-chessgameAnchor';\n			$(selector).removeClass('rpbchessboard-chessgameAnchor').chessgame({"pgn":"[Event \"Karlsbad\"]\r\n[Site \"Karlsbad\"]\r\n[Date \"1911.09.11\"]\r\n[Round \"16\"]\r\n[White \"Spielmann\, Rudolf\"]\r\n[Black \"Rubinstein\, Akiba\"]\r\n[Result \"1-0\"]\r\n[ECO \"C49\"]\r\n[PlyCount \"73\"]\r\n[EventDate \"1911.08.21\"]\r\n[EventType \"tourn\"]\r\n[EventRounds \"25\"]\r\n[EventCountry \"CZE\"]\r\n1. e4 e5 2. Nf3 Nc6 3. Nc3 Nf6 4. Bb5 Bb4 5. O-O O-O 6. d3 d6 7. Bg5 Bxc3 8.\r\nbxc3 Qe7 9. Re1 Nd8 10. d4 Ne6 11. Bc1 c6 12. Bf1 Rd8 13. g3 Qc7 14. Nh4 d5 15.\r\nf4 exf4 16. e5 Ne4 17. gxf4 f5 18. exf6 Nxf6 19. f5 Nf8 20. Qf3 Qf7 21. Bd3 Bd7\r\n22. Bf4 Re8 23. Be5 c5 24. Kh1 c4 25. Be2 Bc6 26. Qf4 N8d7 27. Bf3 Re7 28. Re2\r\nRf8 29. Rg1 Qe8 30. Reg2 Rff7 31. Qh6 Kf8 32. Ng6+ hxg6 33. Qh8+ Ng8 34. Bd6\r\nQd8 35. Rxg6 Ndf6 36. Rxf6 Rxf6 37. Rxg7 1-0"\,"pieceSymbols":"native"\,"navigationBoard":"above"\,"showFlipButton":true\,"showDownloadButton":true\,"navigationBoardOptions":{"squareSize":32\,"showCoordinates":true\,"colorset":"original"\,"pieceset":"cburnett"\,"animationSpeed":200\,"showMoveArrow":true}\,"diagramOptions":{"squareSize":32\,"showCoordinates":true\,"colorset":"original"\,"pieceset":"cburnett"\,"animationSpeed":200\,"showMoveArrow":true}});\n		});\n	\n\n\n \n\n
URL:https://thechesspedia.net/day/september-11/
CATEGORIES:September
ATTACH;FMTTYPE=image/png:https://thechesspedia.net/wp-content/uploads/2016/09/sept-11.png
END:VEVENT
END:VCALENDAR