
BEGIN:VCALENDAR
VERSION:2.0
PRODID:-//The Chesspedia - ECPv5.1.2.1//NONSGML v1.0//EN
CALSCALE:GREGORIAN
METHOD:PUBLISH
X-WR-CALNAME:The Chesspedia
X-ORIGINAL-URL:https://thechesspedia.net
X-WR-CALDESC:Events for The Chesspedia
BEGIN:VTIMEZONE
TZID:UTC
BEGIN:STANDARD
TZOFFSETFROM:+0000
TZOFFSETTO:+0000
TZNAME:UTC
DTSTART:20160101T000000
END:STANDARD
END:VTIMEZONE
BEGIN:VEVENT
DTSTART;VALUE=DATE:20161007
DTEND;VALUE=DATE:20161008
DTSTAMP:20260422T010719
CREATED:20161007T045445Z
LAST-MODIFIED:20161103T081752Z
UID:19577-1475798400-1475884799@thechesspedia.net
SUMMARY:October 7
DESCRIPTION:QUOTE OF THE DAY \nA game of chess has three phases: the opening\, where you hope you stand better; the middlegame\, where you think you stand better; and the ending\, where you know you stand to lose.- Savielly Tartakower\nBIRTHS \nJonathan Penrose (1933)\, English Grandmaster\, and International Correspondence Chess Grandmaster (1983) who won the British Chess Championship ten times between 1958 and 1969.\nLoek van Wely (1972)\, Dutch Grandmaster winner of six consecutive Dutch championships.\nAndrey Deviatkin (1980)\, was born\, Russian Grandmaster\, he retired from chess in 2014.\nRobert Markus (1983)\, Serbian Grandmaster who is currently the best Serbian player.\nDaria Charochkina (1990). Russian International Master and Woman Grandmaster. \nDEATH \nKarl Schorn (16.10.1803-1850)\, German painter and chess Master. \nCHESS EVENTS \n1974 The USSR won the Women Olympiad in Medellin Colombia after a tie-breaking match with Romania.\n1990 In New York\, the World Championship Match between G. Kasparov USSR and A. Karpov USSR was opened with G. Gijssen NED as Chief Arbiter.\n1997 A. Kunte IND and IL Ruofan won the Asian Junior Championships for Boys and Girls in Jaipur India. \nWORLD EVENTS \n1826 The Granite Railway begins operations as the first chartered railway in the U.S.\n1840 Willem II becomes King of the Netherlands.\n1879 Germany and Austria-Hungary sign the “Twofold Covenant” and create the Dual Alliance.\n1918 The Regency Council of the Kingdom of Poland declares independence from the German Empire and forms the Republic of Poland.\n1919 KLM\, the flag carrier of the Netherlands\, is founded. It is the oldest airline still operating under its original name.\n1933 Air France is inaugurated\, after being formed by a merger of 5 French airlines.\n1949 The communist German Democratic Republic (East Germany) is formed.\n1950 Mother Teresa build an order called Missionary of Charity\n1959 U.S.S.R. probe Luna 3 transmits the first ever photographs of the far side of the Moon.\n1996 The Fox News Channel begins broadcasting.2001 – The Global War on Terrorism begins as a result of the September 11 attacks. The U.S. invasion of Afghanistan initiates with an air assault and covert operations on the ground. \n(Source: Wikipedia) \nGAME OF THE DAY \n\n\n \n\n\n	\n				[Event "Teplitz Schoenau"]\n[Site "Teplitz Schoenau"]\n[Date "1922.10.07"]\n[Round "6"]\n[White "Reti\, Richard"]\n[Black "Wolf\, Heinrich"]\n[Result "0-1"]\n[ECO "D64"]\n[PlyCount "64"]\n[EventDate "1922.10.02"]\n[EventType "tourn"]\n[EventRounds "13"]\n[EventCountry "CSR"]\n\n1. d4 d5 2. c4 e6 3. Nc3 Nf6 4. Bg5 Be7 5. e3 O-O 6. Nf3 Nbd7 7. Rc1 c6 8. Qc2\na6 9. c5 e5 10. dxe5 Ng4 11. Bxe7 Qxe7 12. Na4 Re8 13. Bd3 h6 14. Nd4 Ndxe5 15.\nNb6 Nxf2 16. Bh7+ Kh8 17. O-O Nfg4 18. Nxa8 Nxe3 19. Qe2 Nxf1 20. Bb1 Nxh2 21.\nNb6 Nef3+ 22. gxf3 Qg5+ 23. Kxh2 Rxe2+ 24. Nxe2 Qe5+ 25. Ng3 Qxb2+ 26. Rc2 Qxb1\n27. Re2 Be6 28. f4 g6 29. Na8 h5 30. Nc7 h4 31. Nh1 Qd3 32. Rf2 Bf5 0-1\n				\n			You must activate JavaScript to enhance chess game visualization.		\n	\n	\n	\n		jQuery(document).ready(function($) {\n						$.chessgame.navigationButtonClass  = 'rpbchessboard-jQuery-enableSmoothness';\n			$.chessgame.navigationFrameClass   = 'wp-dialog';\n			$.chessgame.navigationFrameOptions = {"squareSize":32\,"showCoordinates":true\,"colorset":"original"\,"pieceset":"cburnett"\,"animationSpeed":200\,"showMoveArrow":true};\n			var selector = '#' + "rpbchessboard-69e81f47d63a8-1" + ' .rpbchessboard-chessgameAnchor';\n			$(selector).removeClass('rpbchessboard-chessgameAnchor').chessgame({"pgn":"[Event \"Teplitz Schoenau\"]\r\n[Site \"Teplitz Schoenau\"]\r\n[Date \"1922.10.07\"]\r\n[Round \"6\"]\r\n[White \"Reti\, Richard\"]\r\n[Black \"Wolf\, Heinrich\"]\r\n[Result \"0-1\"]\r\n[ECO \"D64\"]\r\n[PlyCount \"64\"]\r\n[EventDate \"1922.10.02\"]\r\n[EventType \"tourn\"]\r\n[EventRounds \"13\"]\r\n[EventCountry \"CSR\"]\r\n\r\n1. d4 d5 2. c4 e6 3. Nc3 Nf6 4. Bg5 Be7 5. e3 O-O 6. Nf3 Nbd7 7. Rc1 c6 8. Qc2\r\na6 9. c5 e5 10. dxe5 Ng4 11. Bxe7 Qxe7 12. Na4 Re8 13. Bd3 h6 14. Nd4 Ndxe5 15.\r\nNb6 Nxf2 16. Bh7+ Kh8 17. O-O Nfg4 18. Nxa8 Nxe3 19. Qe2 Nxf1 20. Bb1 Nxh2 21.\r\nNb6 Nef3+ 22. gxf3 Qg5+ 23. Kxh2 Rxe2+ 24. Nxe2 Qe5+ 25. Ng3 Qxb2+ 26. Rc2 Qxb1\r\n27. Re2 Be6 28. f4 g6 29. Na8 h5 30. Nc7 h4 31. Nh1 Qd3 32. Rf2 Bf5 0-1"\,"pieceSymbols":"native"\,"navigationBoard":"above"\,"showFlipButton":true\,"showDownloadButton":true\,"navigationBoardOptions":{"squareSize":32\,"showCoordinates":true\,"colorset":"original"\,"pieceset":"cburnett"\,"animationSpeed":200\,"showMoveArrow":true}\,"diagramOptions":{"squareSize":32\,"showCoordinates":true\,"colorset":"original"\,"pieceset":"cburnett"\,"animationSpeed":200\,"showMoveArrow":true}});\n		});\n	\n\n\n \n\n
URL:https://thechesspedia.net/day/october-7/
CATEGORIES:October
ATTACH;FMTTYPE=image/png:https://thechesspedia.net/wp-content/uploads/2016/10/oct-7.png
END:VEVENT
END:VCALENDAR