
BEGIN:VCALENDAR
VERSION:2.0
PRODID:-//The Chesspedia - ECPv5.1.2.1//NONSGML v1.0//EN
CALSCALE:GREGORIAN
METHOD:PUBLISH
X-WR-CALNAME:The Chesspedia
X-ORIGINAL-URL:https://thechesspedia.net
X-WR-CALDESC:Events for The Chesspedia
BEGIN:VTIMEZONE
TZID:UTC
BEGIN:STANDARD
TZOFFSETFROM:+0000
TZOFFSETTO:+0000
TZNAME:UTC
DTSTART:20160101T000000
END:STANDARD
END:VTIMEZONE
BEGIN:VEVENT
DTSTART;VALUE=DATE:20161006
DTEND;VALUE=DATE:20161007
DTSTAMP:20260422T011307
CREATED:20161006T044543Z
LAST-MODIFIED:20161103T081510Z
UID:19570-1475712000-1475798399@thechesspedia.net
SUMMARY:October 6
DESCRIPTION:QUOTE OF THE DAY \nit would have been a debacle if Karjakin had become the 17th World Champion.- Garry Kasparov\, 2016\nBIRTHS \nArthur Mackenzie (1861-23.06.1905)\, Jamaican chess composer.\nCharles Henry Stanley (1819-1901)\, American player who was the first chess champion of the United States.\nGregory Koshnitsky (1907-17.09.1999) Australian Master born in Moldovia who was the Australian Champion in 1933 and 1939.\nYakov Isaevich Neishtadt (1923)\, Russian- Israeli Senior Correspondence Master and author.\nYuri Bazlov (1947)\, Russian chess composer.\nVictor Kahn (1889-1971) French player born in Russia. He represented Russia in 1st unofficial Chess Olympiad at Paris 1924\, and played for France four times.\nChibukhchian\, Artur\, ARM Chibukhchian\, Artur\, ARM 1979\nLevon Aronian (1982)\, Armenian Grandmaster\, in the 2014 FIDE rating list\, he was ranked number two in the world.\nGil Popilski (1993)\, Israeli Grandmaster who was the European U16 champion in 2009.\nNasspasia Ziaziulkina (1995)\, Belarus International Master and Women Grandmaster. \nDEATH \nVictor Kahn (1889-1971) French player born in Russia. He represented Russia in 1st unofficial Chess Olympiad at Paris 1924\, and played for France four times. \nCHESS EVENT \n1983  The FIDE GA admitted the Federations of San Marino and Barbados as full members. \nWORLD EVENTS \n1683 German immigrant families found Germantown in the colony of Pennsylvania\, marking the first major immigration of German people to America.\n1889 American inventor Thomas Edison shows his first motion picture.\n1908 Austria-Hungary annexes Bosnia-Herzegovina\, sparking a crisis.\n1923 The Turkish National Movement enters Constantinople.\n1927 Opening of The Jazz Singer\, the first prominent “talkie” movie.\n1973 Egypt launches a coordinated attack with Syria against Israel leading to the Yom Kippur War.\n1977 The first prototype of the Mikoyan MiG-29\, designated 9-01\, makes its maiden flight.\n1981 Egyptian President Anwar Sadat is murdered by Islamic extremists.1987 – Fiji becomes a republic. \n(Source: Wikipedia) \nGAME OF THE DAY \n\n\n \n\n\n	\n				[Event "20 Board Simul vs Chess Bohemians"]\n[Site "London ENG"]\n[Date "1894.10.06"]\n[EventDate "?"]\n[Round "?"]\n[Result "1-0"]\n[White "Henry Edward Bird"]\n[Black "W S Daniels"]\n[ECO "C57"]\n[WhiteElo "?"]\n[BlackElo "?"]\n[PlyCount "67"]\n\n1.e4 e5 2.Nf3 Nc6 3.Bc4 Nf6 4.Ng5 d5 5.exd5 Nxd5 6.Nxf7 Kxf7\n7.Qf3+ Ke6 8.Nc3 Ne7 9.d4 b5 10.Bb3 c6 11.a4 b4 12.Ne4 Kd7\n13.dxe5 Kc7 14.Nd6 Be6 15.Bg5 h6 16.Bh4 g5 17.Bg3 Nc8 18.Ne4\nBe7 19.O-O-O g4 20.Qe2 Kb7 21.Nd6+ Nxd6 22.exd6 Bg5+ 23.Kb1\nRe8 24.Qd3 Qd7 25.a5 Rab8 26.Rhe1 Bf5 27.a6+ Ka8 28.Qxd5 cxd5\n29.Bxd5+ Rb7 30.Rxe8+ Qxe8 31.axb7+ Kb8 32.d7+ Bf4 33.Bxf4+\nQe5 34.Bxe5# 1-0\n				\n			You must activate JavaScript to enhance chess game visualization.		\n	\n	\n	\n		jQuery(document).ready(function($) {\n						$.chessgame.navigationButtonClass  = 'rpbchessboard-jQuery-enableSmoothness';\n			$.chessgame.navigationFrameClass   = 'wp-dialog';\n			$.chessgame.navigationFrameOptions = {"squareSize":32\,"showCoordinates":true\,"colorset":"original"\,"pieceset":"cburnett"\,"animationSpeed":200\,"showMoveArrow":true};\n			var selector = '#' + "rpbchessboard-69e820a3ef8f6-1" + ' .rpbchessboard-chessgameAnchor';\n			$(selector).removeClass('rpbchessboard-chessgameAnchor').chessgame({"pgn":"[Event \"20 Board Simul vs Chess Bohemians\"]\r\n[Site \"London ENG\"]\r\n[Date \"1894.10.06\"]\r\n[EventDate \"?\"]\r\n[Round \"?\"]\r\n[Result \"1-0\"]\r\n[White \"Henry Edward Bird\"]\r\n[Black \"W S Daniels\"]\r\n[ECO \"C57\"]\r\n[WhiteElo \"?\"]\r\n[BlackElo \"?\"]\r\n[PlyCount \"67\"]\r\n\r\n1.e4 e5 2.Nf3 Nc6 3.Bc4 Nf6 4.Ng5 d5 5.exd5 Nxd5 6.Nxf7 Kxf7\r\n7.Qf3+ Ke6 8.Nc3 Ne7 9.d4 b5 10.Bb3 c6 11.a4 b4 12.Ne4 Kd7\r\n13.dxe5 Kc7 14.Nd6 Be6 15.Bg5 h6 16.Bh4 g5 17.Bg3 Nc8 18.Ne4\r\nBe7 19.O-O-O g4 20.Qe2 Kb7 21.Nd6+ Nxd6 22.exd6 Bg5+ 23.Kb1\r\nRe8 24.Qd3 Qd7 25.a5 Rab8 26.Rhe1 Bf5 27.a6+ Ka8 28.Qxd5 cxd5\r\n29.Bxd5+ Rb7 30.Rxe8+ Qxe8 31.axb7+ Kb8 32.d7+ Bf4 33.Bxf4+\r\nQe5 34.Bxe5# 1-0"\,"pieceSymbols":"native"\,"navigationBoard":"above"\,"showFlipButton":true\,"showDownloadButton":true\,"navigationBoardOptions":{"squareSize":32\,"showCoordinates":true\,"colorset":"original"\,"pieceset":"cburnett"\,"animationSpeed":200\,"showMoveArrow":true}\,"diagramOptions":{"squareSize":32\,"showCoordinates":true\,"colorset":"original"\,"pieceset":"cburnett"\,"animationSpeed":200\,"showMoveArrow":true}});\n		});\n	\n\n\n \n\n
URL:https://thechesspedia.net/day/october-6/
CATEGORIES:October
ATTACH;FMTTYPE=image/png:https://thechesspedia.net/wp-content/uploads/2016/10/oct-6.png
END:VEVENT
END:VCALENDAR