
BEGIN:VCALENDAR
VERSION:2.0
PRODID:-//The Chesspedia - ECPv5.1.2.1//NONSGML v1.0//EN
CALSCALE:GREGORIAN
METHOD:PUBLISH
X-WR-CALNAME:The Chesspedia
X-ORIGINAL-URL:https://thechesspedia.net
X-WR-CALDESC:Events for The Chesspedia
BEGIN:VTIMEZONE
TZID:UTC
BEGIN:STANDARD
TZOFFSETFROM:+0000
TZOFFSETTO:+0000
TZNAME:UTC
DTSTART:20160101T000000
END:STANDARD
END:VTIMEZONE
BEGIN:VEVENT
DTSTART;VALUE=DATE:20161005
DTEND;VALUE=DATE:20161006
DTSTAMP:20260422T023305
CREATED:20161005T045235Z
LAST-MODIFIED:20161103T081454Z
UID:19576-1475625600-1475711999@thechesspedia.net
SUMMARY:October 5
DESCRIPTION:QUOTE OF THE DAY \nThe competition in the men’s tournament has grown massively over the past 20 years. Chess is becoming more and more popular\, and there are no weak teams in the tournament any longer.- Andrey Filatov\nBIRTHS \nAlexander Panchenko (1953-2009)\, Russian Grandmaster\, Honored Coach and the champion of Russia in 1978.\nMiguel Llanes Hurtado (1978)\, Spanish Grandmaster.\nAnna-Maria Botsari (1972)\, Greek Woman Grandmaster who is the strongest female Greek player for nearly two decades.\nLuis Manuel Perez Rodriguez (1978)\, Cuban Grandmaster.\nS. Dhopade Swapnil (1990)\, Indian Grandmaster.\nMurali Karthikeyan (1999)\, Indian Grandmaster who was the Indian Champion 2015 and winner the Under-12 World Chess Championship in 2011 and Under-16 World Chess Championship in 2013. \nDEATH \nMeindert Niemeijer (12.02.1902-1987)\, Dutch chess composer who was one of the biggest world chess book collectors of his time. \nCHESS EVENTS \n1977 Women’s Candidates Semi Final in Sofia\, Chiburdanidze USSR beat Akhmilovskaya USSR 6½-5½.\n1977 Women’s Candidates Semi Final in Berlin\, A. Kushnir ISR beat E. Fatalibikova (USSR) 6½-3½. \nWORLD EVENTS \n1143 King Alfonso VII of León and Castile recognises Portugal as a Kingdom.1793 – French Revolution: Christianity is disestablished in France.\n1864 The Indian city of Calcutta is almost totally destroyed by a cyclone; 60\,000 die.\n1910 In a revolution in Portugal the monarchy is overthrown and a republic is declared.1962 – Dr. No\, the first in the James Bond film series\, is released.\n1927 Sam Warner\, Polish-American director\, producer\, and a screenwriter\, co-founded Warner Bros. died (b. 1887)\n1955 Disneyland Hotel opens to the public in Anaheim\, California.\n1988 The Chilean opposition coalition Concertación (center-left) defeats Augusto Pinochet in his re-election attempt and a general election is called the following year.\n2000 Mass demonstrations in Belgrade lead to the resignation of Serbian strongman Slobodan Milošević. These demonstrations are often called the Bulldozer Revolution.\n2011 Steve Jobs\, American businessman\, co-founder of Apple Inc. and Pixar died (b. 1955) \n(Source: Wikipedia) \nGAME OF THE DAY \n\n\n \n\n\n	\n				[Event "Teplitz Schoenau"]\n[Site "Teplitz Schoenau"]\n[Date "1922.10.05"]\n[Round "4"]\n[White "Maroczy\, Geza"]\n[Black "Tartakower\, Saviely"]\n[Result "0-1"]\n[ECO "A85"]\n[PlyCount "70"]\n[EventDate "1922.10.02"]\n[EventType "tourn"]\n[EventRounds "13"]\n[EventCountry "CSR"]\n[SourceTitle "HCL"]\n\n1. d4 e6 2. c4 f5 3. Nc3 Nf6 4. a3 Be7 5. e3 O-O 6. Bd3 d5 7. Nf3 c6 8. O-O Ne4\n9. Qc2 Bd6 10. b3 Nd7 11. Bb2 Rf6 12. Rfe1 Rh6 13. g3 Qf6 14. Bf1 g5 15. Rad1\ng4 16. Nxe4 fxe4 17. Nd2 Rxh2 18. Kxh2 Qxf2+ 19. Kh1 Nf6 20. Re2 Qxg3 21. Nb1\nNh5 22. Qd2 Bd7 23. Rf2 Qh4+ 24. Kg1 Bg3 25. Bc3 Bxf2+ 26. Qxf2 g3 27. Qg2 Rf8\n28. Be1 Rxf1+ 29. Kxf1 e5 30. Kg1 Bg4 31. Bxg3 Nxg3 32. Re1 Nf5 33. Qf2 Qg5 34.\ndxe5 Bf3+ 35. Kf1 Ng3+ 0-1\n				\n			You must activate JavaScript to enhance chess game visualization.		\n	\n	\n	\n		jQuery(document).ready(function($) {\n						$.chessgame.navigationButtonClass  = 'rpbchessboard-jQuery-enableSmoothness';\n			$.chessgame.navigationFrameClass   = 'wp-dialog';\n			$.chessgame.navigationFrameOptions = {"squareSize":32\,"showCoordinates":true\,"colorset":"original"\,"pieceset":"cburnett"\,"animationSpeed":200\,"showMoveArrow":true};\n			var selector = '#' + "rpbchessboard-69e8336166941-1" + ' .rpbchessboard-chessgameAnchor';\n			$(selector).removeClass('rpbchessboard-chessgameAnchor').chessgame({"pgn":"[Event \"Teplitz Schoenau\"]\r\n[Site \"Teplitz Schoenau\"]\r\n[Date \"1922.10.05\"]\r\n[Round \"4\"]\r\n[White \"Maroczy\, Geza\"]\r\n[Black \"Tartakower\, Saviely\"]\r\n[Result \"0-1\"]\r\n[ECO \"A85\"]\r\n[PlyCount \"70\"]\r\n[EventDate \"1922.10.02\"]\r\n[EventType \"tourn\"]\r\n[EventRounds \"13\"]\r\n[EventCountry \"CSR\"]\r\n[SourceTitle \"HCL\"]\r\n\r\n1. d4 e6 2. c4 f5 3. Nc3 Nf6 4. a3 Be7 5. e3 O-O 6. Bd3 d5 7. Nf3 c6 8. O-O Ne4\r\n9. Qc2 Bd6 10. b3 Nd7 11. Bb2 Rf6 12. Rfe1 Rh6 13. g3 Qf6 14. Bf1 g5 15. Rad1\r\ng4 16. Nxe4 fxe4 17. Nd2 Rxh2 18. Kxh2 Qxf2+ 19. Kh1 Nf6 20. Re2 Qxg3 21. Nb1\r\nNh5 22. Qd2 Bd7 23. Rf2 Qh4+ 24. Kg1 Bg3 25. Bc3 Bxf2+ 26. Qxf2 g3 27. Qg2 Rf8\r\n28. Be1 Rxf1+ 29. Kxf1 e5 30. Kg1 Bg4 31. Bxg3 Nxg3 32. Re1 Nf5 33. Qf2 Qg5 34.\r\ndxe5 Bf3+ 35. Kf1 Ng3+ 0-1"\,"pieceSymbols":"native"\,"navigationBoard":"above"\,"showFlipButton":true\,"showDownloadButton":true\,"navigationBoardOptions":{"squareSize":32\,"showCoordinates":true\,"colorset":"original"\,"pieceset":"cburnett"\,"animationSpeed":200\,"showMoveArrow":true}\,"diagramOptions":{"squareSize":32\,"showCoordinates":true\,"colorset":"original"\,"pieceset":"cburnett"\,"animationSpeed":200\,"showMoveArrow":true}});\n		});\n	\n\n\n \n\n
URL:https://thechesspedia.net/day/october-5/
CATEGORIES:October
ATTACH;FMTTYPE=image/png:https://thechesspedia.net/wp-content/uploads/2016/10/oct-5.png
END:VEVENT
END:VCALENDAR