
BEGIN:VCALENDAR
VERSION:2.0
PRODID:-//The Chesspedia - ECPv5.1.2.1//NONSGML v1.0//EN
CALSCALE:GREGORIAN
METHOD:PUBLISH
X-WR-CALNAME:The Chesspedia
X-ORIGINAL-URL:https://thechesspedia.net
X-WR-CALDESC:Events for The Chesspedia
BEGIN:VTIMEZONE
TZID:UTC
BEGIN:STANDARD
TZOFFSETFROM:+0000
TZOFFSETTO:+0000
TZNAME:UTC
DTSTART:20160101T000000
END:STANDARD
END:VTIMEZONE
BEGIN:VEVENT
DTSTART;VALUE=DATE:20161003
DTEND;VALUE=DATE:20161004
DTSTAMP:20260422T010630
CREATED:20201003T044048Z
LAST-MODIFIED:20200413T101146Z
UID:19563-1475452800-1475539199@thechesspedia.net
SUMMARY:October 3
DESCRIPTION:QUOTE OF THE DAY \nCarlsen is a combination of Karpov and Fischer style.- Garry Kasparov\, 2017\nBIRTHS \nFrancois Le Lionnais was born in Paris\, France. (1901-13.03.1984)\, French chemical engineer\, mathematician\, player and writer.\nCarl Walbrodt (28.11.1871-1902)\, German Master who died from  tuberculosis at the age of 30.\nWalter Jorgensen\, (1916-17.10.1989)\, Danish composer.\nFrederick Hamilton Russell (1867-1941)\, English magnate and BCF president who donated the Hamilton–Russell Cup as a prize for the 1st Olympiad (London 1927).\nVictor Palciauskas (1941)\, American Correspondence Grandmaster born in Lithuania who was the tenth ICCF World Champion\, 1978–84.\nRongguang Ye (1963)\, Chinese Grandmaster living in the Netherlands who in 1990\, became the first ever Chinese player to gain the Grandmaster title.\nDavid Norwood (1968)\, Andorran-English Grandmaster\, author and chess philanthropist.\nGerhard Schebler (1969) was born\, German Grandmaster.\nSergey Kalygin\, 1970)\, Russian Grandmaster.\nAleksandra Dimitrijevic (1986)\, Bosnian Woman Grandmaster who is married with B. Jobova.\nMilan Pacher (1990)\,  Slovakian Grandmaster. \nDEATHS \nCarl Walbrodt (28.11.1871-1902)\, German Master who died from  tuberculosis at the age of 30.\nErkki Wirtanen (11.04.1911-1979)\, Finish composer.\nAlberic O’Kelly de Galway Belgium (17.05.1911-1980)\, Grandmaster and Correspondence Grandmaster who became the third ICCF World Champion in correspondence chess (1959–1962). \nCHESS EVENTS \n1935 In the Netherlands\, the World Championship Match opened between Alexander Alekhine and Max Euwe. For the first time\, the players could use the assistance of seconds.\n2010 In Khanty-Mansiysk\, Russia\, the team of Ukraine won the 39th Chess Olympiad ahead of Russia and Israel\, in the Women ‘s championship\, Russia won ahead of China and Georgia.\n2018 Arkady Dvorkovich became the new FIDE President. He won by 103 votes to 78 against George Makropoulos\, after Nigel Short withdrew his candidacy at the last minute \nWORLD EVENTS\n52 BC Vercingetorix\, leader of the Gauls\, surrenders to the Romans under Julius Caesar\, ending the siege andBattle of Alesia.\n1789 George Washington makes the first Thanksgiving Day designated by the national government of the United States of America.\n1929 The Kingdom of Serbs\, Croats and Slovenes is renamed to Kingdom of Yugoslavia\, “Land of the South Slavs”.\n1932 Iraq gains independence from the United Kingdom.\n1935 Second Italo-Abyssinian War: Italy invades Ethiopia under General de Bono.\n1952 The United Kingdom successfully tests a nuclear weapon to become the world’s third nuclear power.\n1990 German reunification: The German Democratic Republic ceases to exist and its territory becomes part of the Federal Republic of Germany. \n(Source: Wikipedia) \n\n\n \n\n\n	\n				[Event "World Championship 33th-KK3"]\n[Site "London/Leningrad"]\n[Date "1986.10.03"]\n[Round "22"]\n[White "Kasparov\, Garry"]\n[Black "Karpov\, Anatoly"]\n[Result "1-0"]\n[ECO "D55"]\n[WhiteElo "2740"]\n[BlackElo "2705"]\n[PlyCount "91"]\n[EventDate "1986.07.28"]\n[EventType "match"]\n[EventRounds "24"]\n[EventCountry "URS"]\n[SourceTitle "MainBase"]\n[Source "ChessBase"]\n[SourceDate "1999.07.01"]\n\n1. d4 Nf6 2. c4 e6 3. Nf3 d5 4. Nc3 Be7 5. Bg5 h6 6. Bxf6 Bxf6 7. e3 O-O 8. Rc1\nc6 9. Bd3 Nd7 10. O-O dxc4 11. Bxc4 e5 12. h3 exd4 13. exd4 Nb6 14. Bb3 Bf5 15.\nRe1 a5 16. a3 Re8 17. Rxe8+ Qxe8 18. Qd2 Nd7 19. Qf4 Bg6 20. h4 Qd8 21. Na4 h5\n22. Re1 b5 23. Nc3 Qb8 24. Qe3 b4 25. Ne4 bxa3 26. Nxf6+ Nxf6 27. bxa3 Nd5 28.\nBxd5 cxd5 29. Ne5 Qd8 30. Qf3 Ra6 31. Rc1 Kh7 32. Qh3 Rb6 33. Rc8 Qd6 34. Qg3\na4 35. Ra8 Qe6 36. Rxa4 Qf5 37. Ra7 Rb1+ 38. Kh2 Rc1 39. Rb7 Rc2 40. f3 Rd2 41.\nNd7 Rxd4 42. Nf8+ Kh6 43. Rb4 Rc4 44. Rxc4 dxc4 45. Qd6 c3 46. Qd4 1-0\n				\n			You must activate JavaScript to enhance chess game visualization.		\n	\n	\n	\n		jQuery(document).ready(function($) {\n						$.chessgame.navigationButtonClass  = 'rpbchessboard-jQuery-enableSmoothness';\n			$.chessgame.navigationFrameClass   = 'wp-dialog';\n			$.chessgame.navigationFrameOptions = {"squareSize":32\,"showCoordinates":true\,"colorset":"original"\,"pieceset":"cburnett"\,"animationSpeed":200\,"showMoveArrow":true};\n			var selector = '#' + "rpbchessboard-69e81f1633709-1" + ' .rpbchessboard-chessgameAnchor';\n			$(selector).removeClass('rpbchessboard-chessgameAnchor').chessgame({"pgn":"[Event \"World Championship 33th-KK3\"]\r\n[Site \"London\/Leningrad\"]\r\n[Date \"1986.10.03\"]\r\n[Round \"22\"]\r\n[White \"Kasparov\, Garry\"]\r\n[Black \"Karpov\, Anatoly\"]\r\n[Result \"1-0\"]\r\n[ECO \"D55\"]\r\n[WhiteElo \"2740\"]\r\n[BlackElo \"2705\"]\r\n[PlyCount \"91\"]\r\n[EventDate \"1986.07.28\"]\r\n[EventType \"match\"]\r\n[EventRounds \"24\"]\r\n[EventCountry \"URS\"]\r\n[SourceTitle \"MainBase\"]\r\n[Source \"ChessBase\"]\r\n[SourceDate \"1999.07.01\"]\r\n\r\n1. d4 Nf6 2. c4 e6 3. Nf3 d5 4. Nc3 Be7 5. Bg5 h6 6. Bxf6 Bxf6 7. e3 O-O 8. Rc1\r\nc6 9. Bd3 Nd7 10. O-O dxc4 11. Bxc4 e5 12. h3 exd4 13. exd4 Nb6 14. Bb3 Bf5 15.\r\nRe1 a5 16. a3 Re8 17. Rxe8+ Qxe8 18. Qd2 Nd7 19. Qf4 Bg6 20. h4 Qd8 21. Na4 h5\r\n22. Re1 b5 23. Nc3 Qb8 24. Qe3 b4 25. Ne4 bxa3 26. Nxf6+ Nxf6 27. bxa3 Nd5 28.\r\nBxd5 cxd5 29. Ne5 Qd8 30. Qf3 Ra6 31. Rc1 Kh7 32. Qh3 Rb6 33. Rc8 Qd6 34. Qg3\r\na4 35. Ra8 Qe6 36. Rxa4 Qf5 37. Ra7 Rb1+ 38. Kh2 Rc1 39. Rb7 Rc2 40. f3 Rd2 41.\r\nNd7 Rxd4 42. Nf8+ Kh6 43. Rb4 Rc4 44. Rxc4 dxc4 45. Qd6 c3 46. Qd4 1-0"\,"pieceSymbols":"native"\,"navigationBoard":"above"\,"showFlipButton":true\,"showDownloadButton":true\,"navigationBoardOptions":{"squareSize":32\,"showCoordinates":true\,"colorset":"original"\,"pieceset":"cburnett"\,"animationSpeed":200\,"showMoveArrow":true}\,"diagramOptions":{"squareSize":32\,"showCoordinates":true\,"colorset":"original"\,"pieceset":"cburnett"\,"animationSpeed":200\,"showMoveArrow":true}});\n		});\n	\n\n\n \n\n
URL:https://thechesspedia.net/day/october-3/
CATEGORIES:October
ATTACH;FMTTYPE=image/png:https://thechesspedia.net/wp-content/uploads/2016/10/oct-3.png
END:VEVENT
END:VCALENDAR