
BEGIN:VCALENDAR
VERSION:2.0
PRODID:-//The Chesspedia - ECPv5.1.2.1//NONSGML v1.0//EN
CALSCALE:GREGORIAN
METHOD:PUBLISH
X-WR-CALNAME:The Chesspedia
X-ORIGINAL-URL:https://thechesspedia.net
X-WR-CALDESC:Events for The Chesspedia
BEGIN:VTIMEZONE
TZID:UTC
BEGIN:STANDARD
TZOFFSETFROM:+0000
TZOFFSETTO:+0000
TZNAME:UTC
DTSTART:20160101T000000
END:STANDARD
END:VTIMEZONE
BEGIN:VEVENT
DTSTART;VALUE=DATE:20161023
DTEND;VALUE=DATE:20161024
DTSTAMP:20260424T081333
CREATED:20161020T070459Z
LAST-MODIFIED:20161103T084959Z
UID:19625-1477180800-1477267199@thechesspedia.net
SUMMARY:October 23
DESCRIPTION:QUOTE OF THE DAY \nWhen I am in the USSR\, I have the feeling that every tram conductor plays chess better than I do.- Hans Ree\nBIRTHS \nEvgeny Kubbel (1894-1942)\, Russian chess composer.\nGabriel Schwartzman (1976)\, US Grandmaster who left the chess world in 2000 to become CEO at a software company.\nSopio Tkeshelasvili (1979)\, Georgian Woman Grandmaster who won the Under-12 girls European Youth Chess Championship in 1991 and the European Junior Girls Championship twice\, in 1997 and 1998. \nCHESS EVENTS \n1965 Nona Gaprindashvili (USSR) retained her title of Women’s World Champion in Riga\, after beating Alla Kushnir (USSR) 8½-4½\n2010 In Plovdiv Bulgaria\, the Economist-SGSEU-1 (RUS) achieved the desired result in the last round of the 26th European Club Cup and won a  second consecutive title in this competition. Monte Carlo (MNC) won the Women’s Championship. \nWORLD EVENTS \n1707 The first Parliament of Great Britain meets.\n1867 Seventy-two Senators are summoned by Royal Proclamation to serve as the first members of the Canadian Senate.1911 – First use of aircraft in war: Italo-Turkish War: An Italian pilot takes off from Libya to observe Turkish army lines.\n1917 Lenin calls for the October Revolution.\n1929 Great Depression: After a steady decline in stock market prices since a peak in September\, the New York Stock Exchange begins to show signs of panic.\n1941 World War II: Field Marshal Georgy Zhukov takes command of Red Army operations to prevent the further advance into Russia ofGerman forces and to prevent the Wehrmacht from capturing Moscow.\n1946 The United Nations General Assembly convenes for the first time\, at an auditorium in Flushing\, Queens\, New York City.\n1955 Prime Minister Ngô Đình Diệm defeats former emperor Bảo Đại in a referendum and founds the Republic of Vietnam.\n1983 Lebanese Civil War: The U.S. Marines barracks in Beirut is hit by a truck bomb\, killing 241 U.S. military personnel. A French army barracks in Lebanon is also hit that same morning\, killing 58 troops.\n1989 The Hungarian Republic is officially declared by president Mátyás Szűrös\, replacing the communist Hungarian People’s Republic.\n2002 Moscow theater hostage crisis: Chechen terrorists seize the House of Culture theater in Moscow and take approximately 700 theater-goers hostage. \n(Source: Wikipedia) \nTHE GAME OF THE DAY \n\n\n \n\n\n	\n				[Event "New York"]\n[Site "New York\, NY USA"]\n[Date "1918.10.23"]\n[EventDate "1918.10.23"]\n[Round "1"]\n[Result "1-0"]\n[White "Jose Raul Capablanca"]\n[Black "Frank James Marshall"]\n[ECO "C89"]\n[WhiteElo "?"]\n[BlackElo "?"]\n[PlyCount "71"]\n\n1.e4 e5 2.Nf3 Nc6 3.Bb5 a6 4.Ba4 Nf6 5.O-O Be7 6.Re1 b5 7.Bb3\nO-O 8.c3 d5 9.exd5 Nxd5 10.Nxe5 Nxe5 11.Rxe5 Nf6 12.Re1 Bd6\n13.h3 Ng4 14.Qf3 Qh4 15.d4 Nxf2 16.Re2 Bg4 17.hxg4 Bh2+ 18.Kf1\nBg3 19.Rxf2 Qh1+ 20.Ke2 Bxf2 21.Bd2 Bh4 22.Qh3 Rae8+ 23.Kd3\nQf1+ 24.Kc2 Bf2 25.Qf3 Qg1 26.Bd5 c5 27.dxc5 Bxc5 28.b4 Bd6\n29.a4 a5 30.axb5 axb4 31.Ra6 bxc3 32.Nxc3 Bb4 33.b6 Bxc3\n34.Bxc3 h6 35.b7 Re3 36.Bxf7+ 1-0\n				\n			You must activate JavaScript to enhance chess game visualization.		\n	\n	\n	\n		jQuery(document).ready(function($) {\n						$.chessgame.navigationButtonClass  = 'rpbchessboard-jQuery-enableSmoothness';\n			$.chessgame.navigationFrameClass   = 'wp-dialog';\n			$.chessgame.navigationFrameOptions = {"squareSize":32\,"showCoordinates":true\,"colorset":"original"\,"pieceset":"cburnett"\,"animationSpeed":200\,"showMoveArrow":true};\n			var selector = '#' + "rpbchessboard-69eb262de3f56-1" + ' .rpbchessboard-chessgameAnchor';\n			$(selector).removeClass('rpbchessboard-chessgameAnchor').chessgame({"pgn":"[Event \"New York\"]\r\n[Site \"New York\, NY USA\"]\r\n[Date \"1918.10.23\"]\r\n[EventDate \"1918.10.23\"]\r\n[Round \"1\"]\r\n[Result \"1-0\"]\r\n[White \"Jose Raul Capablanca\"]\r\n[Black \"Frank James Marshall\"]\r\n[ECO \"C89\"]\r\n[WhiteElo \"?\"]\r\n[BlackElo \"?\"]\r\n[PlyCount \"71\"]\r\n\r\n1.e4 e5 2.Nf3 Nc6 3.Bb5 a6 4.Ba4 Nf6 5.O-O Be7 6.Re1 b5 7.Bb3\r\nO-O 8.c3 d5 9.exd5 Nxd5 10.Nxe5 Nxe5 11.Rxe5 Nf6 12.Re1 Bd6\r\n13.h3 Ng4 14.Qf3 Qh4 15.d4 Nxf2 16.Re2 Bg4 17.hxg4 Bh2+ 18.Kf1\r\nBg3 19.Rxf2 Qh1+ 20.Ke2 Bxf2 21.Bd2 Bh4 22.Qh3 Rae8+ 23.Kd3\r\nQf1+ 24.Kc2 Bf2 25.Qf3 Qg1 26.Bd5 c5 27.dxc5 Bxc5 28.b4 Bd6\r\n29.a4 a5 30.axb5 axb4 31.Ra6 bxc3 32.Nxc3 Bb4 33.b6 Bxc3\r\n34.Bxc3 h6 35.b7 Re3 36.Bxf7+ 1-0"\,"pieceSymbols":"native"\,"navigationBoard":"above"\,"showFlipButton":true\,"showDownloadButton":true\,"navigationBoardOptions":{"squareSize":32\,"showCoordinates":true\,"colorset":"original"\,"pieceset":"cburnett"\,"animationSpeed":200\,"showMoveArrow":true}\,"diagramOptions":{"squareSize":32\,"showCoordinates":true\,"colorset":"original"\,"pieceset":"cburnett"\,"animationSpeed":200\,"showMoveArrow":true}});\n		});\n	\n\n\n \n\n
URL:https://thechesspedia.net/day/october-23/
CATEGORIES:October
ATTACH;FMTTYPE=image/png:https://thechesspedia.net/wp-content/uploads/2016/10/oct-23.png
END:VEVENT
END:VCALENDAR