
BEGIN:VCALENDAR
VERSION:2.0
PRODID:-//The Chesspedia - ECPv5.1.2.1//NONSGML v1.0//EN
CALSCALE:GREGORIAN
METHOD:PUBLISH
X-WR-CALNAME:The Chesspedia
X-ORIGINAL-URL:https://thechesspedia.net
X-WR-CALDESC:Events for The Chesspedia
BEGIN:VTIMEZONE
TZID:UTC
BEGIN:STANDARD
TZOFFSETFROM:+0000
TZOFFSETTO:+0000
TZNAME:UTC
DTSTART:20160101T000000
END:STANDARD
END:VTIMEZONE
BEGIN:VEVENT
DTSTART;VALUE=DATE:20161015
DTEND;VALUE=DATE:20161016
DTSTAMP:20260422T010914
CREATED:20161015T055441Z
LAST-MODIFIED:20161103T083448Z
UID:19607-1476489600-1476575999@thechesspedia.net
SUMMARY:October 15
DESCRIPTION:QUOTE OF THE DAY \nBotvinnik\, Korchnoi and Kasparov had to hate the opponent to play successfully. I belong to a different type of chess players. I’m like Keres\, Spassky and Portisch. On the board we fight\, but in life we ​​get along great.- Anatoly Karpov\, 2015\nBIRTHS \nOleg Chernikov (1933-06.02.2015) Russia Grandmaster who won the 2000 World Senior Chess Championship.\nRafael Vaganian (1951)\, Armenian Grandmaster who won the USSR championship in 1989.\nUwe Boensch (1958)\, German Grandmaster and FIDE Senior Trainer who was a successful coach of the national team and now is working as a director at the GCF.\nJulio Becerra(1973)\, American Grandmaster born in Cuba who won two Cuban championships.\nSergei Rublevsky (1974)\, Russian Grandmaster who won the 2005 Russian championship. He is coaching the women’s national team.\nDusko Pavasovic (1976)\, Slovenian Grandmaster born in Croatia who won 3 Slovenian championships.\nHeikki Kallio (1980)\, Finnish Grandmaster who left chess in 2005 to play poker.\nMarie Sebag (1986)\, French Grandmaster\, Woman Grandmaster and coach. She was the first French female to get a GM title.\nMaryana Huda\, (1988)\, Ukrainian Women Grandmaster. \nDEATHS \nConrad Bayer (10.11.1828-1897)\, Czech chess composer.\nJohannes Ohquist (06.12.1861-1949)\, Finnish chess composer.\nAnatoly Lutikov (05-02.1933-1989)\, Russian International Master who won the Moldovan championship six times. \nCHESS EVENTS \n2001 15.10 The team of Ukraine won the World Team Championship held in Yerevan. Russia was second and Armenia third.\n2014 15.10 In Baku Azerbaijan\, at the first stage of FIDE GP series 2014-2015\, Boris Gelfand (ISR) and Fabiano Caruana (ITA) finished joint winners. \nWORLD EVENTS \n1783 The Montgolfier brothers’ hot air balloon (tethered) makes the first human ascent\, piloted by Jean-François Pilâtre de Rozier.\n1793 Queen Marie-Antoinette of France is tried and convicted in a swift\, pre-determined trial in the Palais de Justice\, Paris\, and condemned to death the following day.\n1815 Napoleon I of France begins his exile on Saint Helena in the Atlantic Ocean.\n1894 The Dreyfus affair: Alfred Dreyfus is arrested for spying.\n1928 The airship\, Graf Zeppelin completes its first trans-Atlantic flight\, landing at Lakehurst\, New Jersey\, United States.\n1932 Tata Airlines (later to become Air India) makes its first flight.\n1934 The Soviet Republic of China collapses when Chiang Kai-shek’s National Revolutionary Army successfully encircles Ruijin\, forcing the fleeing Communists to begin the Long March.\n1940 The President of Catalonia\, Lluís Companys\, is executed by the Spanish dictatorship of Francisco Franco\, making him the only European president to have been executed.\n1944 The Arrow Cross Party (very similar to Hitler’s NSDAP (Nazi party)) takes power in Hungary.\n1956 Fortran\, the first modern computer language\, is shared with the coding community for the first time.\n1990 Soviet Union leader Mikhail Gorbachev is awarded the Nobel Peace Prize for his efforts to lessen Cold War tensions and open up his nation.\n2003 China launches Shenzhou 5\, its first manned space mission. \n(Source: Wikipedia) \nGAME OF THE DAY \n\n\n \n\n\n	\n				[Event "Bundesliga 1112"]\n[Site "Germany"]\n[Date "2011.10.15"]\n[Round "2.1"]\n[White "Gashimov\, Vugar"]\n[Black "Kempinski\, Robert"]\n[Result "1-0"]\n[ECO "B54"]\n[WhiteElo "2756"]\n[BlackElo "2604"]\n[PlyCount "47"]\n[EventDate "2011.10.14"]\n[EventType "team-tourn"]\n[EventRounds "15"]\n[EventCountry "GER"]\n[SourceTitle "CBM 145"]\n[Source "ChessBase"]\n[SourceDate "2011.11.11"]\n[WhiteTeam "Werder Bremen"]\n[BlackTeam "Hamburger SK"]\n[WhiteTeamCountry "GER"]\n[BlackTeamCountry "GER"]\n\n1. e4 c5 2. Nf3 d6 3. d4 cxd4 4. Nxd4 Nc6 5. Nc3 e5 6. Nf5 Bxf5 7. exf5 Be7 8.\ng4 h6 9. h4 Nf6 10. Rg1 Qa5 11. Bd2 Nd5 12. Ne4 Qb6 13. Rg3 O-O-O 14. c4 Nf6\n15. Nxf6 Bxf6 16. Rb3 Qd4 17. Qe2 d5 18. Rc1 e4 19. Be3 Qe5 20. cxd5 Qxd5 21.\nQb5 Qd7 22. Qa6 $6 Qc7 $2 23. Qa4 Rd6 24. Bxa7 1-0\n				\n			You must activate JavaScript to enhance chess game visualization.		\n	\n	\n	\n		jQuery(document).ready(function($) {\n						$.chessgame.navigationButtonClass  = 'rpbchessboard-jQuery-enableSmoothness';\n			$.chessgame.navigationFrameClass   = 'wp-dialog';\n			$.chessgame.navigationFrameOptions = {"squareSize":32\,"showCoordinates":true\,"colorset":"original"\,"pieceset":"cburnett"\,"animationSpeed":200\,"showMoveArrow":true};\n			var selector = '#' + "rpbchessboard-69e81fba788f3-1" + ' .rpbchessboard-chessgameAnchor';\n			$(selector).removeClass('rpbchessboard-chessgameAnchor').chessgame({"pgn":"[Event \"Bundesliga 1112\"]\r\n[Site \"Germany\"]\r\n[Date \"2011.10.15\"]\r\n[Round \"2.1\"]\r\n[White \"Gashimov\, Vugar\"]\r\n[Black \"Kempinski\, Robert\"]\r\n[Result \"1-0\"]\r\n[ECO \"B54\"]\r\n[WhiteElo \"2756\"]\r\n[BlackElo \"2604\"]\r\n[PlyCount \"47\"]\r\n[EventDate \"2011.10.14\"]\r\n[EventType \"team-tourn\"]\r\n[EventRounds \"15\"]\r\n[EventCountry \"GER\"]\r\n[SourceTitle \"CBM 145\"]\r\n[Source \"ChessBase\"]\r\n[SourceDate \"2011.11.11\"]\r\n[WhiteTeam \"Werder Bremen\"]\r\n[BlackTeam \"Hamburger SK\"]\r\n[WhiteTeamCountry \"GER\"]\r\n[BlackTeamCountry \"GER\"]\r\n\r\n1. e4 c5 2. Nf3 d6 3. d4 cxd4 4. Nxd4 Nc6 5. Nc3 e5 6. Nf5 Bxf5 7. exf5 Be7 8.\r\ng4 h6 9. h4 Nf6 10. Rg1 Qa5 11. Bd2 Nd5 12. Ne4 Qb6 13. Rg3 O-O-O 14. c4 Nf6\r\n15. Nxf6 Bxf6 16. Rb3 Qd4 17. Qe2 d5 18. Rc1 e4 19. Be3 Qe5 20. cxd5 Qxd5 21.\r\nQb5 Qd7 22. Qa6 $6 Qc7 $2 23. Qa4 Rd6 24. Bxa7 1-0"\,"pieceSymbols":"native"\,"navigationBoard":"above"\,"showFlipButton":true\,"showDownloadButton":true\,"navigationBoardOptions":{"squareSize":32\,"showCoordinates":true\,"colorset":"original"\,"pieceset":"cburnett"\,"animationSpeed":200\,"showMoveArrow":true}\,"diagramOptions":{"squareSize":32\,"showCoordinates":true\,"colorset":"original"\,"pieceset":"cburnett"\,"animationSpeed":200\,"showMoveArrow":true}});\n		});\n	\n\n\n \n\n
URL:https://thechesspedia.net/day/october-15/
CATEGORIES:October
ATTACH;FMTTYPE=image/png:https://thechesspedia.net/wp-content/uploads/2016/10/oct-15.png
END:VEVENT
END:VCALENDAR