
BEGIN:VCALENDAR
VERSION:2.0
PRODID:-//The Chesspedia - ECPv5.1.2.1//NONSGML v1.0//EN
CALSCALE:GREGORIAN
METHOD:PUBLISH
X-WR-CALNAME:The Chesspedia
X-ORIGINAL-URL:https://thechesspedia.net
X-WR-CALDESC:Events for The Chesspedia
BEGIN:VTIMEZONE
TZID:UTC
BEGIN:STANDARD
TZOFFSETFROM:+0000
TZOFFSETTO:+0000
TZNAME:UTC
DTSTART:20160101T000000
END:STANDARD
END:VTIMEZONE
BEGIN:VEVENT
DTSTART;VALUE=DATE:20161013
DTEND;VALUE=DATE:20161014
DTSTAMP:20260422T023139
CREATED:20200210T054437Z
LAST-MODIFIED:20200329T094302Z
UID:19601-1476316800-1476403199@thechesspedia.net
SUMMARY:October 13
DESCRIPTION:QUOTE OF THE DAY \nMy style is based on giving energy and creating. Karpov’s style is something that is probably taking energy from his opponent. NIC 1989- Garry Kasparov\, 1989 NIC\nBIRTHS \nJohannes Esser (1877-09.08.1946)\, a Dutch plastic surgeon who was Dutch Champion in 1913.\nFrantisek Dedrle (1878 – 28-05-1957)\, Czech chess composer.\nJan Foltys (1908-11.03.1952)\, Czech International Master.\nAlberto Foguelman (09.12.2013)\, Argentine International Master who won team bronze medal at the 1962 Olympiad.\nNana Alexandria (1949)\, Georgian Woman Grandmaster who was the challenger in two matches for the Women’s World Chess Championship.\nIgor Yagupov (1965)\, Russia Grandmaster.\nRonen Har-Zvi\, Israeli Grandmaster and coach living in the USA. He won the World U16 Chess championship in 1992.\nNisha Mohota (1980)\, Indian Woman Grandmaster.\nThal Abergel (1982)\, French Grandmaster and coach born in Israel.\nNikola Nestorovic (1989)\, Serbian Grandmaster. \nDEATH \nWilliam Lombardy (04.12.1937-2017)\, an American Grandmaster\, chess writer\, teacher\, and former Catholic priest. \nCHESS EVENTS \n1972 In Skopje at the chess Olympiad\, the team of USSR with 42/60 finished 1½ points ahead of Hungary.\n1972 The Soviet team had another convincing victory in the 5th Women’s Olympiad in Skopje with 11½/14. \nWORLD EVENTS \n54 Emperor Claudius is poisoned to death under mysterious circumstances. His 17-year-old stepson Nero succeeds him.\n1821 The Declaration of Independence of the Mexican Empire is publicly proclaimed.\n1845 A majority of voters in the Republic of Texas approve a proposed constitution that\, if accepted by the U.S. Congress\, will make Texas aU.S. state.\n1881 First known conversation in modern Hebrew by Eliezer Ben-Yehuda and friends.\n1884 The International Meridian Conference votes on a resolution to establish the meridian passing through the Observatory of Greenwich\, in London\, England\, as the initial meridian for longitude.\n1917 The “Miracle of the Sun” is witnessed by an estimated 70\,000 people in the Cova da Iria in Fátima\, Portugal.\n1921 The Soviet republics of Russia\, Armenia\, Azerbaijan\, and Georgia sign the Treaty of Kars with the Grand National Assembly of Turkey to establish the contemporary borders between Turkey and the South Caucasus states.\n1923 Ankara replaces Istanbul as the capital of Turkey.\n1943 World War II: The new government of Italy sides with the Allies and declares war on Germany.\n1944 World War II: Riga\, the capital of Latvia is occupied by the Red Army.\n1988 Naguib Mahfouz wins Nobel Prize in Literature.\n1990 End of the Lebanese Civil War. Syrian forces launch an attack on the free areas of Lebanon removing General Michel Aoun from the presidential palace. \n(Source: Wikipedia) \nGAME OF THE GAME \n\n\n \n\n\n	\n				[Event "EU-chT (Men) 14th"]\n[Site "Plovdiv"]\n[Date "2003.10.13"]\n[Round "3.1"]\n[White "Gelfand\, Boris"]\n[Black "Graf\, Alexander"]\n[Result "1-0"]\n[ECO "D37"]\n[WhiteElo "2703"]\n[BlackElo "2646"]\n[PlyCount "79"]\n[EventDate "2003.10.10"]\n[EventType "team-swiss"]\n[EventRounds "9"]\n[EventCountry "BUL"]\n\n[BlackTeamCountry "GER"]\n\n1. d4 Nf6 2. c4 e6 3. Nf3 d5 4. Nc3 Nbd7 5. Bf4 dxc4 6. e3 a6 7. a4 Nb6 8. a5\nNbd5 9. Bxc4 Nxf4 10. exf4 Be7 11. O-O O-O 12. Ne5 Qd6 13. Re1 c6 14. f5 exf5\n15. Nxf7 Rxf7 16. Qb3 Nd5 17. Nxd5 cxd5 18. Bxd5 Qf6 19. Rac1 Bd7 20. Rc7 Rd8\n21. Rxb7 Kf8 22. Rb6 Qxd4 23. Bxf7 Bc5 24. Rd1 Qxf2+ 25. Kh1 Be8 26. Bd5 Bh5\n27. Ra1 Qf4 28. Rxa6 Bd6 29. Rxd6 Rxd6 30. Qa3 Qe5 31. a6 Qxd5 32. a7 Kf7 33.\nQxd6 Qxd6 34. a8=Q Be2 35. Qa7+ Kf6 36. Qa3 Qd5 37. Qe3 Bb5 38. Re1 Bc6 39.\nQe7+ Kg6 40. Qe6+ 1-0\n				\n			You must activate JavaScript to enhance chess game visualization.		\n	\n	\n	\n		jQuery(document).ready(function($) {\n						$.chessgame.navigationButtonClass  = 'rpbchessboard-jQuery-enableSmoothness';\n			$.chessgame.navigationFrameClass   = 'wp-dialog';\n			$.chessgame.navigationFrameOptions = {"squareSize":32\,"showCoordinates":true\,"colorset":"original"\,"pieceset":"cburnett"\,"animationSpeed":200\,"showMoveArrow":true};\n			var selector = '#' + "rpbchessboard-69e8330bbee0d-1" + ' .rpbchessboard-chessgameAnchor';\n			$(selector).removeClass('rpbchessboard-chessgameAnchor').chessgame({"pgn":"[Event \"EU-chT (Men) 14th\"]\r\n[Site \"Plovdiv\"]\r\n[Date \"2003.10.13\"]\r\n[Round \"3.1\"]\r\n[White \"Gelfand\, Boris\"]\r\n[Black \"Graf\, Alexander\"]\r\n[Result \"1-0\"]\r\n[ECO \"D37\"]\r\n[WhiteElo \"2703\"]\r\n[BlackElo \"2646\"]\r\n[PlyCount \"79\"]\r\n[EventDate \"2003.10.10\"]\r\n[EventType \"team-swiss\"]\r\n[EventRounds \"9\"]\r\n[EventCountry \"BUL\"]\r\n\r\n[BlackTeamCountry \"GER\"]\r\n\r\n1. d4 Nf6 2. c4 e6 3. Nf3 d5 4. Nc3 Nbd7 5. Bf4 dxc4 6. e3 a6 7. a4 Nb6 8. a5\r\nNbd5 9. Bxc4 Nxf4 10. exf4 Be7 11. O-O O-O 12. Ne5 Qd6 13. Re1 c6 14. f5 exf5\r\n15. Nxf7 Rxf7 16. Qb3 Nd5 17. Nxd5 cxd5 18. Bxd5 Qf6 19. Rac1 Bd7 20. Rc7 Rd8\r\n21. Rxb7 Kf8 22. Rb6 Qxd4 23. Bxf7 Bc5 24. Rd1 Qxf2+ 25. Kh1 Be8 26. Bd5 Bh5\r\n27. Ra1 Qf4 28. Rxa6 Bd6 29. Rxd6 Rxd6 30. Qa3 Qe5 31. a6 Qxd5 32. a7 Kf7 33.\r\nQxd6 Qxd6 34. a8=Q Be2 35. Qa7+ Kf6 36. Qa3 Qd5 37. Qe3 Bb5 38. Re1 Bc6 39.\r\nQe7+ Kg6 40. Qe6+ 1-0"\,"pieceSymbols":"native"\,"navigationBoard":"above"\,"showFlipButton":true\,"showDownloadButton":true\,"navigationBoardOptions":{"squareSize":32\,"showCoordinates":true\,"colorset":"original"\,"pieceset":"cburnett"\,"animationSpeed":200\,"showMoveArrow":true}\,"diagramOptions":{"squareSize":32\,"showCoordinates":true\,"colorset":"original"\,"pieceset":"cburnett"\,"animationSpeed":200\,"showMoveArrow":true}});\n		});\n	\n\n\n \n\n
URL:https://thechesspedia.net/day/october-13/
CATEGORIES:October
ATTACH;FMTTYPE=image/png:https://thechesspedia.net/wp-content/uploads/2016/10/oct-13.png
END:VEVENT
END:VCALENDAR