
BEGIN:VCALENDAR
VERSION:2.0
PRODID:-//The Chesspedia - ECPv5.1.2.1//NONSGML v1.0//EN
CALSCALE:GREGORIAN
METHOD:PUBLISH
X-WR-CALNAME:The Chesspedia
X-ORIGINAL-URL:https://thechesspedia.net
X-WR-CALDESC:Events for The Chesspedia
BEGIN:VTIMEZONE
TZID:UTC
BEGIN:STANDARD
TZOFFSETFROM:+0000
TZOFFSETTO:+0000
TZNAME:UTC
DTSTART:20160101T000000
END:STANDARD
END:VTIMEZONE
BEGIN:VEVENT
DTSTART;VALUE=DATE:20161105
DTEND;VALUE=DATE:20161106
DTSTAMP:20260423T094258
CREATED:20161105T114836Z
LAST-MODIFIED:20161107T014622Z
UID:19507-1478304000-1478390399@thechesspedia.net
SUMMARY:November 5
DESCRIPTION:QUOTE OF THE DAY \nWhen you see a good move\, look for a better one- Emanuel Lasker\nBIRTHS \nAlberto Batori\, Italian (26.02.1884-1923)\, an Italian player and chess composer.\nFelix Levin (1958)\, an Ukrainian Grandmaster born in Germany.\nIldiko Madl (1969)\, a HungarianInternational Master and Women Grandmaster. A member of the Hungarian team with the Polgar’s sisters which won the 1990 Women’s Olympiad.\nIlaha Kadimova (1975)\, an Azerbaijani Woman Grandmaster who was Belarus Women’s Champion in 1990 and won a couple of European Youth championships.\nGisela Fischdick Gisela (1955)\, a German Women Grandmaster.\nMaarten Solleveld (1979)\, a Dutch Grandmaster.\nMustafa Yilmaz (1992)\, a Turkish Grandmaster who was Turkish Champion in 2009.\nQun Ma\, Qun (1991)\, a Chinese Grandmaster.\nMax Illingworth\, (1992)\, an Australian Grandmaster\, coach and writer. \nDEATH \nFedor Duz-Khotimirsky (25.09.1881-1965)\, Soviet Internal Master born in Ukraine.\nIuri Akobia (20.05.1937-2014)\, a Georgian chess composer. \nCHESS EVENTS \n1924 The Brazilian Chess Federation was founded.\n2014 The 24th FIDE World Senior Championships took place at the Olympus Riviera of Katerini in Greece\,  Zurab Sturua (GEO) and Anatoly Vaisser (FRA) became  the new World Champions for the senior categories 50+ and 65+ respectively while WIM Svetlana Mednikova (Russia) and the legendary GM Nona Gaprindashvili(Georgia) became  the new World Champions for the senior women’s categories 50+ and 65+ respectively. \nWORLD EVENTS \n1895 George B. Selden is granted the first U.S. patent for an automobile.\n1911 After declaring war on the Ottoman Empire on September 29\, 1911\, Italy annexes Tripoli and Cyrenaica.\n1912 Woodrow Wilson is elected to the presidency of the United States.\n1916 The Kingdom of Poland is proclaimed by the Act of 5th November of the emperors of Germany and Austria-Hungary.\n2006 Saddam Hussein\, former president of Iraq\, and his co-defendants Barzan Ibrahim al-Tikriti and Awad Hamed al-Bandar\, are sentenced to death in the al-Dujail trial for their roles in the 1982 massacre of 148 Shi’a Muslims.\n2007 China’s first lunar satellite\, Change 1\, goes into orbit around the Moon.\n2007 Android mobile operating system is unveiled by Google. \n(Source: Wikipedia) \nGAME OF THE DAY \n\n\n \n\n\n	\n				[Event "Bled ol (Men)"]\n[Site "Bled"]\n[Date "2002.11.05"]\n[Round "10.4"]\n[White "Mamadshoev\, Marat"]\n[Black "Cheparinov\, Ivan"]\n[Result "1-0"]\n[ECO "B33"]\n[WhiteElo "2263"]\n[BlackElo "2473"]\n[PlyCount "47"]\n[EventDate "2002.10.26"]\n[EventType "team-swiss"]\n[EventRounds "14"]\n[EventCountry "SLO"]\n1. e4 c5 2. Nf3 Nc6 3. d4 cxd4 4. Nxd4 Nf6 5. Nc3 e5 6. Ndb5 d6 7. Bg5 a6 8.\nNa3 b5 9. Bxf6 gxf6 10. Nd5 f5 11. Bxb5 axb5 12. Nxb5 Ra4 13. c4 Rxc4 14. O-O\nBb7 15. Nbc7+ Kd7 16. Qb3 Na5 17. Qb5+ Kc8 18. Rac1 Rc5 19. Na6 Bc6 20. Rxc5\ndxc5 21. Qb8+ Kd7 22. Nb6+ Ke8 23. Qxe5+ Qe7 24. Nc7+ 1-0\n				\n			You must activate JavaScript to enhance chess game visualization.		\n	\n	\n	\n		jQuery(document).ready(function($) {\n						$.chessgame.navigationButtonClass  = 'rpbchessboard-jQuery-enableSmoothness';\n			$.chessgame.navigationFrameClass   = 'wp-dialog';\n			$.chessgame.navigationFrameOptions = {"squareSize":32\,"showCoordinates":true\,"colorset":"original"\,"pieceset":"cburnett"\,"animationSpeed":200\,"showMoveArrow":true};\n			var selector = '#' + "rpbchessboard-69e9e9a2204d8-1" + ' .rpbchessboard-chessgameAnchor';\n			$(selector).removeClass('rpbchessboard-chessgameAnchor').chessgame({"pgn":"[Event \"Bled ol (Men)\"]\r\n[Site \"Bled\"]\r\n[Date \"2002.11.05\"]\r\n[Round \"10.4\"]\r\n[White \"Mamadshoev\, Marat\"]\r\n[Black \"Cheparinov\, Ivan\"]\r\n[Result \"1-0\"]\r\n[ECO \"B33\"]\r\n[WhiteElo \"2263\"]\r\n[BlackElo \"2473\"]\r\n[PlyCount \"47\"]\r\n[EventDate \"2002.10.26\"]\r\n[EventType \"team-swiss\"]\r\n[EventRounds \"14\"]\r\n[EventCountry \"SLO\"]\r\n1. e4 c5 2. Nf3 Nc6 3. d4 cxd4 4. Nxd4 Nf6 5. Nc3 e5 6. Ndb5 d6 7. Bg5 a6 8.\r\nNa3 b5 9. Bxf6 gxf6 10. Nd5 f5 11. Bxb5 axb5 12. Nxb5 Ra4 13. c4 Rxc4 14. O-O\r\nBb7 15. Nbc7+ Kd7 16. Qb3 Na5 17. Qb5+ Kc8 18. Rac1 Rc5 19. Na6 Bc6 20. Rxc5\r\ndxc5 21. Qb8+ Kd7 22. Nb6+ Ke8 23. Qxe5+ Qe7 24. Nc7+ 1-0"\,"pieceSymbols":"native"\,"navigationBoard":"above"\,"showFlipButton":true\,"showDownloadButton":true\,"navigationBoardOptions":{"squareSize":32\,"showCoordinates":true\,"colorset":"original"\,"pieceset":"cburnett"\,"animationSpeed":200\,"showMoveArrow":true}\,"diagramOptions":{"squareSize":32\,"showCoordinates":true\,"colorset":"original"\,"pieceset":"cburnett"\,"animationSpeed":200\,"showMoveArrow":true}});\n		});\n	\n\n\n \n\n
URL:https://thechesspedia.net/day/november-5/
CATEGORIES:November
ATTACH;FMTTYPE=image/png:https://thechesspedia.net/wp-content/uploads/2016/11/nov-5.png
END:VEVENT
END:VCALENDAR