
BEGIN:VCALENDAR
VERSION:2.0
PRODID:-//The Chesspedia - ECPv5.1.2.1//NONSGML v1.0//EN
CALSCALE:GREGORIAN
METHOD:PUBLISH
X-WR-CALNAME:The Chesspedia
X-ORIGINAL-URL:https://thechesspedia.net
X-WR-CALDESC:Events for The Chesspedia
BEGIN:VTIMEZONE
TZID:UTC
BEGIN:STANDARD
TZOFFSETFROM:+0000
TZOFFSETTO:+0000
TZNAME:UTC
DTSTART:20160101T000000
END:STANDARD
END:VTIMEZONE
BEGIN:VEVENT
DTSTART;VALUE=DATE:20161103
DTEND;VALUE=DATE:20161104
DTSTAMP:20260423T113547
CREATED:20161103T114022Z
LAST-MODIFIED:20161107T014124Z
UID:19504-1478131200-1478217599@thechesspedia.net
SUMMARY:November 3
DESCRIPTION:QUOTE OF THE DAY \nSome people think that if their opponent plays a beautiful game\, it’s okay to lose. I don’t. You have to be merciless.- Magnus Carlsen\nBIRTHS \nOrla Hermann Krause (1867-27.09.1935)\, a Dens Master who played for Denmark at first board in the 1st Chess Olympiad at London 1927\, and won a team silver medal there.\nMax Blumich (1886-23.02.1942)\, a German player and editor of the German chess magazine Deutsche Schachzeitung.\nCasto Abundo (1950)\, a former Filippino FIDE Administrator and Asian Executive Director who is living in Dubai.\nNatalia Alekhina (1954)\, a Russian Women Grandmaster.\nBoris Kostic (24.02.1887-1963)\, Serbian Grandmaster who during World War II\, was imprisoned in a German concentration camp because he declined to participate in tournaments called “Free Europa” and to glorify the Nazi regime.\nSergei Movsesian (1978)\, an Armenian Grandmaster who played the Olympiads for 3 different countries.\nBaris Esen\, (1986)\, a Turkish Grandmaster. \nDEATH \nVladas Mikenas (17.04.1910-1992)\, a Lithuanian Honorary Grandmaster\, International Arbiter and a journalist. \nCHESS EVENTS \n1985 At the Candidates’ Tournament in Montpellier\, A. Yusupov USSR\, R. Vaganian USSR and A. Sokolov USSR shared first place with 9 points. \nWORLD EVENTS \n1493 Christopher Columbus first sights the island of Dominica in the Caribbean Sea.\n1534 English Parliament passes the first Act of Supremacy\, making King Henry VIII head of the Anglican Church\, supplanting the pope and the Roman Catholic Church.\n1838 The Times of India\, the world’s largest circulated English language daily broadsheet newspaper is founded as The Bombay Times and Journal of Commerce.\n1903 With the encouragement of the United States\, Panama separates from Colombia.\n1911 Chevrolet officially enters the automobile market in competition with the Ford Model T.\n1918 Poland declares its independence from Russia.\n1918 The German Revolution of 1918–19 begins when 40\,000 sailors take over the port in Kiel.\n1957 Sputnik program: The Soviet Union launches Sputnik 2. On board is the first animal to enter orbit\, a dog named Laika.\n1973 Mariner program: NASA launches the Mariner 10 toward Mercury. On March 29\, 1974\, it becomes the first space probe to reach that planet.\n1978 Dominica gains its independence from the United Kingdom.\n1986 The Federated States of Micronesia gain independence from the United States of America.\n2014 One World Trade Center officially opens. \n(Source: Wikipedia) \nGAME OF THE DAY \n\n\n \n\n\n	\n				[Event "Buenos Aires ol (Men)"]\n[Site "Buenos Aires"]\n[Date "1978.11.03"]\n[Round "9"]\n[White "Ciocaltea\, Victor"]\n[Black "Giffard\, Nicolas"]\n[Result "0-1"]\n[ECO "B40"]\n[WhiteElo "2455"]\n[BlackElo "2365"]\n[PlyCount "40"]\n[EventDate "1978.10.25"]\n[EventType "team-swiss"]\n[EventRounds "14"]\n1. e4 c5 2. Nf3 e6 3. d4 cxd4 4. Nxd4 Nf6 5. Bd3 Nc6 6. Nxc6 dxc6 7. f4 e5 8.\nf5 Nxe4 9. Qf3 Nf6 10. Nc3 Qb6 11. Qg3 Be7 12. a3 O-O 13. Bh6 Nh5 14. Qg4 Qxb2\n15. Kd2 Qb6 16. Rhf1 Rd8 17. Rab1 Qd4 18. Qxh5 gxh6 19. f6 Bf8 20. Rf3 Bg4 0-1\n				\n			You must activate JavaScript to enhance chess game visualization.		\n	\n	\n	\n		jQuery(document).ready(function($) {\n						$.chessgame.navigationButtonClass  = 'rpbchessboard-jQuery-enableSmoothness';\n			$.chessgame.navigationFrameClass   = 'wp-dialog';\n			$.chessgame.navigationFrameOptions = {"squareSize":32\,"showCoordinates":true\,"colorset":"original"\,"pieceset":"cburnett"\,"animationSpeed":200\,"showMoveArrow":true};\n			var selector = '#' + "rpbchessboard-69ea04139f7a7-1" + ' .rpbchessboard-chessgameAnchor';\n			$(selector).removeClass('rpbchessboard-chessgameAnchor').chessgame({"pgn":"[Event \"Buenos Aires ol (Men)\"]\r\n[Site \"Buenos Aires\"]\r\n[Date \"1978.11.03\"]\r\n[Round \"9\"]\r\n[White \"Ciocaltea\, Victor\"]\r\n[Black \"Giffard\, Nicolas\"]\r\n[Result \"0-1\"]\r\n[ECO \"B40\"]\r\n[WhiteElo \"2455\"]\r\n[BlackElo \"2365\"]\r\n[PlyCount \"40\"]\r\n[EventDate \"1978.10.25\"]\r\n[EventType \"team-swiss\"]\r\n[EventRounds \"14\"]\r\n1. e4 c5 2. Nf3 e6 3. d4 cxd4 4. Nxd4 Nf6 5. Bd3 Nc6 6. Nxc6 dxc6 7. f4 e5 8.\r\nf5 Nxe4 9. Qf3 Nf6 10. Nc3 Qb6 11. Qg3 Be7 12. a3 O-O 13. Bh6 Nh5 14. Qg4 Qxb2\r\n15. Kd2 Qb6 16. Rhf1 Rd8 17. Rab1 Qd4 18. Qxh5 gxh6 19. f6 Bf8 20. Rf3 Bg4 0-1"\,"pieceSymbols":"native"\,"navigationBoard":"above"\,"showFlipButton":true\,"showDownloadButton":true\,"navigationBoardOptions":{"squareSize":32\,"showCoordinates":true\,"colorset":"original"\,"pieceset":"cburnett"\,"animationSpeed":200\,"showMoveArrow":true}\,"diagramOptions":{"squareSize":32\,"showCoordinates":true\,"colorset":"original"\,"pieceset":"cburnett"\,"animationSpeed":200\,"showMoveArrow":true}});\n		});\n	\n\n\n \n\n  \n
URL:https://thechesspedia.net/day/november-3/
CATEGORIES:November
ATTACH;FMTTYPE=image/png:https://thechesspedia.net/wp-content/uploads/2016/11/nov-3.png
END:VEVENT
END:VCALENDAR