
BEGIN:VCALENDAR
VERSION:2.0
PRODID:-//The Chesspedia - ECPv5.1.2.1//NONSGML v1.0//EN
CALSCALE:GREGORIAN
METHOD:PUBLISH
X-WR-CALNAME:The Chesspedia
X-ORIGINAL-URL:https://thechesspedia.net
X-WR-CALDESC:Events for The Chesspedia
BEGIN:VTIMEZONE
TZID:UTC
BEGIN:STANDARD
TZOFFSETFROM:+0000
TZOFFSETTO:+0000
TZNAME:UTC
DTSTART:20160101T000000
END:STANDARD
END:VTIMEZONE
BEGIN:VEVENT
DTSTART;VALUE=DATE:20161129
DTEND;VALUE=DATE:20161130
DTSTAMP:20260423T112521
CREATED:20161130T124705Z
LAST-MODIFIED:20161130T191945Z
UID:19536-1480377600-1480463999@thechesspedia.net
SUMMARY:November 29
DESCRIPTION:QUOTE OF THE DAY \nNever felt more like singin’ the blues\, cos I never thought that I’d ever lose…- Vladimir Kramnik 2017\nBIRTHS \nGeorg Marco (1863-29.08. 1923)\, an Austrian player\, author and editor born in Romania.\nFrantisek Zita (1909-01.10.1070)\, a Czech International Master who played few Olympiads and won an individual silver medal at Buenos Aires 1939.\nBurkhard Malich (1936)\, a German Grandmaster born in Poland who won twice the East German championships.\nLev Psakhis (1958)\, an Israeli Grandmaster\, coach and author born in Russia.  was born in Krasnoyarsk\, Russia. He was Soviet Champion in 1980 and 1981 and Israeli Champion in 1997.\nIgor Koniushkov (1962)\, a Russian Grandmaster who is not active since 2000.\nSapar Batyrov (1967)\, a Turkmenistan Grandmaster who is not active since 2009.\nMonica Calzetta (1972)\, a Spanish Woman Grandmaster who won seven times the Spanish women’s championship.\nJan Votava was born\, a Czech Grandmaster who was Czech Champion in 1996.\nVaszilij Sikula (1981)\, an Ukrainian Grandmaster. \nDEATHS \nArthur Reynolds (30.04.1910-1943)\,  An English player who\, during WWII\, was a POW on the Japanese cargo ship Suez Maru (an enemy ship) when it was torpedoed by the US submarine “Bonefish”. After the Suez Maru sank there were 200 to 250 POW’s in the water. A Japanese minesweeper that was with the Suez Maru then was ordered to execute the POW’s in the water. Some historians believe Reynolds perished in the massacre.\nRobert (Bob) Wade (10.04.1921-2008)\, a New Zealand and British International Master\, writer\, International Arbiter\, coach\, and promoter. He was New Zealand champion three times and British champion twice\, \nCHESS EVENTS \n1990 The International Olympic Committee granted recognition of FIDE as an international organization. The recognition was conveyed in a letter from the IOC Director General Francois Garrard who welcomed FIDE into the Olympic Movement.\n2003 At the World Senior in Bad Zwischenahn (GER)\, Yuri Shabanov of Russia and Litinskaja of Ukraine were the winners. \nWORLD EVENTS \n1394 The Korean king Yi Seong-gye\, founder of the Joseon dynasty\, moves the capital from Kaesŏng to Hanyang\, today is known as Seoul.\n1777 San Jose\, California\, is founded as Pueblo de San José de Guadalupe by José Joaquín Moraga. It is the first civilian settlement\, or pueblo\, in Alta California.\n1877 Thomas Edison demonstrates his phonograph for the first time.\n1899 FC Barcelona Association football club is founded.\n1945 The Federal People’s Republic of Yugoslavia is declared.\n1947 Partition Plan: The United Nations General Assembly approves a plan for the partition of Palestine.\n1950 Korean War: North Korean and Chinese troops force United Nations forces to retreat from North Korea.\n1963 U.S. President Lyndon B. Johnson establishes the Warren Commission to investigate the assassination of President John F. Kennedy.\n2012 The United Nations General Assembly voted to accord non-member observer state to Palestine. \n(Source: Wikipedia) \nGAME OF THE DAY \n\n\n \n\n\n	\n				[Event "URS-ch44"]\n[Site "Moscow"]\n[Date "1976.11.29"]\n[Round "3"]\n[White "Geller\, Efim P"]\n[Black "Karpov\, Anatoly"]\n[Result "1-0"]\n[ECO "C16"]\n[WhiteElo "2620"]\n[BlackElo "2695"]\n[PlyCount "83"]\n[EventDate "1976.11.27"]\n[EventType "tourn"]\n[EventRounds "17"]\n[EventCountry "URS"]\n1. e4 e6 2. d4 d5 3. Nc3 Bb4 4. e5 Qd7 5. Nf3 b6 6. Bd2 $5 Ba6 7. Bxa6 Nxa6 8.\nO-O Nb8 9. Ne2 $1 Be7 $2 10. Rc1 $1 b5 11. Nf4 $1 h5 12. b3 Ba3 13. Rb1 a5 $2\n14. c4 $1 $16 c6 15. c5 Bb4 16. Bc1 $1 a4 $1 17. Nd3 Ba5 18. bxa4 bxa4 19. Qxa4\n$18 Qa7 20. Bg5 Bc7 21. Rxb8+ $1 Qxb8 22. Qxc6+ Kf8 23. Nf4 Ra7 24. Nh4 $1 Qe8\n$6 25. Qxe6 $3 $18 fxe6 26. Nhg6+ Qxg6 27. Nxg6+ Ke8 28. Nxh8 Ra4 29. Rd1 Ne7\n30. Bxe7 Kxe7 31. Ng6+ Kf7 32. Nf4 Bxe5 33. dxe5 Rxf4 34. Rc1 $1 Ke8 35. c6 Kd8\n36. c7+ Kc8 37. g3 Ra4 38. Rc6 Rxa2 39. Rxe6 g5 40. Rd6 Rd2 41. e6 Kxc7 42. e7\n1-0\n				\n			You must activate JavaScript to enhance chess game visualization.		\n	\n	\n	\n		jQuery(document).ready(function($) {\n						$.chessgame.navigationButtonClass  = 'rpbchessboard-jQuery-enableSmoothness';\n			$.chessgame.navigationFrameClass   = 'wp-dialog';\n			$.chessgame.navigationFrameOptions = {"squareSize":32\,"showCoordinates":true\,"colorset":"original"\,"pieceset":"cburnett"\,"animationSpeed":200\,"showMoveArrow":true};\n			var selector = '#' + "rpbchessboard-69ea01a1567ca-1" + ' .rpbchessboard-chessgameAnchor';\n			$(selector).removeClass('rpbchessboard-chessgameAnchor').chessgame({"pgn":"[Event \"URS-ch44\"]\r\n[Site \"Moscow\"]\r\n[Date \"1976.11.29\"]\r\n[Round \"3\"]\r\n[White \"Geller\, Efim P\"]\r\n[Black \"Karpov\, Anatoly\"]\r\n[Result \"1-0\"]\r\n[ECO \"C16\"]\r\n[WhiteElo \"2620\"]\r\n[BlackElo \"2695\"]\r\n[PlyCount \"83\"]\r\n[EventDate \"1976.11.27\"]\r\n[EventType \"tourn\"]\r\n[EventRounds \"17\"]\r\n[EventCountry \"URS\"]\r\n1. e4 e6 2. d4 d5 3. Nc3 Bb4 4. e5 Qd7 5. Nf3 b6 6. Bd2 $5 Ba6 7. Bxa6 Nxa6 8.\r\nO-O Nb8 9. Ne2 $1 Be7 $2 10. Rc1 $1 b5 11. Nf4 $1 h5 12. b3 Ba3 13. Rb1 a5 $2\r\n14. c4 $1 $16 c6 15. c5 Bb4 16. Bc1 $1 a4 $1 17. Nd3 Ba5 18. bxa4 bxa4 19. Qxa4\r\n$18 Qa7 20. Bg5 Bc7 21. Rxb8+ $1 Qxb8 22. Qxc6+ Kf8 23. Nf4 Ra7 24. Nh4 $1 Qe8\r\n$6 25. Qxe6 $3 $18 fxe6 26. Nhg6+ Qxg6 27. Nxg6+ Ke8 28. Nxh8 Ra4 29. Rd1 Ne7\r\n30. Bxe7 Kxe7 31. Ng6+ Kf7 32. Nf4 Bxe5 33. dxe5 Rxf4 34. Rc1 $1 Ke8 35. c6 Kd8\r\n36. c7+ Kc8 37. g3 Ra4 38. Rc6 Rxa2 39. Rxe6 g5 40. Rd6 Rd2 41. e6 Kxc7 42. e7\r\n1-0"\,"pieceSymbols":"native"\,"navigationBoard":"above"\,"showFlipButton":true\,"showDownloadButton":true\,"navigationBoardOptions":{"squareSize":32\,"showCoordinates":true\,"colorset":"original"\,"pieceset":"cburnett"\,"animationSpeed":200\,"showMoveArrow":true}\,"diagramOptions":{"squareSize":32\,"showCoordinates":true\,"colorset":"original"\,"pieceset":"cburnett"\,"animationSpeed":200\,"showMoveArrow":true}});\n		});\n	\n\n\n \n\n
URL:https://thechesspedia.net/day/november-29/
CATEGORIES:November
ATTACH;FMTTYPE=image/png:https://thechesspedia.net/wp-content/uploads/2016/07/nov-29.png
END:VEVENT
END:VCALENDAR