
BEGIN:VCALENDAR
VERSION:2.0
PRODID:-//The Chesspedia - ECPv5.1.2.1//NONSGML v1.0//EN
CALSCALE:GREGORIAN
METHOD:PUBLISH
X-WR-CALNAME:The Chesspedia
X-ORIGINAL-URL:https://thechesspedia.net
X-WR-CALDESC:Events for The Chesspedia
BEGIN:VTIMEZONE
TZID:UTC
BEGIN:STANDARD
TZOFFSETFROM:+0000
TZOFFSETTO:+0000
TZNAME:UTC
DTSTART:20160101T000000
END:STANDARD
END:VTIMEZONE
BEGIN:VEVENT
DTSTART;VALUE=DATE:20161125
DTEND;VALUE=DATE:20161126
DTSTAMP:20260423T095104
CREATED:20161125T123746Z
LAST-MODIFIED:20161123T144146Z
UID:19531-1480032000-1480118399@thechesspedia.net
SUMMARY:November 25
DESCRIPTION:QUOTE OF THE DAY \nMagnus is playing fantastic and I play like I always play\, pretty badly- Anish Giri\, 2017\nBIRTHS \nJiri Lechtynsky (1947)\, a Czech Grandmaster who participated in three Olympiads.\nDiane Savereide (1954)\, an American International Woman Master who won 5 titles of US Women Champion.\nZuzana Stockova\, (1977)\, a Slovakian International Master and Woman Grandmaster who won the Slovakian Woman title in 2004.\nBator Sambuev\, (1980)\, a Russian-Canadian Grandmaster who was Canadian Champion in 2012.born…\nHaslinger\, Stewart G Haslinger (1981)\, an English Grandmaster who was awarded a PHD in applied mathematics at the University of Liverpool in 2014.\nLisandra Teresa Ordaz Valdes (1988)\, Cuban Woman Grandmaster and FIDE Trainer. \nDEATH \nHerman Steiner (15.04.1905-1955)\, an American International Master\, journalist and chess columnist born in Hungary who became the US Champion in 1948. \nCHESS EVENTS \n1961 In Vrnjacka Banja\, Yugoslavia\, the new Soviet star Nona Gaprindashvili won  the 4th Women’s Candidates Tournament with 13/17.\n1964 At the Chess Olympiad in Israel\, the USSR won the gold medal by a wide margin. However\, it suffered its second defeat since 1956\, this time to West Germany.\n1991 Nona Gaprindashvili USSR and Peng Zhoqin CHN shared first place in the Women’s Interzonal in Subotica\, Yugoslavia.\n1996 The team of Kazan RUS won the European Club Cup. \nWORLD EVENTS \n1343 A tsunami\, caused by an earthquake in the Tyrrhenian Sea\, devastates Naples and the Maritime Republic of Amalfi\, among other places.\n1487 Elizabeth of York is crowned Queen of England.\n1491 The siege of Granada\, the last Moorish stronghold in Spain\, ends with the Treaty of Granada.\n1759 An earthquake hits the Mediterranean destroying Beirut and Damascus and killing 30\,000-40\,000.\n1783 American Revolutionary War: The last British troops leave New York City three months after the signing of the Treaty of Paris.\n1795 Partitions of Poland: Stanisław August Poniatowski\, the last king of independent Poland\, is forced to abdicate and is exiled to Russia.\n1839 A cyclone slams India with high winds and a 40-foot storm surge\, destroying the port city of Coringa (which has never been completely rebuilt). The storm wave sweeps inland\, taking with it 20\,000 ships and thousands of people. An estimated 300\,000 deaths result from the disaster.\n1905 Prince Carl of Denmark arrives in Norway to become King Haakon VII of Norway.\n1915 Albert Einstein presents the field equations of general relativity to the Prussian Academy of Sciences.\n1947 New Zealand ratifies the Statute of Westminster and thus becomes independent of legislative control by the United Kingdom.\n1973 George Papadopoulos\, head of the military Regime of the Colonels in Greece\, is ousted in a hardliners’ coup led by Brigadier General Dimitrios Ioannidis.\n1975 Suriname gains independence from the Netherlands.\n1992 The Federal Assembly of Czechoslovakia votes to split the country into the Czech Republic and Slovakia\, with effect from January 1\, 1993. \n(Source: Wikipedia) \nGAME OF THE DAY \n
URL:https://thechesspedia.net/day/november-25/
CATEGORIES:November
ATTACH;FMTTYPE=image/png:https://thechesspedia.net/wp-content/uploads/2016/07/nov-25.png
END:VEVENT
END:VCALENDAR