
BEGIN:VCALENDAR
VERSION:2.0
PRODID:-//The Chesspedia - ECPv5.1.2.1//NONSGML v1.0//EN
CALSCALE:GREGORIAN
METHOD:PUBLISH
X-WR-CALNAME:The Chesspedia
X-ORIGINAL-URL:https://thechesspedia.net
X-WR-CALDESC:Events for The Chesspedia
BEGIN:VTIMEZONE
TZID:UTC
BEGIN:STANDARD
TZOFFSETFROM:+0000
TZOFFSETTO:+0000
TZNAME:UTC
DTSTART:20160101T000000
END:STANDARD
END:VTIMEZONE
BEGIN:VEVENT
DTSTART;VALUE=DATE:20161121
DTEND;VALUE=DATE:20161122
DTSTAMP:20260422T021224
CREATED:20160711T123039Z
LAST-MODIFIED:20161120T145547Z
UID:19526-1479686400-1479772799@thechesspedia.net
SUMMARY:November 21
DESCRIPTION:QUOTE OF THE DAY \nA game of chess has three phases: the opening\, where you hope you stand better; the middlegame\, where you think you stand better; and the ending\, where you know you stand to lose.- Savielly Tartakower\nBIRTHS \nFrederick Gamage (1882-26.12.1956)\, an American chess composer.\nErnst Grunfeld 1883-03.04.1962)\,  an Austrian Master and writer specializing in opening theory. He was for a brief period after the First World War one of the strongest chess players in the world.\nSalomon Flohr (1908-18.07.1983)\, a leading Czech and later Soviet chess Grandmaster\, Arbiter and author  born in Ukraine.\nOlita Rause (1962)\, a Latvian International Master\, a Woman Grandmaster and a  International Correspondence Chess Grandmaster (1999).\nEvgeny Bareev (1966)\, a former top Russia Grandmaster and Russian Champion who is now living and playing for Canada.\nTibor Fogarasi (1969)\, a Hungarian Grandmaster.\nRenier Gonzalez (1972)\, an American Grandmaster born in Cuba.\nTatiana Kostiuk (1982)\, a Ukrainian Woman Grandmaster living in France who was the European U18 champion in 2004.\nEesha Karavade (1987)\, an Indian Woman Grandmaster. \nDEATHS \nArnoldo Ellerman (12.01.1893-1969)\, an Argentine chess composer. \nCHESS EVENTS \n1964 The FIDE GA recognized the ICCF as an exclusive Association authorized to organize International Correspondence Chess Championship tournaments under the general conditions stipulated by the 1961 FIDE Congress.\n1964 The International Braille Chess Association was affiliated to FIDE.\n1990 The second half  of the match Kasparov-Karpov for the World Championship title started in Lyon\, France.\n1993 21.11 Mark Taimanov (RUS) won the 3rd World Senior Championship held in Bad Wildbad\, Germany\, while T. Zatulovskaya RUS won the Women’s Championship. \nWORLD EVENTS \n164 BC Judas Maccabeus\, son of Mattathias of the Hasmonean family\, restores the Temple in Jerusalem. This event is commemorated each year by the festival of Hanukkah.\n1783 In Paris\, Jean-François Pilâtre de Rozier and François Laurent d’Arlandes\, make the first untethered hot air balloon flight.\n1789 North Carolina ratifies the United States Constitution and is admitted as the 12th U.S. state.\n1877 Thomas Edison announces his invention of the phonograph\, a machine that can record and play sound.\n1922 Rebecca Latimer Felton of Georgia takes the oath of office\, becoming the first female United States Senator.\n1986 Iran–Contra affair: National Security Council member Oliver North and his secretary start to shred documents allegedly implicating them in the sale of weapons to Iran and channeling the proceeds to help fund the Contra rebels in Nicaragua.\n1995 The Dayton Agreement is initialed at the Wright-Patterson Air Force Base\, near Dayton\, Ohio\, ending three and a half years of war in Bosnia and Herzegovina. The agreement is formally ratified in Paris\, on December 14 that same year.\n2006 Anti-Syrian Lebanese politician and government minister Pierre Gemayel is assassinated in suburban Beirut. \n(Source: Wikipedia) \nTHE GAME OF THE DAY \n
URL:https://thechesspedia.net/day/november-21/
CATEGORIES:November
ATTACH;FMTTYPE=image/png:https://thechesspedia.net/wp-content/uploads/2016/07/nov-21.png
END:VEVENT
END:VCALENDAR