
BEGIN:VCALENDAR
VERSION:2.0
PRODID:-//The Chesspedia - ECPv5.1.2.1//NONSGML v1.0//EN
CALSCALE:GREGORIAN
METHOD:PUBLISH
X-WR-CALNAME:The Chesspedia
X-ORIGINAL-URL:https://thechesspedia.net
X-WR-CALDESC:Events for The Chesspedia
BEGIN:VTIMEZONE
TZID:UTC
BEGIN:STANDARD
TZOFFSETFROM:+0000
TZOFFSETTO:+0000
TZNAME:UTC
DTSTART:20160101T000000
END:STANDARD
END:VTIMEZONE
BEGIN:VEVENT
DTSTART;VALUE=DATE:20161102
DTEND;VALUE=DATE:20161103
DTSTAMP:20260422T004351
CREATED:20161102T113641Z
LAST-MODIFIED:20161107T014109Z
UID:19503-1478044800-1478131199@thechesspedia.net
SUMMARY:November 2
DESCRIPTION:QUOTE OF THE DAY \nThis one hour allows me to put the problem into the background and then\, when I come back\, I am much more rational and less emotional about the particular problem and I can think better about it.- G. Borg\, 2016\nBIRTHS \nCarlo Salvioli (1848-29.01.1930)\, a Strong Italian master and chess composer who won the Italian championship in 1881.\nIsidor Gunsberg (1854-1930)\, a BritishMaster born in Hungary. was born in Budapest\, Hungary who in the late 1880s and early 1890s was one of the top players in the world.\nErnesto Defourny\, (1885-27.12.1967)\, an Italian chess composer.\nSamuel Isenegger 1899-15.11.1964)\, Swiss chess composer.\nLjubomir Ljubojevic (1950)\, a Serbian Grandmaster living in Spain. In 1983 he was ranked third in the Elo world rating list.\nSemen Dvoirys (1958)\, a Russain Grandmaster living in Israel.\nSofia Polgar (1974)\, Israeli International Master and Women Grandmaster born in Hungary. She is the sister of Judith and Szuzsa.\nSergey Grigoriants (1983)\, a Russian Grandmaster.\nDavor Palo (1985)\, a Danish Grandmaster born in Bosnia and Hercegovina who won the Dens championship in 2013.\nElmira Mirzoeva (1981) a Russian Women Grandmaster and journamist born in Azerbaijan.\nAl-Sayed\, Mohammed (1981)\, a Qatari Grandmaster.\nOlga Iljushina (1981)\, a Russian Woman Grandmaster.\nAlyona Redko (1983)\, an Ukrainian Woman Grandmaster.\nEvgeny Romanov (1988)\, a Russian Grandmaster who won the 1998 World U10 Chess Championship. \nDEATHS \nTheodore Herlin (22.07.1917-1889)\, French chess composer.\nIsaac Leopold Rice (22.02.1850-1915)\, a U.S. inventor and a chess patron and author. He built the United States Navy’s first submarine.\nUmberto Castellari (18.11.1912-1976)\, Italian composer. \nCHESS EVENTS \n1964 A new record of 50 teams was registered at the 16th Olympiad in Tel Aviv. This was the first time all the continents were represented.\n1991 Xie Jun CHN beat M. Chiburdanidze USSR 8½-6½ (+4-2=9) in Manila\, Philippines. Thus for the first time since the end of WWII\, a non-Soviet player became Women’s World Champion. Also\, this was the first time a Chinese chess player had won the highest title.\n1996 Karpov won the European Rapid Championship in Cap d’Agde\, France.\n1997 Russia won with 23½ points the 4th World Team Championship organized by Schach-Organisation in Lucerne\, Switzerland.\n2008 In Florida\, USA\, GM Jaan Ehlvest (USA) won the Pan-American Individual Championship. \nWORLD EVENTS  \n1889 North Dakota and South Dakota are admitted as the 39th and 40th U.S. states.\n1914 World War I: The Russian Empire declares war on the Ottoman Empire and the Dardanelles are subsequently closed.\n1917 The Balfour Declaration proclaims British support for the “establishment in Palestine of a national home for the Jewish people” with the clear understanding “that nothing shall be done which may prejudice the civil and religious rights of existing non-Jewish communities”.\n1930 Haile Selassie is crowned emperor of Ethiopia.\n1949 The Dutch–Indonesian Round Table Conference ends with the Netherlands agreeing to transfer sovereignty of the Dutch East Indies to the United States of Indonesia.\n1953 The Constituent Assembly of Pakistan names the country The Islamic Republic of Pakistan.\n1964 King Saud of Saudi Arabia is deposed by a family coup\, and replaced by his half-brother Faisal.\n1983 U.S. President Ronald Reagan signs a bill creating Martin Luther King\, Jr. Day. \n(Source: Wikiepdia) \n
URL:https://thechesspedia.net/day/november-2/
CATEGORIES:November
ATTACH;FMTTYPE=image/png:https://thechesspedia.net/wp-content/uploads/2016/11/nov-2.png
END:VEVENT
END:VCALENDAR