
BEGIN:VCALENDAR
VERSION:2.0
PRODID:-//The Chesspedia - ECPv5.1.2.1//NONSGML v1.0//EN
CALSCALE:GREGORIAN
METHOD:PUBLISH
X-WR-CALNAME:The Chesspedia
X-ORIGINAL-URL:https://thechesspedia.net
X-WR-CALDESC:Events for The Chesspedia
BEGIN:VTIMEZONE
TZID:UTC
BEGIN:STANDARD
TZOFFSETFROM:+0000
TZOFFSETTO:+0000
TZNAME:UTC
DTSTART:20160101T000000
END:STANDARD
END:VTIMEZONE
BEGIN:VEVENT
DTSTART;VALUE=DATE:20161119
DTEND;VALUE=DATE:20161120
DTSTAMP:20260422T005818
CREATED:20161119T122703Z
LAST-MODIFIED:20161117T124201Z
UID:19523-1479513600-1479599999@thechesspedia.net
SUMMARY:November 19
DESCRIPTION:QUOTE OF THE DAY \nI’ve got no regrets about the games themselves\, as frankly I’ve never been narcissistic about my play.- Alexander Grischuk\, 2014\nBIRTHS \nFrank Healey (1828-17.02.1906)\, a British composer.\nJames Mason (1849-12.01.1905)\, an American player born in Ireland. In early 1880s was one of the strongest players in the world.\nAbraham Speijer (1873-05.09.1976)\, a Dutch Master who won the first Dutch championship.\nJose Raul Capablanca (1888-08.03.1942)\, One of the greatest players of the chess history born in Cuba\, the third World Champion (1921-1927).\nIsaac Kashdan (1905-20.02.1985)\, an American Grandmaster\, International Arbiter and columnist. The best American player of the 1930s. He was twice U.S. Open champion (1938\, 1947).\nPeter Biyiasas (1950)\, Canadian Grandmaster born in Greece who was CCanadianChampion in 1972 and 1975.\nNenad Ristic (1958)\, a Serbian Grandmaster.\nMihail Saltaev (1962)\, an Uzbek Grandmaster (1962).\nVaruzhan Akobian (1983)\, an American Grandmaster born in Armenia.Vice US Champion in 2014.\nYu Wang\, (1982)\, a Chinese International Master and Woman Grandmaster who won the Asian Women’s Chess Championship of 2004 and the Chinese Women’s Chess Championship in 2005.\nAnatoly Bykhovsky\, (1988)\, an Israeli Grandmaster. \nDEATHS\n \nJosef Vancura (18.08.1898-1921)\, a Czech composer.\nOscar Naegeli (25.02.1885-1959)\, a Swiss dermatologist and chess Master who won twice Swiss Chess Championship (1910 and 1936). \nCHESS EVENTS \n1966 To celebrate the end of the 1966 Olympiad\, the local authorities of Havana invited 380 masters to play a simultaneous display against 6480 chess lovers. At that time it was a world record.\n1993  In Monaco\, World Women Champion Xie Jun (CHN) successfully defended her title by beating N. Ioseliani (GEO) 8½-2½. \nWORLD EVENTS \n1942 World War II: Battle of Stalingrad: Soviet Union forces under General Georgy Zhukov launch the Operation Uranus counterattacks at Stalingrad\, turning the tide of the battle in the USSR’s favor.\n1944 World War II: U.S. President Franklin D. Roosevelt announces the 6th War Loan Drive\, aimed at selling US$14 billion in war bonds to help pay for the war effort.\n1946 Afghanistan\, Iceland and Sweden join the United Nations.\n1950 US General Dwight D. Eisenhower becomes Supreme Commander of NATO-Europe.\n1954 Télé Monte Carlo\, Europe’s oldest private television channel\, is launched by Prince Rainier III.\n1969 Association football player Pelé scores his 1\,000th goal.\n1977 TAP Portugal Flight 425 crashes in the Madeira Islands\, killing 131.\n1979 Iran hostage crisis: Iranian leader Ayatollah Ruhollah Khomeini orders the release of 13 female and black American hostages being held at the US Embassy in Tehran.\n1985 Cold War: In Geneva\, U.S. President Ronald Reagan and Soviet Union leader Mikhail Gorbachev meet for the first time.\n1998 Lewinsky scandal: The United States House of Representatives Judiciary Committee begins impeachment hearings against U.S. President Bill Clinton.\n1998 Vincent van Gogh’s Portrait of the Artist Without Beard sells at auction for US$71.5 million. \n(Source: Wikipedia) \nGAME OF THE DAY \n\n\n \n\n\n	\n				[Event "Thessaloniki ol (Men)"]\n[Site "Thessaloniki"]\n[Date "1988.11.19"]\n[Round "6"]\n[White "Kasparov\, Garry"]\n[Black "Short\, Nigel D"]\n[Result "1-0"]\n[ECO "D31"]\n[WhiteElo "2750"]\n[BlackElo "2630"]\n[PlyCount "45"]\n[EventDate "1988.11.13"]\n[EventType "team-swiss"]\n[EventRounds "14"]\n[EventCountry "GRE"]\n\n1. c4 e6 2. Nc3 d5 3. d4 Be7 4. cxd5 exd5 5. Bf4 c6 6. Qc2 g6 7. e3 Bf5 8. Qd2\nNf6 9. f3 c5 10. Bh6 cxd4 11. exd4 a6 12. g4 Be6 13. Nge2 Nbd7 14. Bg2 Nb6 15.\nb3 Rc8 16. O-O Rc6 17. h3 Nfd7 18. Nd1 Rg8 19. Nf2 f5 20. Rae1 g5 21. gxf5 Bf7\n22. Ng4 Bh5 23. Ng3 1-0\n				\n			You must activate JavaScript to enhance chess game visualization.		\n	\n	\n	\n		jQuery(document).ready(function($) {\n						$.chessgame.navigationButtonClass  = 'rpbchessboard-jQuery-enableSmoothness';\n			$.chessgame.navigationFrameClass   = 'wp-dialog';\n			$.chessgame.navigationFrameOptions = {"squareSize":32\,"showCoordinates":true\,"colorset":"original"\,"pieceset":"cburnett"\,"animationSpeed":200\,"showMoveArrow":true};\n			var selector = '#' + "rpbchessboard-69e81d2ab85df-1" + ' .rpbchessboard-chessgameAnchor';\n			$(selector).removeClass('rpbchessboard-chessgameAnchor').chessgame({"pgn":"[Event \"Thessaloniki ol (Men)\"]\r\n[Site \"Thessaloniki\"]\r\n[Date \"1988.11.19\"]\r\n[Round \"6\"]\r\n[White \"Kasparov\, Garry\"]\r\n[Black \"Short\, Nigel D\"]\r\n[Result \"1-0\"]\r\n[ECO \"D31\"]\r\n[WhiteElo \"2750\"]\r\n[BlackElo \"2630\"]\r\n[PlyCount \"45\"]\r\n[EventDate \"1988.11.13\"]\r\n[EventType \"team-swiss\"]\r\n[EventRounds \"14\"]\r\n[EventCountry \"GRE\"]\r\n\r\n1. c4 e6 2. Nc3 d5 3. d4 Be7 4. cxd5 exd5 5. Bf4 c6 6. Qc2 g6 7. e3 Bf5 8. Qd2\r\nNf6 9. f3 c5 10. Bh6 cxd4 11. exd4 a6 12. g4 Be6 13. Nge2 Nbd7 14. Bg2 Nb6 15.\r\nb3 Rc8 16. O-O Rc6 17. h3 Nfd7 18. Nd1 Rg8 19. Nf2 f5 20. Rae1 g5 21. gxf5 Bf7\r\n22. Ng4 Bh5 23. Ng3 1-0"\,"pieceSymbols":"native"\,"navigationBoard":"above"\,"showFlipButton":true\,"showDownloadButton":true\,"navigationBoardOptions":{"squareSize":32\,"showCoordinates":true\,"colorset":"original"\,"pieceset":"cburnett"\,"animationSpeed":200\,"showMoveArrow":true}\,"diagramOptions":{"squareSize":32\,"showCoordinates":true\,"colorset":"original"\,"pieceset":"cburnett"\,"animationSpeed":200\,"showMoveArrow":true}});\n		});\n	\n\n\n \n\n
URL:https://thechesspedia.net/day/november-19/
CATEGORIES:November
ATTACH;FMTTYPE=image/png:https://thechesspedia.net/wp-content/uploads/2016/07/nov-19.png
END:VEVENT
END:VCALENDAR