
BEGIN:VCALENDAR
VERSION:2.0
PRODID:-//The Chesspedia - ECPv5.1.2.1//NONSGML v1.0//EN
CALSCALE:GREGORIAN
METHOD:PUBLISH
X-WR-CALNAME:The Chesspedia
X-ORIGINAL-URL:https://thechesspedia.net
X-WR-CALDESC:Events for The Chesspedia
BEGIN:VTIMEZONE
TZID:UTC
BEGIN:STANDARD
TZOFFSETFROM:+0000
TZOFFSETTO:+0000
TZNAME:UTC
DTSTART:20160101T000000
END:STANDARD
END:VTIMEZONE
BEGIN:VEVENT
DTSTART;VALUE=DATE:20161116
DTEND;VALUE=DATE:20161117
DTSTAMP:20260423T100254
CREATED:20160711T122205Z
LAST-MODIFIED:20161113T152531Z
UID:19520-1479254400-1479340799@thechesspedia.net
SUMMARY:November 16
DESCRIPTION:QUOTE OF THE DAY \nIt is true\, in chess so far that men and women cannot be on the same level from an economic situation\, but there can always be a more reasonable way to combine the financial part and the players’ situation.- Hou Yifan\, 2016\nBIRTHS \nAaron Alexandre (1768-1850)\,  a Jewish German–French–English chess player\, Rabbi\, and writer.\nAlexey Suetin (1926-10.09.2001)\, an Ukraine Grandmaster who was the World Senior Champion in 1996.\nHerman Mattison (1894-1932)\, a Latvian Master\, a composer of endgame studies. He died of tuberculosis at the age of 38.\nKarel Opocensky (17.02.1892-1975)\, a Czech Grandmaster who was four-time Czech Champion. \nCHESS EVENTS \n1844 First match by electric telegraph  played in the USA  between Baltimore and Washington.\n2009 The FIDE Executive Board approved the full membership of Mauritania Chess Federation and the readmission of the Guyana Chess Federation. \nWORLD EVENTS \n1632 Thirty Years’ War: Battle of Lützen is fought\, the Swedes are victorious but King Gustavus Adolphus of Sweden dies in the battle.\n1849  A Russian court sentences writer Fyodor Dostoyevsky to death for anti-government activities linked to a radical intellectual group; his sentence is later commuted to hard labor.\n1855 David Livingstone becomes the first European to see the Victoria Falls in what is now present-day Zambia-Zimbabwe.\n1914 The Federal Reserve Bank of the United States officially opens.\n1938 LSD is first synthesized by Albert Hofmann from ergotamine at the Sandoz Laboratories in Basel.\n1945 UNESCO is founded.\n1988 The Supreme Soviet of the Estonian Soviet Socialist Republic declares that Estonia is “sovereign” but stops short of declaring independence. \n(Source: Wikiepdia) \nGAME OF THE DAY \n\n\n \n\n\n	\n				[Event "WchT 1st"]\n[Site "Luzern"]\n[Date "1985.??.??"]\n[Round "1"]\n[White "Ribli\, Zoltan"]\n[Black "Kouatly\, Bachar"]\n[Result "1-0"]\n[ECO "A30"]\n[WhiteElo "2615"]\n[BlackElo "2460"]\n1. Nf3 Nf6 2. c4 c5 3. g3 b6 4. Bg2 Bb7 5. O-O g6 6. Nc3 Bg7 7. d4 cxd4 8. Qxd4\nNc6 9. Qf4 Rc8 10. Rd1 d6 11. b3 Ne4 12. Nxe4 Bxa1 13. Ba3 Bg7 14. Nfg5 O-O 15.\nNxh7 Kxh7 16. Ng5+ Kg8 17. Qh4 Re8 18. Bh3 Kf8 19. Ne6+ Kg8 20. Ng5 Kf8 21.\nNe6+ Kg8 22. Nxd8 Rcxd8 23. Bg2 Bf6 24. Qh6 e6 25. h4 d5 26. h5 Bg7 27. Qg5\ndxc4 28. Rxd8 Rxd8 29. bxc4 gxh5 30. Bb2 e5 31. Bd5 Rd6 32. Qxh5 Rd7 33. Qf5\n1-0\n				\n			You must activate JavaScript to enhance chess game visualization.		\n	\n	\n	\n		jQuery(document).ready(function($) {\n						$.chessgame.navigationButtonClass  = 'rpbchessboard-jQuery-enableSmoothness';\n			$.chessgame.navigationFrameClass   = 'wp-dialog';\n			$.chessgame.navigationFrameOptions = {"squareSize":32\,"showCoordinates":true\,"colorset":"original"\,"pieceset":"cburnett"\,"animationSpeed":200\,"showMoveArrow":true};\n			var selector = '#' + "rpbchessboard-69e9ee4e57806-1" + ' .rpbchessboard-chessgameAnchor';\n			$(selector).removeClass('rpbchessboard-chessgameAnchor').chessgame({"pgn":"[Event \"WchT 1st\"]\r\n[Site \"Luzern\"]\r\n[Date \"1985.??.??\"]\r\n[Round \"1\"]\r\n[White \"Ribli\, Zoltan\"]\r\n[Black \"Kouatly\, Bachar\"]\r\n[Result \"1-0\"]\r\n[ECO \"A30\"]\r\n[WhiteElo \"2615\"]\r\n[BlackElo \"2460\"]\r\n1. Nf3 Nf6 2. c4 c5 3. g3 b6 4. Bg2 Bb7 5. O-O g6 6. Nc3 Bg7 7. d4 cxd4 8. Qxd4\r\nNc6 9. Qf4 Rc8 10. Rd1 d6 11. b3 Ne4 12. Nxe4 Bxa1 13. Ba3 Bg7 14. Nfg5 O-O 15.\r\nNxh7 Kxh7 16. Ng5+ Kg8 17. Qh4 Re8 18. Bh3 Kf8 19. Ne6+ Kg8 20. Ng5 Kf8 21.\r\nNe6+ Kg8 22. Nxd8 Rcxd8 23. Bg2 Bf6 24. Qh6 e6 25. h4 d5 26. h5 Bg7 27. Qg5\r\ndxc4 28. Rxd8 Rxd8 29. bxc4 gxh5 30. Bb2 e5 31. Bd5 Rd6 32. Qxh5 Rd7 33. Qf5\r\n1-0"\,"pieceSymbols":"native"\,"navigationBoard":"above"\,"showFlipButton":true\,"showDownloadButton":true\,"navigationBoardOptions":{"squareSize":32\,"showCoordinates":true\,"colorset":"original"\,"pieceset":"cburnett"\,"animationSpeed":200\,"showMoveArrow":true}\,"diagramOptions":{"squareSize":32\,"showCoordinates":true\,"colorset":"original"\,"pieceset":"cburnett"\,"animationSpeed":200\,"showMoveArrow":true}});\n		});\n	\n\n\n \n\n  \n  \n
URL:https://thechesspedia.net/day/november-16/
CATEGORIES:November
ATTACH;FMTTYPE=image/png:https://thechesspedia.net/wp-content/uploads/2016/11/nov-16.png
END:VEVENT
END:VCALENDAR