
BEGIN:VCALENDAR
VERSION:2.0
PRODID:-//The Chesspedia - ECPv5.1.2.1//NONSGML v1.0//EN
CALSCALE:GREGORIAN
METHOD:PUBLISH
X-WR-CALNAME:The Chesspedia
X-ORIGINAL-URL:https://thechesspedia.net
X-WR-CALDESC:Events for The Chesspedia
BEGIN:VTIMEZONE
TZID:UTC
BEGIN:STANDARD
TZOFFSETFROM:+0000
TZOFFSETTO:+0000
TZNAME:UTC
DTSTART:20160101T000000
END:STANDARD
END:VTIMEZONE
BEGIN:VEVENT
DTSTART;VALUE=DATE:20161114
DTEND;VALUE=DATE:20161115
DTSTAMP:20260422T010546
CREATED:20161114T121655Z
LAST-MODIFIED:20161111T151159Z
UID:19517-1479081600-1479167999@thechesspedia.net
SUMMARY:November 14
DESCRIPTION:QUOTE OF THE DAY \nAfter the 2nd game I could have returned to Moscow. There was only one way I could have won this match.- Boris Spassky (1974)\nBIRTHS \nAntonius van der Linde (1833-12.08.1897)\, a Dutch chess historian and player. His library was bought by the Royal Dutch Library and became the basis for the excellent collection in The Hague.\nAlexander Solovtsov (1847-20.03.1923)\, a Russian Master.\nEduard Dyckhoff (1880-02.03.1949)\, a German doctor of law and correspondence chess player.\nJacques Davidson (1890-13.01.1969)\, a Dutch Master.\nRakhil Eidelson (1958)\, a Belarus Woman Grandmaster who was the Belarusian Women’s Chess Championship eight times.\nMichal Krasenkow (1963)\, a Polish Grandmaster\, author and coach born in Moscow. In 2007\, he was ranked number ten in the world.\nDavid Howell (1990)\, the youngest English Grandmaster (16) who was the British champion in 2009\, 2013 and 2014.\nDaan Brandenburg (1987)\, a Dutch Grandmaster.Guichard\, Pauline\, FRA\, b-day 14.11.1988\nPauline Guichard\, (1988)\, a French Woman Grandmaster.\nKaterina Nemcova\, (1990) an America-Czech Woman Grandmaster who was Women’s Czech chess champion and won the European Youth Chess Championship of 2008.\nRobin Van Kampen\, (1994)\, a Dutch Grandmaster who was Dutch U20 champion.\nCHESS EVENT\n2007 The FIDE Executive Board confirmed memberships of the Maldives and Sao Tome and Principe. \nWORLD EVENTS \n1914 The Ottoman Empire declares war against Britain\, France\, Russia\, Serbia and Montenegro during the early months of World War I.\n1918 Czechoslovakia becomes a republic.\n1922 The British Broadcasting Company begins radio service in the United Kingdom.\n1941 World War II: In Slonim\, German forces engaged in Operation Barbarossa murder 9\,000 Jews in a single day.\n1965 Vietnam War: The Battle of Ia Drang begins – the first major engagement between regular American and North Vietnamese forces.\n1967 American physicist Theodore Maiman is given a patent for his ruby laser systems\, the world’s first laser.\n1969 Apollo program: NASA launches Apollo 12\, the second crewed mission to the surface of the Moon.\n1991 Cambodian Prince Norodom Sihanouk returns to Phnom Penh after thirteen years of exile.\n2008 The first G-20 economic summit opens in Washington\, D.C. \n(Source: Wikipedia) \nGAME OF THE DAY \n\n\n \n\n\n	\n				[Event "Novi Sad ol (Women)"]\n[Site "Novi Sad"]\n[Date "1990.11.??"]\n[Round "4"]\n[White "Polgar\, Judit"]\n[Black "Gaprindashvili\, Nona"]\n[Result "0-1"]\n[ECO "C43"]\n[WhiteElo "2540"]\n[BlackElo "2435"]\n[PlyCount "62"]\n1. e4 e5 2. Nf3 Nf6 3. d4 Nxe4 4. Bd3 d5 5. Nxe5 Nd7 6. Nxd7 Bxd7 7. O-O Qh4 8.\nc4 O-O-O 9. c5 g5 10. Nc3 Bg7 11. Ne2 Rhe8 12. Qe1 Nf6 13. Qd2 Ne4 14. Qa5 Kb8\n15. f3 Nf6 16. g3 Qh5 17. a4 Ng4 18. fxg4 Bxg4 19. Nf4 Bxd4+ 20. Kg2 gxf4 21.\nBxf4 Be5 22. c6 Bc8 23. Qb4 Bd6 24. Qb3 Bxf4 25. Rxf4 Re3 26. Qc2 Qh3+ 27. Kh1\nRxg3 28. cxb7 Bxb7 29. Rxf7 Rc8 30. Bb5 d4+ 31. Bc6 Rc3 $1 0-1\n				\n			You must activate JavaScript to enhance chess game visualization.		\n	\n	\n	\n		jQuery(document).ready(function($) {\n						$.chessgame.navigationButtonClass  = 'rpbchessboard-jQuery-enableSmoothness';\n			$.chessgame.navigationFrameClass   = 'wp-dialog';\n			$.chessgame.navigationFrameOptions = {"squareSize":32\,"showCoordinates":true\,"colorset":"original"\,"pieceset":"cburnett"\,"animationSpeed":200\,"showMoveArrow":true};\n			var selector = '#' + "rpbchessboard-69e81eea69b20-1" + ' .rpbchessboard-chessgameAnchor';\n			$(selector).removeClass('rpbchessboard-chessgameAnchor').chessgame({"pgn":"[Event \"Novi Sad ol (Women)\"]\r\n[Site \"Novi Sad\"]\r\n[Date \"1990.11.??\"]\r\n[Round \"4\"]\r\n[White \"Polgar\, Judit\"]\r\n[Black \"Gaprindashvili\, Nona\"]\r\n[Result \"0-1\"]\r\n[ECO \"C43\"]\r\n[WhiteElo \"2540\"]\r\n[BlackElo \"2435\"]\r\n[PlyCount \"62\"]\r\n1. e4 e5 2. Nf3 Nf6 3. d4 Nxe4 4. Bd3 d5 5. Nxe5 Nd7 6. Nxd7 Bxd7 7. O-O Qh4 8.\r\nc4 O-O-O 9. c5 g5 10. Nc3 Bg7 11. Ne2 Rhe8 12. Qe1 Nf6 13. Qd2 Ne4 14. Qa5 Kb8\r\n15. f3 Nf6 16. g3 Qh5 17. a4 Ng4 18. fxg4 Bxg4 19. Nf4 Bxd4+ 20. Kg2 gxf4 21.\r\nBxf4 Be5 22. c6 Bc8 23. Qb4 Bd6 24. Qb3 Bxf4 25. Rxf4 Re3 26. Qc2 Qh3+ 27. Kh1\r\nRxg3 28. cxb7 Bxb7 29. Rxf7 Rc8 30. Bb5 d4+ 31. Bc6 Rc3 $1 0-1"\,"pieceSymbols":"native"\,"navigationBoard":"above"\,"showFlipButton":true\,"showDownloadButton":true\,"navigationBoardOptions":{"squareSize":32\,"showCoordinates":true\,"colorset":"original"\,"pieceset":"cburnett"\,"animationSpeed":200\,"showMoveArrow":true}\,"diagramOptions":{"squareSize":32\,"showCoordinates":true\,"colorset":"original"\,"pieceset":"cburnett"\,"animationSpeed":200\,"showMoveArrow":true}});\n		});\n	\n\n\n \n\n  \n  \n  \n
URL:https://thechesspedia.net/day/november-14/
CATEGORIES:November
ATTACH;FMTTYPE=image/png:https://thechesspedia.net/wp-content/uploads/2016/11/nov-14.png
END:VEVENT
END:VCALENDAR