
BEGIN:VCALENDAR
VERSION:2.0
PRODID:-//The Chesspedia - ECPv5.1.2.1//NONSGML v1.0//EN
CALSCALE:GREGORIAN
METHOD:PUBLISH
X-WR-CALNAME:The Chesspedia
X-ORIGINAL-URL:https://thechesspedia.net
X-WR-CALDESC:Events for The Chesspedia
BEGIN:VTIMEZONE
TZID:UTC
BEGIN:STANDARD
TZOFFSETFROM:+0000
TZOFFSETTO:+0000
TZNAME:UTC
DTSTART:20160101T000000
END:STANDARD
END:VTIMEZONE
BEGIN:VEVENT
DTSTART;VALUE=DATE:20161113
DTEND;VALUE=DATE:20161114
DTSTAMP:20260422T021226
CREATED:20161113T121429Z
LAST-MODIFIED:20161110T212624Z
UID:19516-1478995200-1479081599@thechesspedia.net
SUMMARY:November 13
DESCRIPTION:QUOTE OF THE DAY \nPolitics is a team game\, here it is necessary to compromise\, to take into account the views of other people. As for Garry\, he is quite a contentious\, totalitarian person. But in general\, I’m sorry that Kasparov switched to a role that does not match the scale of his personality.- Vladimir Kramnik\, 2015\nBIRTHS \nMiron James Hazeltime (1824-24.02.1907)\,  an American journalist and chess composer.\nPaul Saladin Leonhardt (1877-14.12.1934)\, a German Master who died of a heart attack during a game of chess.\nBukhuty Gurgenidze (1933-24.05.2008)\, a Georgian Grandmaster who won 12 Georgian championships.\nJon Arnason (1960)\, an Icelandic Grandmaster who was three-time the national champion.\nGeorge Gabriel Grigore (1970)\, a Romanian Grandmaster who played two Olympiads. \nDEATHS \nGiancarlo dal Verme (11.05.1908-1985)\, an Italian player and FIDE officer who composed the FIDE anthem in 1952.\nVolf Bergraser (04.01.1904-1986)\, a French Correspondence Grandmaster (1981) and strong OTB player. A doctor. He won the French chess championship (OTB) in 1957 and 1966.\nIgor Platonov (18.01.1934-1994)\, a Soviet Grandmaster (not FIDE) and coach. He was murdered in his Kiev apartment by two thieves. \nWORLD EVENTS \n1927 The Holland Tunnel opens to traffic as the first Hudson River vehicle tunnel linking New Jersey to New York City.\n1940 Walt Disney’s animated musical film Fantasia is first released\, on the first night of a roadshow at New York’s Broadway Theatre.\n1950 General Carlos Delgado Chalbaud\, President of Venezuela\, is assassinated in Caracas.\n1989 Hans-Adam II\, the present Prince of Liechtenstein\, begins his reign on the death of his father.\n2015 A set of coordinated terror attacks in Paris\, France including multiple shootings\, explosions\, and a hostage crisis in the 10th arrondissement of Paris and the 11th arrondissement of Paris kill 130 people\, seven attackers\, and injured 368 others\, with at least 80 critically wounded. \nGAME OF THE DAY \n\n\n \n\n\n	\n				[Event "Moscow"]\n[Site "Moscow"]\n[Date "1915.11.13"]\n[EventDate "?"]\n[Round "?"]\n[Result "0-1"]\n[White "Nikolay Dmitrievich Grigoriev"]\n[Black "Alexander Alekhine"]\n[ECO "C12"]\n[WhiteElo "?"]\n[BlackElo "?"]\n[PlyCount "50"]\n\n1. e4 e6 2. d4 d5 3. Nc3 Nf6 4. Bg5 Bb4 5. e5 h6 6. exf6 hxg5\n7. fxg7 Rg8 8. h4 gxh4 9. Qg4 Be7 10. g3 c5 11. O-O-O Nc6\n12. dxc5 Qa5 13. Kb1 e5 14. Qh5 Be6 15. Nxd5 Bxd5 16. Rxd5 Nb4\n17. Rxe5 Qxa2+ 18. Kc1 O-O-O 19. Bd3 Qa1+ 20. Kd2 Qxb2 21. Ke3\nBf6 22. Qf5+ Kb8 23. Re4 Rxd3+ 24. cxd3 Bd4+ 25. Kf4 Qxf2+ 0-1\n				\n			You must activate JavaScript to enhance chess game visualization.		\n	\n	\n	\n		jQuery(document).ready(function($) {\n						$.chessgame.navigationButtonClass  = 'rpbchessboard-jQuery-enableSmoothness';\n			$.chessgame.navigationFrameClass   = 'wp-dialog';\n			$.chessgame.navigationFrameOptions = {"squareSize":32\,"showCoordinates":true\,"colorset":"original"\,"pieceset":"cburnett"\,"animationSpeed":200\,"showMoveArrow":true};\n			var selector = '#' + "rpbchessboard-69e82e8ac66aa-1" + ' .rpbchessboard-chessgameAnchor';\n			$(selector).removeClass('rpbchessboard-chessgameAnchor').chessgame({"pgn":"[Event \"Moscow\"]\r\n[Site \"Moscow\"]\r\n[Date \"1915.11.13\"]\r\n[EventDate \"?\"]\r\n[Round \"?\"]\r\n[Result \"0-1\"]\r\n[White \"Nikolay Dmitrievich Grigoriev\"]\r\n[Black \"Alexander Alekhine\"]\r\n[ECO \"C12\"]\r\n[WhiteElo \"?\"]\r\n[BlackElo \"?\"]\r\n[PlyCount \"50\"]\r\n\r\n1. e4 e6 2. d4 d5 3. Nc3 Nf6 4. Bg5 Bb4 5. e5 h6 6. exf6 hxg5\r\n7. fxg7 Rg8 8. h4 gxh4 9. Qg4 Be7 10. g3 c5 11. O-O-O Nc6\r\n12. dxc5 Qa5 13. Kb1 e5 14. Qh5 Be6 15. Nxd5 Bxd5 16. Rxd5 Nb4\r\n17. Rxe5 Qxa2+ 18. Kc1 O-O-O 19. Bd3 Qa1+ 20. Kd2 Qxb2 21. Ke3\r\nBf6 22. Qf5+ Kb8 23. Re4 Rxd3+ 24. cxd3 Bd4+ 25. Kf4 Qxf2+ 0-1"\,"pieceSymbols":"native"\,"navigationBoard":"above"\,"showFlipButton":true\,"showDownloadButton":true\,"navigationBoardOptions":{"squareSize":32\,"showCoordinates":true\,"colorset":"original"\,"pieceset":"cburnett"\,"animationSpeed":200\,"showMoveArrow":true}\,"diagramOptions":{"squareSize":32\,"showCoordinates":true\,"colorset":"original"\,"pieceset":"cburnett"\,"animationSpeed":200\,"showMoveArrow":true}});\n		});\n	\n\n\n \n\n
URL:https://thechesspedia.net/day/november-13/
CATEGORIES:December
ATTACH;FMTTYPE=image/png:https://thechesspedia.net/wp-content/uploads/2016/11/nov-13.png
END:VEVENT
END:VCALENDAR