
BEGIN:VCALENDAR
VERSION:2.0
PRODID:-//The Chesspedia - ECPv5.1.2.1//NONSGML v1.0//EN
CALSCALE:GREGORIAN
METHOD:PUBLISH
X-WR-CALNAME:The Chesspedia
X-ORIGINAL-URL:https://thechesspedia.net
X-WR-CALDESC:Events for The Chesspedia
BEGIN:VTIMEZONE
TZID:UTC
BEGIN:STANDARD
TZOFFSETFROM:+0000
TZOFFSETTO:+0000
TZNAME:UTC
DTSTART:20160101T000000
END:STANDARD
END:VTIMEZONE
BEGIN:VEVENT
DTSTART;VALUE=DATE:20161112
DTEND;VALUE=DATE:20161113
DTSTAMP:20260422T022641
CREATED:20161112T121205Z
LAST-MODIFIED:20161110T101903Z
UID:19515-1478908800-1478995199@thechesspedia.net
SUMMARY:November 12
DESCRIPTION:QUOTE OF THE DAY \nTal develops all his pieces in the centre and then sacrifices them somewhere.- David Bronstein\nBIRTHS \nMikhail Chigorin (1850-25.01.1908)\, a strong Russia Master who challenged the world champion Steinitz for a match with the World Championship at stake\, but he lost 10½–6½.\nBorislav Ivkov (1933) a Serbian Grandmaster who was the first World Junior Champion in 1951.\nLeonid Stein (1934 – 04.07.1973)\, a Soviet  Grandmaster from Ukraine who won three USSR Chess Championships.\nDragoljub Ciric (1935-17.08. 2014)\, a Serbian Grandmaster.\nHanna Erenska – Radzewska (1946) a Polish chess Woman Grandmaster who won  5 times the Women’s Polish Championship.\nMikhail Rytshagov (1967)\, Estonian Grandmaster and Senior FIDE Trainer.\nPablo Zarnicki (1972)\, Argentine GM who won the World Junior Chess Championship in 1992.\nAndjelija Stojanovic (1987)\, Serbian Woman Grandmaster.\nAnna Rudolf (1987) a Hungarian International Master and Woman Grandmaster and chess journalist who was three times the Women’s Hungarian Champion. \nDEATHS \nGavril Veresov (28.07.1912-1979)\, Soviet International Master who is known for the work in the following variation ECO‎: ‎D01 Moves‎: ‎1.d4 d5 2.Nc3 Nf6 3.Bg5.\nHermann Pilnik (08.01.1914-1981) \, a German-Argentine Grandmaster who won the Argentine Championships in 1942\, 1945 and 1958.\nAnthony Miles (23.04.1955-2001)\, an English Grandmaster who won the World U20 in 1974. The first Englishman to earn the Grandmaster title.\nDragutin Sahovic (08.08.1940-2005)\, a Serbian Grandmaster who with Aleksandar Matanovic founded the ECO codes for chess openings. \nCHESS EVENTS \n1934 The World Championship Match between A. Alekhine FRA and E. Bogoljubow GER opened in Karlsruhe\, Germany. The rules were 30 games and the first one with 6 wins will be the World Champion.\n1982 Chess Federations of Palestine\, Fiji\, Bahrain\, Yemen and Botswana were admitted to full membership. The Federations of Mauritania\, Paraguay and Uruguay were reinstated as full members. \nWORLD EVENTS \n1793 Jean Sylvain Bailly\, the first Mayor of Paris\, is guillotined.\n1892 William “Pudge” Heffelfinger becomes the first professional American football player on record\, participating in his first paid game for the Allegheny Athletic Association.\n1893 The treaty of the Durand Line delineating the border between present day Pakistan and Afghanistan is signed by Sir Mortimer Durand\, a British diplomat in British India.\n1918 Austria becomes a republic.\n1927 Leon Trotsky is expelled from the Soviet Communist Party\, leaving Joseph Stalin in undisputed control of the Soviet Union.\n1942 World War II: Naval Battle of Guadalcanal between Japanese and American forces begins near Guadalcanal. The battle lasts for three days and ends with an American victory.\n1956 Morocco\, Sudan and Tunisia join the United Nations.\n1968 Equatorial Guinea joins the United Nations.\n1982 USSR: Yuri Andropov becomes the General Secretary of the Communist Party’s Central Committee\, succeeding Leonid I. Brezhnev.\n1990 Crown Prince Akihito is formally installed as Emperor Akihito of Japan\, becoming the 125th Japanese monarch.\n1996 A Saudi Arabian Airlines Boeing 747 and a Kazakh Ilyushin Il-76 cargo plane collide in mid-air near New Delhi\, killing 349. The deadliest mid-air collision to date.\n2001 In New York City\, American Airlines Flight 587\, an Airbus A300 en route to the Dominican Republic\, crashes minutes after takeoff from John F. Kennedy International Airport\, killing all 260 on board and five on the ground. \n(Source: Wikipedia) \nGAME OF THE DAY \n\n\n\n \n\n\n	\n				[Event "Thessaloniki ol (Men)"]\n[Site "Thessaloniki"]\n[Date "1988.11.12"]\n[Round "1"]\n[White "Velimirovic\, Dragoljub"]\n[Black "Maynard\, Francis"]\n[Result "1-0"]\n[ECO "C71"]\n[WhiteElo "2520"]\n[PlyCount "51"]\n[EventDate "1988.11.??"]\n[EventType "team"]\n[EventRounds "14"]\n[EventCountry "GRE"]\n[WhiteTeam "Yugoslavia"]\n[BlackTeam "Costa Rica"]\n1. e4 e5 2. Nf3 Nc6 3. Bb5 a6 4. Ba4 d6 5. d4 b5 6. Bb3 Nxd4 7. Nxd4 exd4 8. c3\nBb7 9. O-O Nf6 10. cxd4 Nxe4 11. Re1 Be7 12. Qf3 d5 13. Rxe4 dxe4 14. Qxf7+ Kd7\n15. Qf5+ Kc6 16. Qe6+ Qd6 17. d5+ Kb6 18. Be3+ c5 19. dxc6+ Kxc6 20. Bd5+ Kc7\n21. Bf4 Qxf4 22. Qxe7+ Kb6 23. Qxb7+ Ka5 24. Nc3 e3 25. a3 exf2+ 26. Kf1 1-0\n				\n			You must activate JavaScript to enhance chess game visualization.		\n	\n	\n	\n		jQuery(document).ready(function($) {\n						$.chessgame.navigationButtonClass  = 'rpbchessboard-jQuery-enableSmoothness';\n			$.chessgame.navigationFrameClass   = 'wp-dialog';\n			$.chessgame.navigationFrameOptions = {"squareSize":32\,"showCoordinates":true\,"colorset":"original"\,"pieceset":"cburnett"\,"animationSpeed":200\,"showMoveArrow":true};\n			var selector = '#' + "rpbchessboard-69e831e16e302-1" + ' .rpbchessboard-chessgameAnchor';\n			$(selector).removeClass('rpbchessboard-chessgameAnchor').chessgame({"pgn":"[Event \"Thessaloniki ol (Men)\"]\r\n[Site \"Thessaloniki\"]\r\n[Date \"1988.11.12\"]\r\n[Round \"1\"]\r\n[White \"Velimirovic\, Dragoljub\"]\r\n[Black \"Maynard\, Francis\"]\r\n[Result \"1-0\"]\r\n[ECO \"C71\"]\r\n[WhiteElo \"2520\"]\r\n[PlyCount \"51\"]\r\n[EventDate \"1988.11.??\"]\r\n[EventType \"team\"]\r\n[EventRounds \"14\"]\r\n[EventCountry \"GRE\"]\r\n[WhiteTeam \"Yugoslavia\"]\r\n[BlackTeam \"Costa Rica\"]\r\n1. e4 e5 2. Nf3 Nc6 3. Bb5 a6 4. Ba4 d6 5. d4 b5 6. Bb3 Nxd4 7. Nxd4 exd4 8. c3\r\nBb7 9. O-O Nf6 10. cxd4 Nxe4 11. Re1 Be7 12. Qf3 d5 13. Rxe4 dxe4 14. Qxf7+ Kd7\r\n15. Qf5+ Kc6 16. Qe6+ Qd6 17. d5+ Kb6 18. Be3+ c5 19. dxc6+ Kxc6 20. Bd5+ Kc7\r\n21. Bf4 Qxf4 22. Qxe7+ Kb6 23. Qxb7+ Ka5 24. Nc3 e3 25. a3 exf2+ 26. Kf1 1-0"\,"pieceSymbols":"native"\,"navigationBoard":"above"\,"showFlipButton":true\,"showDownloadButton":true\,"navigationBoardOptions":{"squareSize":32\,"showCoordinates":true\,"colorset":"original"\,"pieceset":"cburnett"\,"animationSpeed":200\,"showMoveArrow":true}\,"diagramOptions":{"squareSize":32\,"showCoordinates":true\,"colorset":"original"\,"pieceset":"cburnett"\,"animationSpeed":200\,"showMoveArrow":true}});\n		});\n	\n\n\n \n\n
URL:https://thechesspedia.net/day/november-12/
CATEGORIES:November
ATTACH;FMTTYPE=image/png:https://thechesspedia.net/wp-content/uploads/2016/11/nov-12.png
END:VEVENT
END:VCALENDAR