
BEGIN:VCALENDAR
VERSION:2.0
PRODID:-//The Chesspedia - ECPv5.1.2.1//NONSGML v1.0//EN
CALSCALE:GREGORIAN
METHOD:PUBLISH
X-WR-CALNAME:The Chesspedia
X-ORIGINAL-URL:https://thechesspedia.net
X-WR-CALDESC:Events for The Chesspedia
BEGIN:VTIMEZONE
TZID:UTC
BEGIN:STANDARD
TZOFFSETFROM:+0000
TZOFFSETTO:+0000
TZNAME:UTC
DTSTART:20160101T000000
END:STANDARD
END:VTIMEZONE
BEGIN:VEVENT
DTSTART;VALUE=DATE:20161111
DTEND;VALUE=DATE:20161112
DTSTAMP:20260422T010541
CREATED:20161111T120926Z
LAST-MODIFIED:20161108T201019Z
UID:19514-1478822400-1478908799@thechesspedia.net
SUMMARY:November 11
DESCRIPTION:QUOTE OF THE DAY \nDrawing general conclusions about your main weaknesses can provide a great stimulus to further growth.- Alexander Kotov\nQUOTE OF THE DAY \nFischer was the first to send me a telegram when I was in Amsterdam after I had defected\, saying ‘Congratulations on the correct move’.- Vikor Kortchnoi \, 1986 NIC\nBIRTHS \nDaniel Willard Fiske (1831-1904)\, an American librarian and scholar.\nVictor Soultanbeieff (1895-09.02.1972) a Belgian Master born in Ukraine who won the Belgian championship 5 times.\nMilko Popchev (1964)\, Bulgarian Grandmaster.\nMaia Lomineishvili (1977)\, a Georgian International Master and Woman Grandmaster who won the Women’s Georgian Championship five times.\nStepan Stepan (1988)\, Czech Grandmaster.\nYuri Vovk (1988)\, an Ukrainian Grandmaster.\nIrina Bulmaga (1993)\, Romanian Woman Grandmaster. \nDEATHS \nPierre D’Orville (05.05.1804-1864)\, French chess composer and author.\nNov 11\, 1879: Johannes Seeberger (17.09.1843-1879)\, Austrian composer.\nFrederick Yates (16.01.1884-1932) an English Master who won 6 times the British Championship.\nLodewijk Prins (27.01.1913-1999) a Dutch International Master\, arbiter and author. \nCHESS EVENTS \n1981 Philippines won the Asian Team Championship in Hangzhow\, China with 13½.\n1982 After the second ballot\, the FIDE GA approved with 65 votes the election of F.  Campomanes PHI as FIDE President. F. Olafsson ISL got 43 votes.\n2000 Russia and China were the winners of the 34th Olympiads for men and women.\n2011 In Greece\, Germany and Russia are the winners of the European Team Championships.\n2016. In New York\, Magnus Carlsen and Sergey Karjakin started the battle for the world title. \nWORLD EVENTS \n1889 The State of Washington is admitted as the 42nd state of the United States.\n1918 World War I: Germany signs an armistice agreement with the Allies in a railroad car in the forest of Compiègne\, France. The fighting officially ends at 11:00 a.m.\, (the eleventh hour of the eleventh day of the eleventh month) and this is commemorated annually with a two-minute silence. The war officially ends on the signing of the Treaty of Versailles on 28 June 1919.\n1918 Józef Piłsudski assumes supreme military power in Poland – symbolic first day of Polish independence.\n1930 Patent number US1781541 is awarded to Albert Einstein and Leó Szilárd for their invention\, the Einstein refrigerator.\n1962 Kuwait’s National Assembly ratifies the Constitution of Kuwait.\n1965 In Rhodesia (modern-day Zimbabwe)\, the white-minority government of Ian Smith unilaterally declares independence.\n1975 Independence of Angola.\n1981 Antigua and Barbuda join the United Nations.\n2004 The Palestine Liberation Organization confirms the death of Yasser Arafat from unidentified causes. Mahmoud Abbas is elected chairman of the PLO minutes later. \n(Source: Wikipedia) \nGAME OF THE DAY \n\n\n \n\n\n	\n				[Event "Berlin"]\n[Site "Berlin"]\n[Date "1926.??.??"]\n[Round "?"]\n[White "Colle\, Edgard"]\n[Black "Gruenfeld\, Ernst"]\n[Result "1-0"]\n[ECO "E14"]\n[PlyCount "53"]\n[EventDate "1926.11.17"]\n[EventType "tourn"]\n1. d4 Nf6 2. Nf3 e6 3. e3 b6 4. Bd3 Bb7 5. Nbd2 c5 6. O-O Be7 7. b3 cxd4 8.\nexd4 d6 9. Bb2 Nbd7 10. c4 O-O 11. Rc1 Re8 12. Re1 Qc7 13. Qe2 Rac8 14. Nf1 Qb8\n15. Ng3 Qa8 16. Ng5 g6 17. Nxf7 Kxf7 18. Qxe6+ Kg7 19. d5 Nc5 20. Nf5+ Kf8 21.\nQe3 gxf5 22. Qh6+ Kf7 23. Bxf5 Bxd5 24. Rxe7+ Rxe7 25. Qxf6+ Ke8 26. Qh8+ Kf7\n27. Bxc8 1-0\n				\n			You must activate JavaScript to enhance chess game visualization.		\n	\n	\n	\n		jQuery(document).ready(function($) {\n						$.chessgame.navigationButtonClass  = 'rpbchessboard-jQuery-enableSmoothness';\n			$.chessgame.navigationFrameClass   = 'wp-dialog';\n			$.chessgame.navigationFrameOptions = {"squareSize":32\,"showCoordinates":true\,"colorset":"original"\,"pieceset":"cburnett"\,"animationSpeed":200\,"showMoveArrow":true};\n			var selector = '#' + "rpbchessboard-69e81ee57a000-1" + ' .rpbchessboard-chessgameAnchor';\n			$(selector).removeClass('rpbchessboard-chessgameAnchor').chessgame({"pgn":"[Event \"Berlin\"]\r\n[Site \"Berlin\"]\r\n[Date \"1926.??.??\"]\r\n[Round \"?\"]\r\n[White \"Colle\, Edgard\"]\r\n[Black \"Gruenfeld\, Ernst\"]\r\n[Result \"1-0\"]\r\n[ECO \"E14\"]\r\n[PlyCount \"53\"]\r\n[EventDate \"1926.11.17\"]\r\n[EventType \"tourn\"]\r\n1. d4 Nf6 2. Nf3 e6 3. e3 b6 4. Bd3 Bb7 5. Nbd2 c5 6. O-O Be7 7. b3 cxd4 8.\r\nexd4 d6 9. Bb2 Nbd7 10. c4 O-O 11. Rc1 Re8 12. Re1 Qc7 13. Qe2 Rac8 14. Nf1 Qb8\r\n15. Ng3 Qa8 16. Ng5 g6 17. Nxf7 Kxf7 18. Qxe6+ Kg7 19. d5 Nc5 20. Nf5+ Kf8 21.\r\nQe3 gxf5 22. Qh6+ Kf7 23. Bxf5 Bxd5 24. Rxe7+ Rxe7 25. Qxf6+ Ke8 26. Qh8+ Kf7\r\n27. Bxc8 1-0"\,"pieceSymbols":"native"\,"navigationBoard":"above"\,"showFlipButton":true\,"showDownloadButton":true\,"navigationBoardOptions":{"squareSize":32\,"showCoordinates":true\,"colorset":"original"\,"pieceset":"cburnett"\,"animationSpeed":200\,"showMoveArrow":true}\,"diagramOptions":{"squareSize":32\,"showCoordinates":true\,"colorset":"original"\,"pieceset":"cburnett"\,"animationSpeed":200\,"showMoveArrow":true}});\n		});\n	\n\n\n \n\n  \n
URL:https://thechesspedia.net/day/november-11/
CATEGORIES:November
ATTACH;FMTTYPE=image/png:https://thechesspedia.net/wp-content/uploads/2016/11/nov-11.png
END:VEVENT
END:VCALENDAR