
BEGIN:VCALENDAR
VERSION:2.0
PRODID:-//The Chesspedia - ECPv5.1.2.1//NONSGML v1.0//EN
CALSCALE:GREGORIAN
METHOD:PUBLISH
X-WR-CALNAME:The Chesspedia
X-ORIGINAL-URL:https://thechesspedia.net
X-WR-CALDESC:Events for The Chesspedia
BEGIN:VTIMEZONE
TZID:UTC
BEGIN:STANDARD
TZOFFSETFROM:+0000
TZOFFSETTO:+0000
TZNAME:UTC
DTSTART:20160101T000000
END:STANDARD
END:VTIMEZONE
BEGIN:VEVENT
DTSTART;VALUE=DATE:20161110
DTEND;VALUE=DATE:20161111
DTSTAMP:20260422T005732
CREATED:20161110T120542Z
LAST-MODIFIED:20161107T180534Z
UID:19513-1478736000-1478822399@thechesspedia.net
SUMMARY:November 10
DESCRIPTION:QUOTE OF THE DAY \nI think I am certainly more talented than many other people. But I don’t know what talent consists of.- Magnus Carlsen\, 2014\nBIRTHS \nConrad Bayer (1828-17.10.1897)\, Czech chess composer\, the author of the famous ‘Immortal Chess Problem‘\, a mate in 9 moves composed in 1856.\nMaximilian Fleissig (1845-29.01.1919)\, a Hungarian-born Austrian chess master.\nNikolai Grigoriev (14.08.1895-1938)\, Soviet-Russian player and a composer of endgame studies.\nMiodrag Todorcevic (1940)\, Serbian Grandmaster who was living in France where he became the national chess champion in 1975 and then move to Spain.\nKevin Spraggett (1954)\, Canadian Grandmaster who won seven Canadian Championships and is running  https://kevinspraggettonchess.wordpress.com/a chess blog for many years.\nBartosz Socko (1978)\, Polish Grandmaster and 6 times Polish Champion.\nErald Dervishi (1979)\, Albanian International Master and the best national player since a decade.\nEvgenijaOvod (1982)\, Russian Woman Grandmaster. \nDEATHS \nNikolai Grigoriev (14.08.1895-1938)\, Soviet-Russian player and a composer of endgame studies.\nMilan Vidmar (19.12.1909-1980)\, Slovenian International Master and son of the famous Milan Vidmar Sr. \nCHESS EVENTS \n1978 In Buenos Aires\, Hungary won the Olympiad one point ahead of USSR. For the first time since their first participation in 1954\, USSR team\, playing without the World Champion Karpov (but present at the FIDE Congress)\, could not catch the gold medal.\n2005 In Israel\, in a come from behind victory\, Russia beat China 3.5-0.5 in the final round to win the World Team Championship in Beer Sheva. Russia tallied 22 points\, followed by China with 21.5 points. Armenia placed third with 18.5 points. \nWORLD EVENTS \n1674 Third Anglo-Dutch War: As provided in the Treaty of Westminster\, Netherlands cedes New Netherland to England.\n1821 Cry of Independence by Rufina Alfaro at La Villa de Los Santos\, Panama setting into motion a revolt which led to Panama’s independence from Spain and to it immediately becoming part of Colombia.\n1888 Andrei Tupolev\, Russian engineer and designer\, founded the Tupolev Company was born (d. 1972)\n1942 World War II: Germany invades Vichy France following French Admiral François Darlan’s agreement to an armistice with the Allies in North Africa.\n1971 In Cambodia\, Khmer Rouge forces attack the city of Phnom Penh and its airport\, killing 44\, wounding at least 30 and damaging nine aircraft.\n1982 Leonid Brezhnev\, Ukrainian-Russian general and politician\, 4th Head of State of the Soviet Union died (b. 1906)\n1983 Bill Gates introduces Windows 1.0.\n1989 Germans begin to tear down the Berlin Wall.\n1997 WorldCom and MCI Communications announce a $37 billion merger (the largest merger in US history at the time). \n(Source: Wikipedia) \nGAME OF THE DAY \n\n\n \n\n\n	\n				[Event "Moscow Petrosian Memorial"]\n[Site "Moscow"]\n[Date "2014.11.10"]\n[Round "6"]\n[White "Kramnik\, Vladimir"]\n[Black "Morozevich\, Alexander"]\n[Result "1-0"]\n[ECO "E11"]\n[WhiteElo "2760"]\n[BlackElo "2724"]\n[PlyCount "67"]\n[EventDate "2014.11.04"]\n[EventType "tourn"]\n[EventRounds "7"]\n[EventCountry "RUS"]\n1. d4 Nf6 2. c4 e6 3. Nf3 Bb4+ 4. Nbd2 O-O 5. e3 b6 6. Bd3 c5 7. a3 Bxd2+ 8.\nBxd2 Bb7 9. dxc5 bxc5 10. Bc3 d6 11. Qc2 Nbd7 12. O-O-O Qe7 13. Ng5 h6 14. h4\nNe5 15. Bh7+ Kh8 16. f4 Neg4 17. Rh3 h5 18. Rg3 Rae8 19. Bd3 e5 20. Be2 Nf2 21.\nRf1 N2e4 22. fxe5 dxe5 23. Rxf6 Nxf6 24. Bxh5 Kg8 25. Be2 Qd6 26. Rh3 Bxg2 27.\nRg3 Bb7 28. h5 Re7 29. Rg1 e4 30. h6 Qh2 31. Nh3 $1 Qxh3 32. Rxg7+ Kh8 33. Bxf6\nQxh6 34. Rg6+ 1-0\n				\n			You must activate JavaScript to enhance chess game visualization.		\n	\n	\n	\n		jQuery(document).ready(function($) {\n						$.chessgame.navigationButtonClass  = 'rpbchessboard-jQuery-enableSmoothness';\n			$.chessgame.navigationFrameClass   = 'wp-dialog';\n			$.chessgame.navigationFrameOptions = {"squareSize":32\,"showCoordinates":true\,"colorset":"original"\,"pieceset":"cburnett"\,"animationSpeed":200\,"showMoveArrow":true};\n			var selector = '#' + "rpbchessboard-69e81cfc6171d-1" + ' .rpbchessboard-chessgameAnchor';\n			$(selector).removeClass('rpbchessboard-chessgameAnchor').chessgame({"pgn":"[Event \"Moscow Petrosian Memorial\"]\r\n[Site \"Moscow\"]\r\n[Date \"2014.11.10\"]\r\n[Round \"6\"]\r\n[White \"Kramnik\, Vladimir\"]\r\n[Black \"Morozevich\, Alexander\"]\r\n[Result \"1-0\"]\r\n[ECO \"E11\"]\r\n[WhiteElo \"2760\"]\r\n[BlackElo \"2724\"]\r\n[PlyCount \"67\"]\r\n[EventDate \"2014.11.04\"]\r\n[EventType \"tourn\"]\r\n[EventRounds \"7\"]\r\n[EventCountry \"RUS\"]\r\n1. d4 Nf6 2. c4 e6 3. Nf3 Bb4+ 4. Nbd2 O-O 5. e3 b6 6. Bd3 c5 7. a3 Bxd2+ 8.\r\nBxd2 Bb7 9. dxc5 bxc5 10. Bc3 d6 11. Qc2 Nbd7 12. O-O-O Qe7 13. Ng5 h6 14. h4\r\nNe5 15. Bh7+ Kh8 16. f4 Neg4 17. Rh3 h5 18. Rg3 Rae8 19. Bd3 e5 20. Be2 Nf2 21.\r\nRf1 N2e4 22. fxe5 dxe5 23. Rxf6 Nxf6 24. Bxh5 Kg8 25. Be2 Qd6 26. Rh3 Bxg2 27.\r\nRg3 Bb7 28. h5 Re7 29. Rg1 e4 30. h6 Qh2 31. Nh3 $1 Qxh3 32. Rxg7+ Kh8 33. Bxf6\r\nQxh6 34. Rg6+ 1-0"\,"pieceSymbols":"native"\,"navigationBoard":"above"\,"showFlipButton":true\,"showDownloadButton":true\,"navigationBoardOptions":{"squareSize":32\,"showCoordinates":true\,"colorset":"original"\,"pieceset":"cburnett"\,"animationSpeed":200\,"showMoveArrow":true}\,"diagramOptions":{"squareSize":32\,"showCoordinates":true\,"colorset":"original"\,"pieceset":"cburnett"\,"animationSpeed":200\,"showMoveArrow":true}});\n		});\n	\n\n\n \n\n  \n
URL:https://thechesspedia.net/day/november-10/
CATEGORIES:November
ATTACH;FMTTYPE=image/png:https://thechesspedia.net/wp-content/uploads/2016/11/nov-10.png
END:VEVENT
END:VCALENDAR