
BEGIN:VCALENDAR
VERSION:2.0
PRODID:-//The Chesspedia - ECPv5.1.2.1//NONSGML v1.0//EN
CALSCALE:GREGORIAN
METHOD:PUBLISH
X-WR-CALNAME:The Chesspedia
X-ORIGINAL-URL:https://thechesspedia.net
X-WR-CALDESC:Events for The Chesspedia
BEGIN:VTIMEZONE
TZID:UTC
BEGIN:STANDARD
TZOFFSETFROM:+0000
TZOFFSETTO:+0000
TZNAME:UTC
DTSTART:20160101T000000
END:STANDARD
END:VTIMEZONE
BEGIN:VEVENT
DTSTART;VALUE=DATE:20161101
DTEND;VALUE=DATE:20161102
DTSTAMP:20260423T111412
CREATED:20161101T114602Z
LAST-MODIFIED:20161107T014052Z
UID:19173-1477958400-1478044799@thechesspedia.net
SUMMARY:November 1
DESCRIPTION:QUOTE OF THE DAY \nWho was the greatest chess player? If chess is an art\, Alekhine. If chess is a science\, Capablanca. If chess is a struggle\, Lasker.- Saviely Tartakower\nBIRTHS \nJosef Pospisil (1861-20.12.1916)\, Czech chess composer.\nVasily Panov 1906-13.01.1973)\, Soviet Master\, author\, and journalist.\nYair Kraidman( 1932)\, the first Israeli-born Grandmaster.\nValentin Lukov\, (1955)\, Bulgarian Grandmaster.\nSergey Kishnev\, (1956)\, Russian Grandmaster.\nGennadi Gutman (1973)\, Ukrainan Grandmaster.\nMikhail Simantsev (1978); Ukrainian Grandmaster.\nEduardo Iturrizaga Bonelli (1989)\, Venezuelian Grandmaster. \nDEATHS \nLajos Asztalos (29.07.1889-1956)\, a Hungarian chess International Master\, professor\, and languages teacher. \nCHESS EVENTS \n1995 K. Arakhamia (GEO) won the Women’s Interzonal tournament held in Kishinev\, Moldova\, with 9½/13. \nWORLD EVENTS \n1179 – Philip II is crowned King of France.\n1520 – The Strait of Magellan\, the passage immediately south of mainland South America connecting the Pacific and the Atlantic Oceans\, is first discovered and navigated by European explorer Ferdinand Magellan during the first recorded circumnavigation voyage.\n1555 – French Huguenots establish the France Antarctique colony in present-day Rio de Janeiro\, Brazil.\n1755 – In Portugal\, Lisbon is totally devastated by a massive earthquake and tsunami\, killing between 60\,000 and 90\,000 people.\n1814 – Congress of Vienna opens to re-draw the European political map after the defeat of France in the Napoleonic Wars.\n1894 – Nicholas II becomes the new (and last) Tsar of Russia after his father\, Alexander III\, dies.\n1918 – Western Ukraine gains independence from the Austro-Hungarian Empire.\n1922 – Abolition of the Ottoman sultanate: The last sultan of the Ottoman Empire\, Mehmed VI\, abdicates.\n1960 – Tim Cook\, American businessman\, and engineer\, current CEO of Apple Inc was born.\n1981 – Antigua and Barbuda gains independence from the United Kingdom.\n1982 – Honda becomes the first Asian automobile company to produce cars in the United States with the opening of its factory in Marysville\, Ohio; a Honda Accord is the first car produced there.\n1993 – The Maastricht Treaty takes effect\, formally establishing the European Union.\n2000 – The Republic of Serbia and Montenegro joins the United Nations. \n(Source: Wikipedia) \n\n\n \n\n\n	\n				[Event "Lugano ol (Men) fin-A"]\n[Site "Lugano"]\n[Date "1968.11.01"]\n[Round "6"]\n[White "Byrne\, Donald"]\n[Black "Smyslov\, Vassily"]\n[Result "0-1"]\n[ECO "A07"]\n[BlackElo "2620"]\n[PlyCount "56"]\n[EventDate "1968.11.01"]\n[EventType "team"]\n[EventRounds "13"]\n[EventCountry "SUI"]\n[WhiteTeam "US of America"]\n[BlackTeam "Soviet Union"]\n[WhiteTeamCountry "USA"]\n[BlackTeamCountry "URS"]\n\n1. g3 d5 2. Nf3 c6 3. Bg2 Bg4 4. O-O Nd7 5. d3 e6 6. Nbd2 Bd6 7. e4 Ne7 8. Qe2\nO-O 9. h3 Bh5 10. Re1 Kh8 11. d4 Rc8 12. c4 c5 13. cxd5 exd5 14. e5 Bb8 15. e6\nfxe6 16. Qxe6 Re8 17. dxc5 Nxc5 18. Qe2 Nc6 19. Qf1 Qf6 20. a4 Rxe1 21. Nxe1\nNd4 22. Bxd5 Ne2+ 23. Kh2 Qe5 24. Bg2 Nxg3 25. fxg3 Qxg3+ 26. Kg1 Qh2+ 27. Kf2\nBg3+ 28. Ke3 Bxe1 0-1\n				\n			You must activate JavaScript to enhance chess game visualization.		\n	\n	\n	\n		jQuery(document).ready(function($) {\n						$.chessgame.navigationButtonClass  = 'rpbchessboard-jQuery-enableSmoothness';\n			$.chessgame.navigationFrameClass   = 'wp-dialog';\n			$.chessgame.navigationFrameOptions = {"squareSize":32\,"showCoordinates":true\,"colorset":"original"\,"pieceset":"cburnett"\,"animationSpeed":200\,"showMoveArrow":true};\n			var selector = '#' + "rpbchessboard-69e9ff04c4081-1" + ' .rpbchessboard-chessgameAnchor';\n			$(selector).removeClass('rpbchessboard-chessgameAnchor').chessgame({"pgn":"[Event \"Lugano ol (Men) fin-A\"]\r\n[Site \"Lugano\"]\r\n[Date \"1968.11.01\"]\r\n[Round \"6\"]\r\n[White \"Byrne\, Donald\"]\r\n[Black \"Smyslov\, Vassily\"]\r\n[Result \"0-1\"]\r\n[ECO \"A07\"]\r\n[BlackElo \"2620\"]\r\n[PlyCount \"56\"]\r\n[EventDate \"1968.11.01\"]\r\n[EventType \"team\"]\r\n[EventRounds \"13\"]\r\n[EventCountry \"SUI\"]\r\n[WhiteTeam \"US of America\"]\r\n[BlackTeam \"Soviet Union\"]\r\n[WhiteTeamCountry \"USA\"]\r\n[BlackTeamCountry \"URS\"]\r\n\r\n1. g3 d5 2. Nf3 c6 3. Bg2 Bg4 4. O-O Nd7 5. d3 e6 6. Nbd2 Bd6 7. e4 Ne7 8. Qe2\r\nO-O 9. h3 Bh5 10. Re1 Kh8 11. d4 Rc8 12. c4 c5 13. cxd5 exd5 14. e5 Bb8 15. e6\r\nfxe6 16. Qxe6 Re8 17. dxc5 Nxc5 18. Qe2 Nc6 19. Qf1 Qf6 20. a4 Rxe1 21. Nxe1\r\nNd4 22. Bxd5 Ne2+ 23. Kh2 Qe5 24. Bg2 Nxg3 25. fxg3 Qxg3+ 26. Kg1 Qh2+ 27. Kf2\r\nBg3+ 28. Ke3 Bxe1 0-1"\,"pieceSymbols":"native"\,"navigationBoard":"above"\,"showFlipButton":true\,"showDownloadButton":true\,"navigationBoardOptions":{"squareSize":32\,"showCoordinates":true\,"colorset":"original"\,"pieceset":"cburnett"\,"animationSpeed":200\,"showMoveArrow":true}\,"diagramOptions":{"squareSize":32\,"showCoordinates":true\,"colorset":"original"\,"pieceset":"cburnett"\,"animationSpeed":200\,"showMoveArrow":true}});\n		});\n	\n\n\n \n\n
URL:https://thechesspedia.net/day/november-1/
CATEGORIES:November
ATTACH;FMTTYPE=image/png:https://thechesspedia.net/wp-content/uploads/2016/11/nov-1.png
END:VEVENT
END:VCALENDAR