
BEGIN:VCALENDAR
VERSION:2.0
PRODID:-//The Chesspedia - ECPv5.1.2.1//NONSGML v1.0//EN
CALSCALE:GREGORIAN
METHOD:PUBLISH
X-WR-CALNAME:The Chesspedia
X-ORIGINAL-URL:https://thechesspedia.net
X-WR-CALDESC:Events for The Chesspedia
BEGIN:VTIMEZONE
TZID:UTC
BEGIN:STANDARD
TZOFFSETFROM:+0000
TZOFFSETTO:+0000
TZNAME:UTC
DTSTART:20160101T000000
END:STANDARD
END:VTIMEZONE
BEGIN:VEVENT
DTSTART;VALUE=DATE:20160509
DTEND;VALUE=DATE:20160510
DTSTAMP:20260422T003506
CREATED:20170508T083319Z
LAST-MODIFIED:20170508T074422Z
UID:19706-1462752000-1462838399@thechesspedia.net
SUMMARY:May 9
DESCRIPTION:QUOTE OF THE DAY\n\nChess is beautiful enough to waste your life for.- Hans Ree\nBIRTH \nGosta Stoltz Swedish Grandmaster (1904-25.07.1963)\, a Swedish Grandmaster who won three national titles\n \nWORLD EVENTS \n1873 Der Krach: Vienna stock market crash heralds the Long Depression.\n1877 Mihail Kogălniceanu reads\, in the Chamber of Deputies\, the Declaration of Independence of Romania. This day became the Independence Day of Romania.\n1877 A magnitude 8.8 earthquake off the coast of Peru kills 2\,541\, including some as far away as Hawaii and Japan.\n1901 Australia opens its first parliament in Melbourne.\n1941 World War II: The German submarine U-110 is captured by the Royal Navy. On board is the latest Enigma machine which Allied cryptographers later use to break coded German messages.\n1945 World War II: The Channel Islands are liberated by the British after five years of German occupation.\n1945 Victory celebration at Red Square.\n1945 World War II: Hermann Goering is captured by the United States Army.\n1946 King Victor Emmanuel III of Italy abdicates and is succeeded by Umberto II.\n1949 Prince Rainier III becomes monarch of Monaco\n1950 Robert Schuman presents his proposal on the creation of an organized Europe.\n1974 Watergate scandal: The United States House Committee on the Judiciary opens formal and public impeachment hearings against President Richard Nixon.\n1978 Corpse of kidnapped ex-premier Aldo Moro found\n2005 Liberal commentary website The Huffington Post is launched\n(Source: Wikipedia-Onthisday) \nGAME OF THE DAY \n\n\n \n\n\n	\n				[Event "POL-UKR m 6th"]\n[Site "Lublin"]\n[Date "2014.05.09"]\n[Round "3.3"]\n[White "Wojtaszek\, Radoslaw"]\n[Black "Efimenko\, Zahar"]\n[Result "1-0"]\n[ECO "E32"]\n[WhiteElo "2724"]\n[BlackElo "2648"]\n[PlyCount "59"]\n[EventDate "2014.05.07"]\n[EventType "schev"]\n[EventRounds "4"]\n[EventCountry "POL"]\n1. d4 Nf6 2. c4 e6 3. Nc3 Bb4 4. Qc2 O-O 5. Nf3 d6 6. Bd2 c5 7. dxc5 dxc5 8. a3\nBa5 9. e3 Nc6 10. Bd3 Qe7 11. O-O-O Bd7 12. Rhg1 Rfd8 13. g4 g6 14. h4 Be8 15.\nh5 a6 16. hxg6 fxg6 17. g5 Nh5 18. Ne4 b5 19. Bxa5 Nxa5 20. Ne5 b4 21. axb4\ncxb4 22. Be2 Nc6 23. Ng4 Rxd1+ 24. Rxd1 Rd8 25. Rh1 Kh8 26. Ngf6 Nxf6 27. Nxf6\nh5 28. Bxh5 gxh5 29. Nxh5 Qxg5 30. Nf4+ 1-0\n				\n			You must activate JavaScript to enhance chess game visualization.		\n	\n	\n	\n		jQuery(document).ready(function($) {\n						$.chessgame.navigationButtonClass  = 'rpbchessboard-jQuery-enableSmoothness';\n			$.chessgame.navigationFrameClass   = 'wp-dialog';\n			$.chessgame.navigationFrameOptions = {"squareSize":32\,"showCoordinates":true\,"colorset":"original"\,"pieceset":"cburnett"\,"animationSpeed":200\,"showMoveArrow":true};\n			var selector = '#' + "rpbchessboard-69e817baedb40-1" + ' .rpbchessboard-chessgameAnchor';\n			$(selector).removeClass('rpbchessboard-chessgameAnchor').chessgame({"pgn":"[Event \"POL-UKR m 6th\"]\r\n[Site \"Lublin\"]\r\n[Date \"2014.05.09\"]\r\n[Round \"3.3\"]\r\n[White \"Wojtaszek\, Radoslaw\"]\r\n[Black \"Efimenko\, Zahar\"]\r\n[Result \"1-0\"]\r\n[ECO \"E32\"]\r\n[WhiteElo \"2724\"]\r\n[BlackElo \"2648\"]\r\n[PlyCount \"59\"]\r\n[EventDate \"2014.05.07\"]\r\n[EventType \"schev\"]\r\n[EventRounds \"4\"]\r\n[EventCountry \"POL\"]\r\n1. d4 Nf6 2. c4 e6 3. Nc3 Bb4 4. Qc2 O-O 5. Nf3 d6 6. Bd2 c5 7. dxc5 dxc5 8. a3\r\nBa5 9. e3 Nc6 10. Bd3 Qe7 11. O-O-O Bd7 12. Rhg1 Rfd8 13. g4 g6 14. h4 Be8 15.\r\nh5 a6 16. hxg6 fxg6 17. g5 Nh5 18. Ne4 b5 19. Bxa5 Nxa5 20. Ne5 b4 21. axb4\r\ncxb4 22. Be2 Nc6 23. Ng4 Rxd1+ 24. Rxd1 Rd8 25. Rh1 Kh8 26. Ngf6 Nxf6 27. Nxf6\r\nh5 28. Bxh5 gxh5 29. Nxh5 Qxg5 30. Nf4+ 1-0"\,"pieceSymbols":"native"\,"navigationBoard":"above"\,"showFlipButton":true\,"showDownloadButton":true\,"navigationBoardOptions":{"squareSize":32\,"showCoordinates":true\,"colorset":"original"\,"pieceset":"cburnett"\,"animationSpeed":200\,"showMoveArrow":true}\,"diagramOptions":{"squareSize":32\,"showCoordinates":true\,"colorset":"original"\,"pieceset":"cburnett"\,"animationSpeed":200\,"showMoveArrow":true}});\n		});\n	\n\n\n \n\n  \n
URL:https://thechesspedia.net/day/may-9/
CATEGORIES:May
ATTACH;FMTTYPE=image/png:https://thechesspedia.net/wp-content/uploads/2016/07/may-9.png
END:VEVENT
END:VCALENDAR