
BEGIN:VCALENDAR
VERSION:2.0
PRODID:-//The Chesspedia - ECPv5.1.2.1//NONSGML v1.0//EN
CALSCALE:GREGORIAN
METHOD:PUBLISH
X-WR-CALNAME:The Chesspedia
X-ORIGINAL-URL:https://thechesspedia.net
X-WR-CALDESC:Events for The Chesspedia
BEGIN:VTIMEZONE
TZID:UTC
BEGIN:STANDARD
TZOFFSETFROM:+0000
TZOFFSETTO:+0000
TZNAME:UTC
DTSTART:20160101T000000
END:STANDARD
END:VTIMEZONE
BEGIN:VEVENT
DTSTART;VALUE=DATE:20160504
DTEND;VALUE=DATE:20160505
DTSTAMP:20260422T020736
CREATED:20170503T082356Z
LAST-MODIFIED:20170503T124348Z
UID:19697-1462320000-1462406399@thechesspedia.net
SUMMARY:May 4
DESCRIPTION:QUOTE OF THE DAY\n\nChess is a scientific game and its literature ought to be placed on the basis of the strictest truthfulness\, which is the foundation of all scientific research.- W. Steinitz\nBIRTHS \nJules Arnous de Riviere (1830-11.09.1905)\, the strongest French player from the late 1850s through the late 1870s who played without success a match with Paul Murphy.\nEmanuel Schiffers (1850-12.12.1904)\, a Russian Master who held the title of Russian champion for 10 years.\nHarald Malmgren (1904-15.02.1957)\, a Swedish Correspondence Grandmaster who finished 2nd in the 1st World Correspondence Chess Championship (1950).\nIlya Kan (1909-12.12.1978)\, a Soviet International Master who was known his contribution in the development of the theory in the Sicilian Defence.\nSilvino Garcia (1944)\, The first Cuban Grandmaster who was Cuban Champion in 1968\, 1970\, 1973 and 1979-80.\nJoseph Gallagher (1964 )\, a Swiss-English Grandmaster and author who won both Swiss and British Championships\nBoris Alterman (1970)\, an Israeli Grandmaster and FIDE Senior Trainer born in Ukraine. Computer-analyst and coach. Soviet U20 Champion in 1990.\nToni Najdoski (1970)\, a Macedonian Grandmaster.\nSergei Ovsejevitsch (1974)\, a Ukrainian Grandmaster.\nDaniel Gormally (1976)\, an English Grandmaster who was in 2005 and 2006 a member of the national team.\nEmmanuel Bricard (1966)\, a French Grandmaster who was French Champion in 1993.\nOgnjen Jovanic (1978)\, a Croatian Grandmaster\nTamir Nabaty (1991)\, an Israeli Grandmaster who won the 2013 Israeli Championship.\nGabor Papp (1987)\, a Hungarian Grandmaster who was twice national Youth Champion. \nCHESS EVENTS \n2014 04.05 In Singapore\, Munkhba yar Gijir from Mongolia became the 2014 World Amateur Champion. \nWORLD EVENTS \n1776 Rhode Island declared its freedom from England\, two months before the Declaration of Independence was adopted.\n1814 Napoleon Bonaparte disembarked at Portoferraio on the island of Elba in the Mediterranean.\n1814 Bourbon reign was restored in France. Louis XVIII was crowned as successor to his guillotined brother.\n1904 The United States took over the construction of the Panama Canal.\n1924 Fascists and communists gained power in the German Republic elections.\n1930 In India Mahatma Gandhi was arrested by the British.\n1932 Mobster Al Capone\, convicted of income-tax evasion\, entered the federal penitentiary in Atlanta. Capone was later transferred to Alcatraz Island in San Francisco Bay.\n1979 Margaret Thatcher (b.1925)\, leader of the Conservative Party\, was sworn in as Britain’s first female prime minister. She continued in office for 3 terms until 1990.\n1980 Marshal Josip Broz Tito (b.1892)\, Communist dictator of Yugoslavia (1943-1980)\, died three days before his 88th birthday.\n(Source: Timeline) \nGAME OF THE DAY \n\n\n \n\n\n	\n				[Event "FRA-chT Top 16 GpB"]\n[Site "Port Barcares"]\n[Date "2005.05.04"]\n[Round "8"]\n[White "Kazhgaleyev\, Murtas"]\n[Black "Nisipeanu\, Liviu Dieter"]\n[Result "0-1"]\n[ECO "A56"]\n[WhiteElo "2600"]\n[BlackElo "2670"]\n[PlyCount "64"]\n[EventDate "2005.05.04"]\n[EventType "team"]\n[EventRounds "11"]\n[EventCountry "FRA"]\n1. d4 Nf6 2. c4 c5 3. d5 e5 4. Nc3 d6 5. e4 Be7 6. h3 Nbd7 7. Be3 h5 8. Bd3 h4\n9. Nf3 Nh5 10. Ne2 Nf8 11. Qd2 a6 12. O-O-O Nf6 13. Kb1 Ng6 14. Nh2 Rb8 15. f4\nexf4 16. Bxf4 b5 17. cxb5 axb5 18. Nf3 Nd7 19. Bh2 Nde5 20. Nf4 Nxf4 21. Bxf4\nNxd3 22. Qxd3 O-O 23. e5 Ra8 24. exd6 Bf6 25. Be5 g6 26. Ka1 Bf5 27. Qc3 Bxe5\n28. Nxe5 Qxd6 29. Nc6 Rxa2+ 30. Kxa2 Ra8+ 31. Na5 b4 32. Qc1 b3+ 0-1\n				\n			You must activate JavaScript to enhance chess game visualization.		\n	\n	\n	\n		jQuery(document).ready(function($) {\n						$.chessgame.navigationButtonClass  = 'rpbchessboard-jQuery-enableSmoothness';\n			$.chessgame.navigationFrameClass   = 'wp-dialog';\n			$.chessgame.navigationFrameOptions = {"squareSize":32\,"showCoordinates":true\,"colorset":"original"\,"pieceset":"cburnett"\,"animationSpeed":200\,"showMoveArrow":true};\n			var selector = '#' + "rpbchessboard-69e82d68c6a77-1" + ' .rpbchessboard-chessgameAnchor';\n			$(selector).removeClass('rpbchessboard-chessgameAnchor').chessgame({"pgn":"[Event \"FRA-chT Top 16 GpB\"]\r\n[Site \"Port Barcares\"]\r\n[Date \"2005.05.04\"]\r\n[Round \"8\"]\r\n[White \"Kazhgaleyev\, Murtas\"]\r\n[Black \"Nisipeanu\, Liviu Dieter\"]\r\n[Result \"0-1\"]\r\n[ECO \"A56\"]\r\n[WhiteElo \"2600\"]\r\n[BlackElo \"2670\"]\r\n[PlyCount \"64\"]\r\n[EventDate \"2005.05.04\"]\r\n[EventType \"team\"]\r\n[EventRounds \"11\"]\r\n[EventCountry \"FRA\"]\r\n1. d4 Nf6 2. c4 c5 3. d5 e5 4. Nc3 d6 5. e4 Be7 6. h3 Nbd7 7. Be3 h5 8. Bd3 h4\r\n9. Nf3 Nh5 10. Ne2 Nf8 11. Qd2 a6 12. O-O-O Nf6 13. Kb1 Ng6 14. Nh2 Rb8 15. f4\r\nexf4 16. Bxf4 b5 17. cxb5 axb5 18. Nf3 Nd7 19. Bh2 Nde5 20. Nf4 Nxf4 21. Bxf4\r\nNxd3 22. Qxd3 O-O 23. e5 Ra8 24. exd6 Bf6 25. Be5 g6 26. Ka1 Bf5 27. Qc3 Bxe5\r\n28. Nxe5 Qxd6 29. Nc6 Rxa2+ 30. Kxa2 Ra8+ 31. Na5 b4 32. Qc1 b3+ 0-1"\,"pieceSymbols":"native"\,"navigationBoard":"above"\,"showFlipButton":true\,"showDownloadButton":true\,"navigationBoardOptions":{"squareSize":32\,"showCoordinates":true\,"colorset":"original"\,"pieceset":"cburnett"\,"animationSpeed":200\,"showMoveArrow":true}\,"diagramOptions":{"squareSize":32\,"showCoordinates":true\,"colorset":"original"\,"pieceset":"cburnett"\,"animationSpeed":200\,"showMoveArrow":true}});\n		});\n	\n\n\n \n\n
URL:https://thechesspedia.net/day/may-4/
CATEGORIES:May
ATTACH;FMTTYPE=image/png:https://thechesspedia.net/wp-content/uploads/2016/07/may-4.png
END:VEVENT
END:VCALENDAR