
BEGIN:VCALENDAR
VERSION:2.0
PRODID:-//The Chesspedia - ECPv5.1.2.1//NONSGML v1.0//EN
CALSCALE:GREGORIAN
METHOD:PUBLISH
X-WR-CALNAME:The Chesspedia
X-ORIGINAL-URL:https://thechesspedia.net
X-WR-CALDESC:Events for The Chesspedia
BEGIN:VTIMEZONE
TZID:UTC
BEGIN:STANDARD
TZOFFSETFROM:+0000
TZOFFSETTO:+0000
TZNAME:UTC
DTSTART:20160101T000000
END:STANDARD
END:VTIMEZONE
BEGIN:VEVENT
DTSTART;VALUE=DATE:20160503
DTEND;VALUE=DATE:20160504
DTSTAMP:20260422T003525
CREATED:20170503T082036Z
LAST-MODIFIED:20170502T133928Z
UID:19690-1462233600-1462319999@thechesspedia.net
SUMMARY:May 3
DESCRIPTION:QUOTE OF THE DAY\n\nThere is no room for gallantry in chess.- Irving Chernev\nBIRTHS \nStefan Fazekas (23.03.1898-1967)\, a British International Master and International Correspondence Master who became british Champion in 1947.\nNona Gaprindashvili (1941)\, a Georgian Grandmaster and Woman Grandmaster who became Women’s World Champion (1962-1978) and many times Women’s Senior World Champion.\nJose Luis Fernandez Garcia (1954)\, a Spanish Grandmaster who was Spanish Champion in 1989.\nKlaus Berg (1960) a Danish International Master.\nMikhail Kobalia (1978)\, a Russian Grandmaster and coach who won the title of  European Youth U16 Champion in 2001.\nTuvshintugs Batchimeg (1986)\, a Mongolian International Master and Woman Grandmaster. \nDEATHS \nFlorencio Campomanes (22.02.1927-2010)\, Filipino Master and FIDE President (1982-1995). \nWORLD EVENTS \n1481 The largest of three earthquakes strikes the island of Rhodes and causes an estimated 30\,000 casualties.\n1558 Ferdinand I officially appointed Holy Roman Emperor after his brother Charles abdicated in 1556\n1802 Washington\, D.C. is incorporated as a city.\n1830 The Canterbury and Whitstable Railway is opened; it is the first steam-hauled passenger railway to issue season tickets and includes a tunnel.\n1860 Charles XV of Sweden–Norway is crowned king of Sweden.\n1921 The Partition of Ireland; The Government of Ireland Act 1920 is passed\, dividing Ireland into Northern Ireland and Southern Ireland.\n1945 WWII: German ship “Cap Arcona” laden with prisoners sunk by Royal Air Force in East Sea\, 5\,800 killed – one of largest maritime losses of life.\n(Source: Wikipedia and Onthisday) \nGAME OF THE DAY \n\n\n \n\n\n	\n				[Event "Cambridge Springs"]\n[Site "Cambridge Springs"]\n[Date "1904.??.??"]\n[Round "6"]\n[White "Chigorin\, Mikhail"]\n[Black "Janowski\, Dawid Markelowicz"]\n[Result "0-1"]\n[ECO "C50"]\n[PlyCount "86"]\n[EventDate "1904.04.25"]\n[EventType "tourn"]\n[EventRounds "15"]\n[EventCountry "USA"]\n1. e4 e5 2. Nf3 Nc6 3. Bc4 Bc5 4. Nc3 Nf6 5. d3 d6 6. Be3 Bb6 7. Qd2 Bg4 8. Ng5\nBh5 9. f3 h6 10. Nh3 Nd4 11. Bxd4 Bxd4 12. Ne2 Bb6 13. O-O-O d5 14. exd5 Nxd5\n15. d4 O-O 16. Rhe1 Bg6 17. f4 e4 18. Ng3 f5 19. Bb3 a5 20. a4 Kh8 21. Kb1 c6\n22. Nf1 Bh5 23. Rc1 Nb4 24. Ng3 Bf7 25. Bxf7 Rxf7 26. Red1 Qd5 27. b3 Rd8 28.\nNe2 Rfd7 29. Qe3 Qf7 30. Nf2 Nd5 31. Qh3 Bc7 32. Qh4 b5 33. axb5 cxb5 34. g4\nNxf4 35. Ng3 a4 36. Nxf5 axb3 37. Rd2 b2 38. Kxb2 Qc4 39. Ra1 Qb4+ 40. Kc1 Ng6\n41. Qh3 Bf4 42. Nxe4 Rxd4 43. c3 Rxe4 0-1\n				\n			You must activate JavaScript to enhance chess game visualization.		\n	\n	\n	\n		jQuery(document).ready(function($) {\n						$.chessgame.navigationButtonClass  = 'rpbchessboard-jQuery-enableSmoothness';\n			$.chessgame.navigationFrameClass   = 'wp-dialog';\n			$.chessgame.navigationFrameOptions = {"squareSize":32\,"showCoordinates":true\,"colorset":"original"\,"pieceset":"cburnett"\,"animationSpeed":200\,"showMoveArrow":true};\n			var selector = '#' + "rpbchessboard-69e817cda40fc-1" + ' .rpbchessboard-chessgameAnchor';\n			$(selector).removeClass('rpbchessboard-chessgameAnchor').chessgame({"pgn":"[Event \"Cambridge Springs\"]\r\n[Site \"Cambridge Springs\"]\r\n[Date \"1904.??.??\"]\r\n[Round \"6\"]\r\n[White \"Chigorin\, Mikhail\"]\r\n[Black \"Janowski\, Dawid Markelowicz\"]\r\n[Result \"0-1\"]\r\n[ECO \"C50\"]\r\n[PlyCount \"86\"]\r\n[EventDate \"1904.04.25\"]\r\n[EventType \"tourn\"]\r\n[EventRounds \"15\"]\r\n[EventCountry \"USA\"]\r\n1. e4 e5 2. Nf3 Nc6 3. Bc4 Bc5 4. Nc3 Nf6 5. d3 d6 6. Be3 Bb6 7. Qd2 Bg4 8. Ng5\r\nBh5 9. f3 h6 10. Nh3 Nd4 11. Bxd4 Bxd4 12. Ne2 Bb6 13. O-O-O d5 14. exd5 Nxd5\r\n15. d4 O-O 16. Rhe1 Bg6 17. f4 e4 18. Ng3 f5 19. Bb3 a5 20. a4 Kh8 21. Kb1 c6\r\n22. Nf1 Bh5 23. Rc1 Nb4 24. Ng3 Bf7 25. Bxf7 Rxf7 26. Red1 Qd5 27. b3 Rd8 28.\r\nNe2 Rfd7 29. Qe3 Qf7 30. Nf2 Nd5 31. Qh3 Bc7 32. Qh4 b5 33. axb5 cxb5 34. g4\r\nNxf4 35. Ng3 a4 36. Nxf5 axb3 37. Rd2 b2 38. Kxb2 Qc4 39. Ra1 Qb4+ 40. Kc1 Ng6\r\n41. Qh3 Bf4 42. Nxe4 Rxd4 43. c3 Rxe4 0-1"\,"pieceSymbols":"native"\,"navigationBoard":"above"\,"showFlipButton":true\,"showDownloadButton":true\,"navigationBoardOptions":{"squareSize":32\,"showCoordinates":true\,"colorset":"original"\,"pieceset":"cburnett"\,"animationSpeed":200\,"showMoveArrow":true}\,"diagramOptions":{"squareSize":32\,"showCoordinates":true\,"colorset":"original"\,"pieceset":"cburnett"\,"animationSpeed":200\,"showMoveArrow":true}});\n		});\n	\n\n\n \n\n  \n  \n
URL:https://thechesspedia.net/day/may-3/
CATEGORIES:May
ATTACH;FMTTYPE=image/png:https://thechesspedia.net/wp-content/uploads/2016/07/may-3.png
END:VEVENT
END:VCALENDAR