
BEGIN:VCALENDAR
VERSION:2.0
PRODID:-//The Chesspedia - ECPv5.1.2.1//NONSGML v1.0//EN
CALSCALE:GREGORIAN
METHOD:PUBLISH
X-WR-CALNAME:The Chesspedia
X-ORIGINAL-URL:https://thechesspedia.net
X-WR-CALDESC:Events for The Chesspedia
BEGIN:VTIMEZONE
TZID:UTC
BEGIN:STANDARD
TZOFFSETFROM:+0000
TZOFFSETTO:+0000
TZNAME:UTC
DTSTART:20160101T000000
END:STANDARD
END:VTIMEZONE
BEGIN:VEVENT
DTSTART;VALUE=DATE:20160529
DTEND;VALUE=DATE:20160530
DTSTAMP:20260422T003517
CREATED:20170529T085639Z
LAST-MODIFIED:20170601T084044Z
UID:19736-1464480000-1464566399@thechesspedia.net
SUMMARY:May 29
DESCRIPTION:QUOTE OF THE DAY\n\nBotvinnik and Tal are among the best; I also like Spassky\, but I think Petrosian is better than all of them. His weakness is too many draws\, even against players he could beat easily. Maybe he lacks self-confidence.- Robert Fischer\, 1960\nBIRTHS \nHenry Thomas Buckle ( (24.11.1821–1862)\, a Brish Master and historian.\nEgon Ditt (1931-2005)\, a German IMC\, President of German Chess Federation and FIDE Officer.\nNikola Padevski (1933)\, a Bulgarian Grandmaster.\nLucas Brunner (1967) a Swiss Grandmaster who won the Swiss Championship in 1994.\nBabakuli Annakov (1972)\, a US Grandmaster and coach born in Turkmenistan.\nAnastazia Karlovich (1982)\, a Ukrainian Woman Grandmaster and FIDE Press Officer.\nZhongyi Tan (1991)\, a Chinese Grandmaster and Woman Grandmaster who became the 2017 Women’s Champion.\nBayarsaikhan Gundavaa (1989)\, a Mongolian Grandmaster.\nHjorvar Steinn Gretarsson (1993)\, an Icelandic Grandmaster. \nDEATHS \nWalther von Holzhausen (1876-09.08.1935)\, a German Master and problemist.\nGeza Maroczy (03.03.1870)\, a Hungarian Master\, one of the best world player of his time.\nFred Reinfeld (27.01.1910-1964)\, an American Master and chess writer.\nStefano Tatai (23.03.1938-2017)\, an Italian Grandmaster who eleven titles of Italian Champion. \nWORLD EVENTS \n526 Antioch\, Turkey\, was struck by an earthquake and about 250\,000 died.\n1453 Constantinople fell to Muhammad II\, ending the Byzantine Empire.\n1848 Wisconsin became the 30th state of the union.\n1874 The present constitution of Switzerland took effect.\n1943 Churchill\, Marshall and Eisenhower met in the Confederacy of Algiers.\n1953 Mount Everest was conquered as Edmund Hillary of New Zealand and Tensing Norgay\, a Sherpa of Nepal\, became the first climbers to reach the summit.\n1985 At Heysel Stadium rioting erupted between British and Italian spectators at the European Cup soccer final in Brussels\, Belgium. 39 people were killed when rioting broke out and a wall separating British and Italian soccer fans collapsed.\n1994 Hungary’s Socialist Party won the parliamentary election. Socialist Prime Minister Gyula Horn was elected to lead the Socialist-Free Democrat coalition.\n2000 In Fiji Commodore Frank Bainimarama seized power to restore order following the coup\n(Source: Timeline) \nGAME OF THE DAY \n\n\n \n\n\n	\n				[Event "Nis"]\n[Site "Nis"]\n[Date "2012.05.29"]\n[Round "5"]\n[White "Maksimovic\, Branimir"]\n[Black "Petkov\, Vladimir"]\n[Result "0-1"]\n[ECO "A01"]\n[WhiteElo "2455"]\n[BlackElo "2512"]\n[PlyCount "42"]\n[EventDate "2012.05.26"]\n[EventType "tourn"]\n[EventRounds "9"]\n[EventCountry "SRB"]\n[EventCategory "8"]\n\n1. b3 e5 2. Bb2 Nc6 3. e3 Nf6 4. Bb5 Bd6 5. Bxc6 dxc6 6. d3 O-O 7. Nd2 Qe7 8.\nNe2 Ba3 9. Qc1 Bxb2 10. Qxb2 a5 11. a3 c5 12. Nc3 Ra6 13. O-O Ng4 14. Nd5 Qd8\n15. e4 Rg6 16. Nf3 c6 17. Ne3 Qf6 18. Nxg4 Bxg4 19. Qxe5 Bxf3 20. Qxf6 Rxg2+\n21. Kh1 gxf6 0-1\n				\n			You must activate JavaScript to enhance chess game visualization.		\n	\n	\n	\n		jQuery(document).ready(function($) {\n						$.chessgame.navigationButtonClass  = 'rpbchessboard-jQuery-enableSmoothness';\n			$.chessgame.navigationFrameClass   = 'wp-dialog';\n			$.chessgame.navigationFrameOptions = {"squareSize":32\,"showCoordinates":true\,"colorset":"original"\,"pieceset":"cburnett"\,"animationSpeed":200\,"showMoveArrow":true};\n			var selector = '#' + "rpbchessboard-69e817c5918be-1" + ' .rpbchessboard-chessgameAnchor';\n			$(selector).removeClass('rpbchessboard-chessgameAnchor').chessgame({"pgn":"[Event \"Nis\"]\r\n[Site \"Nis\"]\r\n[Date \"2012.05.29\"]\r\n[Round \"5\"]\r\n[White \"Maksimovic\, Branimir\"]\r\n[Black \"Petkov\, Vladimir\"]\r\n[Result \"0-1\"]\r\n[ECO \"A01\"]\r\n[WhiteElo \"2455\"]\r\n[BlackElo \"2512\"]\r\n[PlyCount \"42\"]\r\n[EventDate \"2012.05.26\"]\r\n[EventType \"tourn\"]\r\n[EventRounds \"9\"]\r\n[EventCountry \"SRB\"]\r\n[EventCategory \"8\"]\r\n\r\n1. b3 e5 2. Bb2 Nc6 3. e3 Nf6 4. Bb5 Bd6 5. Bxc6 dxc6 6. d3 O-O 7. Nd2 Qe7 8.\r\nNe2 Ba3 9. Qc1 Bxb2 10. Qxb2 a5 11. a3 c5 12. Nc3 Ra6 13. O-O Ng4 14. Nd5 Qd8\r\n15. e4 Rg6 16. Nf3 c6 17. Ne3 Qf6 18. Nxg4 Bxg4 19. Qxe5 Bxf3 20. Qxf6 Rxg2+\r\n21. Kh1 gxf6 0-1"\,"pieceSymbols":"native"\,"navigationBoard":"above"\,"showFlipButton":true\,"showDownloadButton":true\,"navigationBoardOptions":{"squareSize":32\,"showCoordinates":true\,"colorset":"original"\,"pieceset":"cburnett"\,"animationSpeed":200\,"showMoveArrow":true}\,"diagramOptions":{"squareSize":32\,"showCoordinates":true\,"colorset":"original"\,"pieceset":"cburnett"\,"animationSpeed":200\,"showMoveArrow":true}});\n		});\n	\n\n\n \n\n
URL:https://thechesspedia.net/day/may-29/
CATEGORIES:May
ATTACH;FMTTYPE=image/png:https://thechesspedia.net/wp-content/uploads/2016/07/may-29.png
END:VEVENT
END:VCALENDAR