
BEGIN:VCALENDAR
VERSION:2.0
PRODID:-//The Chesspedia - ECPv5.1.2.1//NONSGML v1.0//EN
CALSCALE:GREGORIAN
METHOD:PUBLISH
X-WR-CALNAME:The Chesspedia
X-ORIGINAL-URL:https://thechesspedia.net
X-WR-CALDESC:Events for The Chesspedia
BEGIN:VTIMEZONE
TZID:UTC
BEGIN:STANDARD
TZOFFSETFROM:+0000
TZOFFSETTO:+0000
TZNAME:UTC
DTSTART:20160101T000000
END:STANDARD
END:VTIMEZONE
BEGIN:VEVENT
DTSTART;VALUE=DATE:20160518
DTEND;VALUE=DATE:20160519
DTSTAMP:20260422T003516
CREATED:20160712T084351Z
LAST-MODIFIED:20161028T081111Z
UID:19719-1463529600-1463615999@thechesspedia.net
SUMMARY:May 18
DESCRIPTION:QUOTE OF THE DAY\n\nI believe that every world champion has a greatness of his own.- Kiril Georgiev\, 2017\n
URL:https://thechesspedia.net/day/may-18/
CATEGORIES:May
ATTACH;FMTTYPE=image/png:https://thechesspedia.net/wp-content/uploads/2016/07/may-18.png
END:VEVENT
END:VCALENDAR