
BEGIN:VCALENDAR
VERSION:2.0
PRODID:-//The Chesspedia - ECPv5.1.2.1//NONSGML v1.0//EN
CALSCALE:GREGORIAN
METHOD:PUBLISH
X-WR-CALNAME:The Chesspedia
X-ORIGINAL-URL:https://thechesspedia.net
X-WR-CALDESC:Events for The Chesspedia
BEGIN:VTIMEZONE
TZID:UTC
BEGIN:STANDARD
TZOFFSETFROM:+0000
TZOFFSETTO:+0000
TZNAME:UTC
DTSTART:20160101T000000
END:STANDARD
END:VTIMEZONE
BEGIN:VEVENT
DTSTART;VALUE=DATE:20160325
DTEND;VALUE=DATE:20160326
DTSTAMP:20260422T003614
CREATED:20170322T071641Z
LAST-MODIFIED:20170322T101049Z
UID:19635-1458864000-1458950399@thechesspedia.net
SUMMARY:March 25
DESCRIPTION:QUOTE OF THE DAY\n\nWho was the greatest chess player? If chess is an art\, Alekhine. If chess is a science\, Capablanca. If chess is a struggle\, Lasker.- Saviely Tartakower\n\nBIRTHS \nMarta Litinskaya (1949)\, a Ukrainian Women Grandmaster (1976) who was World Senior Women’s Champion in 2002 and 2003.\nAlexander Kochiev (1956) a Russian Grandmaster who was European U20 Champion in 1975.\nDimitri Tyomkin (1977)\, a Canadian-Israeli Grandmaster who was European U20 Champion in 1997.\nSubbaraman Vijayalakshmi (1979)\, an Indian International Master and Woman Grandmaster who won more or less all girls and women’s national titles.\nTian Tian (1983)\, a Chinese Woman Grandmaster and coach.\nElena Partac (1984)\, a Moldavian Woman Grandmaster living in France.\nConstantin Lupulescu (1984)\, a Romanian Grandmaster who won the Romanian Championship in 2007\, 2010\, 2011 and 2015.\nRichard Rapport (1996)\, a Hungarian Grandmaster\, the best Hungarian rated since 2016 who became the youngest ever Hungarian Grandmaster at the age of 13 years\, 11 months and 6 days. \nCHESS EVENTS \n1956 A monument to Alexander Alekhine was inaugurated by the FIDE President in Paris. This day was chosen by FIDE and many Federations to commemorate other World Champions that have passed away.\n2001 The FIDE Presidential Board resolved to make the use of the new time control of 40 moves in 75 minutes\, 15 minutes for the remainder of the game\, with an increment of 30 seconds per move from move 1\, mandatory for the World Championship events. \nWORLD EVENTS \n1802 The Treaty of Amiens is signed as a “Definitive Treaty of Peace” between France and the United Kingdom.\n1821 Greece gains independence from Turkey (National Day)\n1918 The Belarusian People’s Republic is established.\n1924 On the anniversary of Greek Independence\, Alexandros Papanastasiou proclaims the Second Hellenic Republic.\n1957 The European Economic Community is established in West Germany\, France\, Italy\, Belgium\, Netherlands and Luxembourg as the first members.\n1970 Concorde makes its 1st supersonic flight (700 MPH/1\,127 KPH)\n1975 Faisal of Saudi Arabia is shot and killed by a mentally ill nephew.\n1979 The first fully functional Space Shuttle orbiter\, Columbia\, is delivered to the John F. Kennedy Space Center to be prepared for its first launch. \nGAME OF THE DAY \n\n\n \n\n\n	\n				[Event "Amber-rapid 19th"]\n[Site "Nice"]\n[Date "2010.03.25"]\n[Round "11"]\n[White "Ivanchuk\, Vassily"]\n[Black "Gelfand\, Boris"]\n[Result "1-0"]\n[ECO "C42"]\n[WhiteElo "2748"]\n[BlackElo "2750"]\n[PlyCount "63"]\n[EventDate "2010.03.13"]\n[EventType "tourn (rapid)"]\n[EventRounds "11"]\n[EventCountry "FRA"]\n[EventCategory "20"]\n\n1. e4 e5 2. Nf3 Nf6 3. Nxe5 d6 4. Nf3 Nxe4 5. Nc3 Nxc3 6. dxc3 Be7 7. Be3 O-O\n8. Qd2 Nd7 9. O-O-O Re8 10. h4 c6 11. Kb1 Qa5 12. h5 h6 13. Bd3 Bf8 14. g4 Nf6\n15. g5 Be6 16. a3 Ng4 17. gxh6 Qd5 18. Qe2 Qa2+ 19. Kc1 Qa1+ 20. Kd2 Qxb2 21.\nRdg1 Bd7 22. Rxg4 Bxg4 23. Ng5 Be6 24. Bd4 Qa2 25. Rg1 c5 26. Bh7+ Kh8 27.\nhxg7+ Bxg7 28. Nxf7+ Bxf7 29. Bxg7+ Kxh7 30. Qd3+ Kg8 31. Bf6+ Kf8 32. Qxd6+\n1-0\n				\n			You must activate JavaScript to enhance chess game visualization.		\n	\n	\n	\n		jQuery(document).ready(function($) {\n						$.chessgame.navigationButtonClass  = 'rpbchessboard-jQuery-enableSmoothness';\n			$.chessgame.navigationFrameClass   = 'wp-dialog';\n			$.chessgame.navigationFrameOptions = {"squareSize":32\,"showCoordinates":true\,"colorset":"original"\,"pieceset":"cburnett"\,"animationSpeed":200\,"showMoveArrow":true};\n			var selector = '#' + "rpbchessboard-69e817fe8a344-1" + ' .rpbchessboard-chessgameAnchor';\n			$(selector).removeClass('rpbchessboard-chessgameAnchor').chessgame({"pgn":"[Event \"Amber-rapid 19th\"]\r\n[Site \"Nice\"]\r\n[Date \"2010.03.25\"]\r\n[Round \"11\"]\r\n[White \"Ivanchuk\, Vassily\"]\r\n[Black \"Gelfand\, Boris\"]\r\n[Result \"1-0\"]\r\n[ECO \"C42\"]\r\n[WhiteElo \"2748\"]\r\n[BlackElo \"2750\"]\r\n[PlyCount \"63\"]\r\n[EventDate \"2010.03.13\"]\r\n[EventType \"tourn (rapid)\"]\r\n[EventRounds \"11\"]\r\n[EventCountry \"FRA\"]\r\n[EventCategory \"20\"]\r\n\r\n1. e4 e5 2. Nf3 Nf6 3. Nxe5 d6 4. Nf3 Nxe4 5. Nc3 Nxc3 6. dxc3 Be7 7. Be3 O-O\r\n8. Qd2 Nd7 9. O-O-O Re8 10. h4 c6 11. Kb1 Qa5 12. h5 h6 13. Bd3 Bf8 14. g4 Nf6\r\n15. g5 Be6 16. a3 Ng4 17. gxh6 Qd5 18. Qe2 Qa2+ 19. Kc1 Qa1+ 20. Kd2 Qxb2 21.\r\nRdg1 Bd7 22. Rxg4 Bxg4 23. Ng5 Be6 24. Bd4 Qa2 25. Rg1 c5 26. Bh7+ Kh8 27.\r\nhxg7+ Bxg7 28. Nxf7+ Bxf7 29. Bxg7+ Kxh7 30. Qd3+ Kg8 31. Bf6+ Kf8 32. Qxd6+\r\n1-0"\,"pieceSymbols":"native"\,"navigationBoard":"above"\,"showFlipButton":true\,"showDownloadButton":true\,"navigationBoardOptions":{"squareSize":32\,"showCoordinates":true\,"colorset":"original"\,"pieceset":"cburnett"\,"animationSpeed":200\,"showMoveArrow":true}\,"diagramOptions":{"squareSize":32\,"showCoordinates":true\,"colorset":"original"\,"pieceset":"cburnett"\,"animationSpeed":200\,"showMoveArrow":true}});\n		});\n	\n\n\n \n\n
URL:https://thechesspedia.net/day/march-25/
CATEGORIES:March
ATTACH;FMTTYPE=image/png:https://thechesspedia.net/wp-content/uploads/2016/07/mar-25.png
END:VEVENT
END:VCALENDAR