
BEGIN:VCALENDAR
VERSION:2.0
PRODID:-//The Chesspedia - ECPv5.1.2.1//NONSGML v1.0//EN
CALSCALE:GREGORIAN
METHOD:PUBLISH
X-WR-CALNAME:The Chesspedia
X-ORIGINAL-URL:https://thechesspedia.net
X-WR-CALDESC:Events for The Chesspedia
BEGIN:VTIMEZONE
TZID:UTC
BEGIN:STANDARD
TZOFFSETFROM:+0000
TZOFFSETTO:+0000
TZNAME:UTC
DTSTART:20160101T000000
END:STANDARD
END:VTIMEZONE
BEGIN:VEVENT
DTSTART;VALUE=DATE:20160324
DTEND;VALUE=DATE:20160325
DTSTAMP:20260422T020744
CREATED:20170321T071521Z
LAST-MODIFIED:20170321T120612Z
UID:19633-1458777600-1458863999@thechesspedia.net
SUMMARY:March 24
DESCRIPTION:QUOTE OF THE DAY\n\nI believe that every world champion has a greatness of his own.- Kiril Georgiev\, 2017\nBIRTHS \nGeorge Henry Mackenzie (1837-14.04.1891) a Scottish-American Master who was one of the strongest players in the 1880’s.\nVasily Platov (1881 – 17-07-1952)\, a Russian editor of the chess composition columns in the chess magazines Shakhmatnoe obozrenie (1909-1910) and Shakhmaty (1922-1929).\nVasily Smyslov (1921-27.03.2010)\, a Russian Grandmaster who was World Chess Champion from 1957 to 1958.\nChristopher John Feather (24-03-1947)\, a British chess composer and helpmate/fairy expert.\nLitinskaya-shul Marta (1949)\, a Ukrainian Women Grandmaster and Mathematician who was World Senior Women’s Champion in 2002 and 2003.\nIgor Shvyrjov (1955)\, an Estonia Grandmaster and FIDE Trainer.\nAlexander Kochiev (1956)\, a Russian grandmaster\, the winner of the European Youth Championship in 1975/76.\nYasser Seirawan (1960)\, an American Grandmaster\, chess author and commentator born in Syria who is a four-time United States Champion and 1979 World Junior Championship.\nIvan Morovic Fernandez (1963)\, a Chilean Grandmaster who won the Pan American Junior Championship.\nMonika Bobrowska-Socko (1978)\, the only Polish Grandmaster and Woman Grandmaster who won the Polish women’s championship seven times. \nDEATH \nAlexander Aleksandrovich Alekhine  (31.10.1892- 1946) a Russian and French player considered one of the greatest chess players ever who became the fourth World Chess Champion. \nWORLD EVENTS  \n1720 Count Frederick of Hesse-Kassel is elected King of Sweden by the Riksdag of the Estates.\n1721 Johann Sebastian Bach dedicated six concertos to Margrave Christian Ludwig of Brandenburg-Schwedt\, now commonly called the Brandenburg Concertos\, BWV 1046–1051.\n1801 Aleksandr Pavlovich Romanov becomes Tsar Alexander I of Russia\n1896 A. S. Popov makes the first radio signal transmission in history.\n1921 The 1921 Women’s Olympiad begins in Monte Carlo\, first international women’s sports event.\n1975 Muhammad Ali TKOs Chuck Wepner in 15 for heavyweight boxing title\n1976 Argentine President Isabel Martínez de Perón is deposed in a military coup\n1999 Kosovo War: NATO commences aerial bombardment against Yugoslavia\, marking the first time NATO has attacked a sovereign country.\n(Source: Wikipedia-Onthisday) \nGAME OF THE DAY \n\n\n \n\n\n	\n				[Event "Foxwoods op 07th"]\n[Site "Mashantucket"]\n[Date "2005.03.24"]\n[Round "3"]\n[White "Nakamura\, Hikaru"]\n[Black "Shabalov\, Alexander"]\n[Result "1-0"]\n[ECO "D35"]\n[WhiteElo "2613"]\n[BlackElo "2607"]\n[PlyCount "59"]\n[EventDate "2005.03.23"]\n[EventType "swiss"]\n[EventRounds "9"]\n[EventCountry "USA"]\n1. c4 e6 2. Nc3 d5 3. d4 Nf6 4. cxd5 exd5 5. Bg5 c6 6. e3 Bd6 7. Bd3 O-O 8. Nf3\nRe8 9. Qc2 h6 10. Bh4 Bg4 11. O-O-O Nbd7 12. h3 Bxf3 13. gxf3 Qa5 14. Kb1 Be7\n15. Rhg1 Rad8 16. Rg2 Kh8 17. Rdg1 Rg8 18. e4 dxe4 19. fxe4 Nf8 20. Bc4 g5 21.\nf4 Ng6 22. Be1 Nxf4 23. Nd5 Qxe1+ 24. Rxe1 cxd5 25. exd5 Bb4 26. Rf1 Rge8 27.\na3 Bd6 28. Qf5 N6h5 29. Rgg1 Kg7 30. h4 1-0\n				\n			You must activate JavaScript to enhance chess game visualization.		\n	\n	\n	\n		jQuery(document).ready(function($) {\n						$.chessgame.navigationButtonClass  = 'rpbchessboard-jQuery-enableSmoothness';\n			$.chessgame.navigationFrameClass   = 'wp-dialog';\n			$.chessgame.navigationFrameOptions = {"squareSize":32\,"showCoordinates":true\,"colorset":"original"\,"pieceset":"cburnett"\,"animationSpeed":200\,"showMoveArrow":true};\n			var selector = '#' + "rpbchessboard-69e82d70c0dcc-1" + ' .rpbchessboard-chessgameAnchor';\n			$(selector).removeClass('rpbchessboard-chessgameAnchor').chessgame({"pgn":"[Event \"Foxwoods op 07th\"]\r\n[Site \"Mashantucket\"]\r\n[Date \"2005.03.24\"]\r\n[Round \"3\"]\r\n[White \"Nakamura\, Hikaru\"]\r\n[Black \"Shabalov\, Alexander\"]\r\n[Result \"1-0\"]\r\n[ECO \"D35\"]\r\n[WhiteElo \"2613\"]\r\n[BlackElo \"2607\"]\r\n[PlyCount \"59\"]\r\n[EventDate \"2005.03.23\"]\r\n[EventType \"swiss\"]\r\n[EventRounds \"9\"]\r\n[EventCountry \"USA\"]\r\n1. c4 e6 2. Nc3 d5 3. d4 Nf6 4. cxd5 exd5 5. Bg5 c6 6. e3 Bd6 7. Bd3 O-O 8. Nf3\r\nRe8 9. Qc2 h6 10. Bh4 Bg4 11. O-O-O Nbd7 12. h3 Bxf3 13. gxf3 Qa5 14. Kb1 Be7\r\n15. Rhg1 Rad8 16. Rg2 Kh8 17. Rdg1 Rg8 18. e4 dxe4 19. fxe4 Nf8 20. Bc4 g5 21.\r\nf4 Ng6 22. Be1 Nxf4 23. Nd5 Qxe1+ 24. Rxe1 cxd5 25. exd5 Bb4 26. Rf1 Rge8 27.\r\na3 Bd6 28. Qf5 N6h5 29. Rgg1 Kg7 30. h4 1-0"\,"pieceSymbols":"native"\,"navigationBoard":"above"\,"showFlipButton":true\,"showDownloadButton":true\,"navigationBoardOptions":{"squareSize":32\,"showCoordinates":true\,"colorset":"original"\,"pieceset":"cburnett"\,"animationSpeed":200\,"showMoveArrow":true}\,"diagramOptions":{"squareSize":32\,"showCoordinates":true\,"colorset":"original"\,"pieceset":"cburnett"\,"animationSpeed":200\,"showMoveArrow":true}});\n		});\n	\n\n\n \n\n  \n  \n  \n  \n
URL:https://thechesspedia.net/day/march-24/
CATEGORIES:March
ATTACH;FMTTYPE=image/png:https://thechesspedia.net/wp-content/uploads/2016/07/mar-24.png
END:VEVENT
END:VCALENDAR