
BEGIN:VCALENDAR
VERSION:2.0
PRODID:-//The Chesspedia - ECPv5.1.2.1//NONSGML v1.0//EN
CALSCALE:GREGORIAN
METHOD:PUBLISH
X-WR-CALNAME:The Chesspedia
X-ORIGINAL-URL:https://thechesspedia.net
X-WR-CALDESC:Events for The Chesspedia
BEGIN:VTIMEZONE
TZID:UTC
BEGIN:STANDARD
TZOFFSETFROM:+0000
TZOFFSETTO:+0000
TZNAME:UTC
DTSTART:20160101T000000
END:STANDARD
END:VTIMEZONE
BEGIN:VEVENT
DTSTART;VALUE=DATE:20160321
DTEND;VALUE=DATE:20160322
DTSTAMP:20260422T003820
CREATED:20170320T070859Z
LAST-MODIFIED:20170320T074439Z
UID:19630-1458518400-1458604799@thechesspedia.net
SUMMARY:March 21
DESCRIPTION:QUOTE OF THE DAY\n\nKarpov Lost\, Kasparov Lost\, the Only One Who Remained Is Me …- Kirsan Ilyumzhinov\, 2014\nBIRTHS \nIgor Khenkin (1968)\, German Grandmaster born in Russia who was German Champion in 2011.\nZoltan Medvegy (1979)\, a Hungarian Grandmaster.\nAnuar Ismagambetov (1986) a Kazakh Grandmaster who plays for the national team since 2006.\nSwaminathan Soumya (1989)\, an Indian Woman Grandmaster who was  World Junior Girls’ Championship 2009 and Indian Women’s Champion in 2011.\nHomayoon Toufighi (1990)\, an Iranian Grandmaster who was Asian U18 Championship and few times Iranian Youth Champion. \nWORLD EVENTS \n1188 Emperor Antoku accedes to the throne of Japan.\n1413 Henry V becomes the King of England.\n1871 Otto von Bismarck is appointed Chancellor of the German Empire.\n1919 The Hungarian Soviet Republic is established becoming the first Communist government to be formed in Europe after the October Revolution in Russia.\n1935 Shah of Iran Reza Shah Pahlavi formally asks the international community to call Persia by its native name\, Iran.\n1939 Nazi-Germany demands Gdansk (Danzig) from Poland.\n1951 Julius & Ethel Rosenberg convicted of espionage.\n1963 Alcatraz Federal Penitentiary (in California) closes.\n1964 Beatles’ “She Loves You” single goes #1 in the US & stays #1 for 2 weeks.\n1980 US President Jimmy Carter announces a United States boycott of the 1980 Summer Olympics in Moscow to protest the Soviet war in Afghanistan.\n2006 The social media site Twitter is founded. \n(Source: Wikiepdai-Onthisday) \n\n\n \n\n\n	\n				[Event "EU-ch 13th"]\n[Site "Plovdiv"]\n[Date "2012.03.21"]\n[Round "2"]\n[White "Nyzhnyk\, Illya"]\n[Black "Giri\, Anish"]\n[Result "1-0"]\n[ECO "E04"]\n[WhiteElo "2585"]\n[BlackElo "2717"]\n[PlyCount "57"]\n[EventDate "2012.03.20"]\n[EventType "swiss"]\n[EventRounds "11"]\n[EventCountry "BUL"]\n\n1. d4 Nf6 2. c4 e6 3. Nf3 d5 4. Nc3 c6 5. g3 dxc4 6. Bg2 b5 7. Ne5 a6 8. a4 Bb7\n9. O-O Be7 10. axb5 axb5 11. Rxa8 Bxa8 12. Nxb5 cxb5 13. Bxa8 O-O 14. Bg2 Nd5\n15. f4 Bd6 16. e3 Bxe5 17. fxe5 Nc6 18. Qg4 Qd7 19. h4 Ncb4 20. h5 Nd3 21. h6\nf5 22. exf6 Rxf6 23. Bxd5 Rxf1+ 24. Kxf1 Qf7+ 25. Bf3 Nxc1 26. d5 Nd3 27. dxe6\nQe7 28. Bd5 Kf8 29. Qxg7+ 1-0\n				\n			You must activate JavaScript to enhance chess game visualization.		\n	\n	\n	\n		jQuery(document).ready(function($) {\n						$.chessgame.navigationButtonClass  = 'rpbchessboard-jQuery-enableSmoothness';\n			$.chessgame.navigationFrameClass   = 'wp-dialog';\n			$.chessgame.navigationFrameOptions = {"squareSize":32\,"showCoordinates":true\,"colorset":"original"\,"pieceset":"cburnett"\,"animationSpeed":200\,"showMoveArrow":true};\n			var selector = '#' + "rpbchessboard-69e8187c4976a-1" + ' .rpbchessboard-chessgameAnchor';\n			$(selector).removeClass('rpbchessboard-chessgameAnchor').chessgame({"pgn":"[Event \"EU-ch 13th\"]\r\n[Site \"Plovdiv\"]\r\n[Date \"2012.03.21\"]\r\n[Round \"2\"]\r\n[White \"Nyzhnyk\, Illya\"]\r\n[Black \"Giri\, Anish\"]\r\n[Result \"1-0\"]\r\n[ECO \"E04\"]\r\n[WhiteElo \"2585\"]\r\n[BlackElo \"2717\"]\r\n[PlyCount \"57\"]\r\n[EventDate \"2012.03.20\"]\r\n[EventType \"swiss\"]\r\n[EventRounds \"11\"]\r\n[EventCountry \"BUL\"]\r\n\r\n1. d4 Nf6 2. c4 e6 3. Nf3 d5 4. Nc3 c6 5. g3 dxc4 6. Bg2 b5 7. Ne5 a6 8. a4 Bb7\r\n9. O-O Be7 10. axb5 axb5 11. Rxa8 Bxa8 12. Nxb5 cxb5 13. Bxa8 O-O 14. Bg2 Nd5\r\n15. f4 Bd6 16. e3 Bxe5 17. fxe5 Nc6 18. Qg4 Qd7 19. h4 Ncb4 20. h5 Nd3 21. h6\r\nf5 22. exf6 Rxf6 23. Bxd5 Rxf1+ 24. Kxf1 Qf7+ 25. Bf3 Nxc1 26. d5 Nd3 27. dxe6\r\nQe7 28. Bd5 Kf8 29. Qxg7+ 1-0"\,"pieceSymbols":"native"\,"navigationBoard":"above"\,"showFlipButton":true\,"showDownloadButton":true\,"navigationBoardOptions":{"squareSize":32\,"showCoordinates":true\,"colorset":"original"\,"pieceset":"cburnett"\,"animationSpeed":200\,"showMoveArrow":true}\,"diagramOptions":{"squareSize":32\,"showCoordinates":true\,"colorset":"original"\,"pieceset":"cburnett"\,"animationSpeed":200\,"showMoveArrow":true}});\n		});\n	\n\n\n \n\n
URL:https://thechesspedia.net/day/march-21/
CATEGORIES:March
ATTACH;FMTTYPE=image/png:https://thechesspedia.net/wp-content/uploads/2016/07/mar-21.png
END:VEVENT
END:VCALENDAR