
BEGIN:VCALENDAR
VERSION:2.0
PRODID:-//The Chesspedia - ECPv5.1.2.1//NONSGML v1.0//EN
CALSCALE:GREGORIAN
METHOD:PUBLISH
X-WR-CALNAME:The Chesspedia
X-ORIGINAL-URL:https://thechesspedia.net
X-WR-CALDESC:Events for The Chesspedia
BEGIN:VTIMEZONE
TZID:UTC
BEGIN:STANDARD
TZOFFSETFROM:+0000
TZOFFSETTO:+0000
TZNAME:UTC
DTSTART:20160101T000000
END:STANDARD
END:VTIMEZONE
BEGIN:VEVENT
DTSTART;VALUE=DATE:20160317
DTEND;VALUE=DATE:20160318
DTSTAMP:20260422T003604
CREATED:20170316T065929Z
LAST-MODIFIED:20170316T133156Z
UID:19623-1458172800-1458259199@thechesspedia.net
SUMMARY:March 17
DESCRIPTION:QUOTE OF THE DAY\n\nI enjoy it when I see my opponent really suffering when he knows that I’ve outsmarted him- Magnus Carlsen\, 2012\nBIRTHS \nOscar Panno (1935)\, an Argentine Grandmaster and a World Champion Candidate who was World Junior Champion in 1953.\nPaul Van der Sterren (1956) a Dutch Grandmaster\, Dutch Champion and author who left chess in early 2000.\nValery Beim (1950) an Austrian Grandmaster born in Russia who is living and coaching in Vienna.\nEnrico Sevillano (1968) an American Grandmaster born in the Philippines.\nAnh Dung Nguyen (1976)\, a Vietnamese Grandmaster and FIDE Trainer.\nCorina-Izabela Peptan  (1978)\, a Romanian Woman Grandmaster who won nine times the Romanian Women’s Championship.\nJose Fernando Cuenca Jimenez (1987) a Spanish Grandmaster who was several times Spanish Youth Champion. \nDEATHS \nJaenisch Carl Fredrich von (1813-1872) one of the first Russian masters\, a theorist andnd professor of mathematics.\nSemen Furman\, (01.12.1920-1978) Soviet grandmaster (1966)\, theorist and Honored Coach of the USSR. he is known to be the main coach of Anatoly Karpov. \nCHESS EVENTS \n1992 The USSR Chess Federation held its last meeting in Moscow and declared that it no longer existed.\n2009 The 10th European Individual Championship took place in Montenegro. The Russian Grandmaster Evgeny Tomashevsky won the title after a day of playoffs\, He beat Vladimir Malakhov 2-1 in the final.\n2010 In Rijeka Croatia\, Ian Nepomniachtchi from Russia and Pia Cramling from Sweden became the new European Chess Champions. \nWORLD EVENTS \n455 Petronius Maximus becomes\, with the support of the Roman Senate\, emperor of the Western Roman Empire.\n1805 The Italian Republic\, with Napoleon as president\, becomes the Kingdom of Italy\, with Napoleon as King.\n1861 The Kingdom of Italy is proclaimed.\n1948 The Benelux\, France\, and the United Kingdom sign the Treaty of Brussels\, a precursor to the North Atlantic Treaty establishing NATO.\n1959 Tenzin Gyatso\, the 14th Dalai Lama\, flees Tibet for India.\n1969 Golda Meir becomes the first female Prime Minister of Israel. \nGAME OF THE DAY \n\n\n \n\n\n	\n				[Event "Amber-rapid 10th"]\n[Site "Monte Carlo"]\n[Date "2001.03.17"]\n[Round "1"]\n[White "Gelfand\, Boris"]\n[Black "Ljubojevic\, Ljubomir"]\n[Result "1-0"]\n[ECO "D27"]\n[WhiteElo "2712"]\n[BlackElo "2566"]\n[PlyCount "45"]\n[EventDate "2001.03.17"]\n[EventType "tourn (rapid)"]\n[EventRounds "11"]\n[EventCountry "MNC"]\n1. d4 d5 2. c4 dxc4 3. Nf3 Nf6 4. e3 e6 5. Bxc4 c5 6. O-O a6 7. Bd3 Nc6 8. Nc3\nb6 9. dxc5 Bxc5 10. a3 Bb7 11. b4 Be7 12. Bb2 O-O 13. Rc1 h6 14. Qe2 b5 15.\nRfd1 Qb6 16. Ne4 Nxe4 17. Bxe4 Rfd8 18. Nd4 Rac8 19. Nxe6 fxe6 20. Qg4 e5 21.\nQe6+ Kh8 22. Qg6 Kg8 23. Bxe5 1-0\n				\n			You must activate JavaScript to enhance chess game visualization.		\n	\n	\n	\n		jQuery(document).ready(function($) {\n						$.chessgame.navigationButtonClass  = 'rpbchessboard-jQuery-enableSmoothness';\n			$.chessgame.navigationFrameClass   = 'wp-dialog';\n			$.chessgame.navigationFrameOptions = {"squareSize":32\,"showCoordinates":true\,"colorset":"original"\,"pieceset":"cburnett"\,"animationSpeed":200\,"showMoveArrow":true};\n			var selector = '#' + "rpbchessboard-69e817f440855-1" + ' .rpbchessboard-chessgameAnchor';\n			$(selector).removeClass('rpbchessboard-chessgameAnchor').chessgame({"pgn":"[Event \"Amber-rapid 10th\"]\r\n[Site \"Monte Carlo\"]\r\n[Date \"2001.03.17\"]\r\n[Round \"1\"]\r\n[White \"Gelfand\, Boris\"]\r\n[Black \"Ljubojevic\, Ljubomir\"]\r\n[Result \"1-0\"]\r\n[ECO \"D27\"]\r\n[WhiteElo \"2712\"]\r\n[BlackElo \"2566\"]\r\n[PlyCount \"45\"]\r\n[EventDate \"2001.03.17\"]\r\n[EventType \"tourn (rapid)\"]\r\n[EventRounds \"11\"]\r\n[EventCountry \"MNC\"]\r\n1. d4 d5 2. c4 dxc4 3. Nf3 Nf6 4. e3 e6 5. Bxc4 c5 6. O-O a6 7. Bd3 Nc6 8. Nc3\r\nb6 9. dxc5 Bxc5 10. a3 Bb7 11. b4 Be7 12. Bb2 O-O 13. Rc1 h6 14. Qe2 b5 15.\r\nRfd1 Qb6 16. Ne4 Nxe4 17. Bxe4 Rfd8 18. Nd4 Rac8 19. Nxe6 fxe6 20. Qg4 e5 21.\r\nQe6+ Kh8 22. Qg6 Kg8 23. Bxe5 1-0"\,"pieceSymbols":"native"\,"navigationBoard":"above"\,"showFlipButton":true\,"showDownloadButton":true\,"navigationBoardOptions":{"squareSize":32\,"showCoordinates":true\,"colorset":"original"\,"pieceset":"cburnett"\,"animationSpeed":200\,"showMoveArrow":true}\,"diagramOptions":{"squareSize":32\,"showCoordinates":true\,"colorset":"original"\,"pieceset":"cburnett"\,"animationSpeed":200\,"showMoveArrow":true}});\n		});\n	\n\n\n \n\n  \n
URL:https://thechesspedia.net/day/march-17/
CATEGORIES:March
ATTACH;FMTTYPE=image/png:https://thechesspedia.net/wp-content/uploads/2016/07/mar-17.png
END:VEVENT
END:VCALENDAR