
BEGIN:VCALENDAR
VERSION:2.0
PRODID:-//The Chesspedia - ECPv5.1.2.1//NONSGML v1.0//EN
CALSCALE:GREGORIAN
METHOD:PUBLISH
X-WR-CALNAME:The Chesspedia
X-ORIGINAL-URL:https://thechesspedia.net
X-WR-CALDESC:Events for The Chesspedia
BEGIN:VTIMEZONE
TZID:UTC
BEGIN:STANDARD
TZOFFSETFROM:+0000
TZOFFSETTO:+0000
TZNAME:UTC
DTSTART:20160101T000000
END:STANDARD
END:VTIMEZONE
BEGIN:VEVENT
DTSTART;VALUE=DATE:20160315
DTEND;VALUE=DATE:20160316
DTSTAMP:20260421T231605
CREATED:20170315T065119Z
LAST-MODIFIED:20170314T090408Z
UID:19619-1458000000-1458086399@thechesspedia.net
SUMMARY:March 15
DESCRIPTION:QUOTE OF THE DAY\n\nA game of chess has three phases: the opening\, where you hope you stand better; the middlegame\, where you think you stand better; and the ending\, where you know you stand to lose.- Savielly Tartakower\nBIRTHS \nFrank Brady (1934)\, an American player\,  author and the biographer of Robert Fischer.\nVeselin Topalov (1979)\, a Bulgarian Grandmaster who became the FIDE World Champion in 2005.\nVyacheslav Ikonnikov (1966) a Russian Grandmaster\nAvital Boruchovsky (1997)\, an Israeli Grandmaster who won in 2014 the European Youth U18 Championship. \nDEATHS \nAkiba Rubinstein (0.12.1880-1961)\, a Polish chess Grandmaster who is considered to have been one of the strongest players who won everything but never to have become World Chess Champion.\nGerald Abrahams (15.04.1907-1980)\, an English Master and author. \nCHESS EVENTS \n1951 The World Championship Match opened in Moscow between M. Mikhail Botvinnik and David Bronstein. According to FIDE regulations\, the match for the Championship title consisted of 24 games. In case of a draw 12-12\, the Champion retained his title.\n2014 In Yerevan\, Alexander Motylev (RUS) won his second European Individual Champion title. \nWORLD EVENTS \n44 BC – Julius Caesar\, Dictator of the Roman Republic\, is stabbed to death by Marcus Junius Brutus\, Gaius Cassius Longinus\, Decimus Junius Brutus\, and several other Roman senators on the Ides of March.\n856 Michael III\, emperor of the Byzantine Empire\, overthrows the regency of his mother\, empress Theodora with the support of the Byzantine nobility.\n1521 Ferdinand Magellan discovered the Philippine Islands\, where he was killed by natives the following month\n1874 France and Vietnam sign the Second Treaty of Saigon\, further recognizing the full sovereignty of France over Cochinchina.\n1875 Archbishop of New York John McCloskey is named the first cardinal in the United States.\n1877 First ever official cricket test match is played: Australia vs England at the MCG Stadium\, in Melbourne\, Australia.\n1892 Liverpool F.C. is founded.\n1907 Finland held elections and Finnish women became the first in the world to attain full political rights.\n1922 Egypt gains nominal independence from the United Kingdom\, Fuad I becomes King of Egypt.\n1923 Lenin was felled by his 3rd stroke.\n1926 The dictator Theodoros Pangalos is elected President of Greece without opposition.\n1965 Gamal Abdel Nasser was re-elected Egyptian President.\n1974 In Brazil General Ernesto Geisel (1907-1996) became president and ruled for 5 years.\n1985 The first Internet domain name is registered (symbolics.com).\n1990 Mikhail Gorbachev is elected as the first President of the Soviet Union.\n1991 The Treaty on the Final Settlement with Respect to Germany comes into effect\, granting full sovereignty to the Federal Republic of Germany.2011 – Beginning of the Syrian Civil War. \nGAME OF THE DAY \n\n\n \n\n\n	\n				[Event "POL-ch 55th"]\n[Site "Ksiaz"]\n[Date "1998.03.15"]\n[Round "4"]\n[White "Markowski\, Tomasz"]\n[Black "Cyborowski\, Lukasz"]\n[Result "1-0"]\n[ECO "B20"]\n[WhiteElo "2505"]\n[BlackElo "2425"]\n[PlyCount "59"]\n[EventDate "1998.03.12"]\n[EventType "tourn"]\n[EventRounds "13"]\n[EventCountry "POL"]\n[EventCategory "9"]\n[SourceTitle "CBM 063 Extra"]\n[Source "ChessBase"]\n[SourceDate "1998.04.29"]\n\n1. g3 g6 2. Bg2 Bg7 3. e4 c5 4. d3 Nc6 5. f4 d6 6. Nf3 e6 7. O-O Nge7 8. c3 O-O\n9. Be3 f5 10. Nbd2 b6 11. Bf2 Ba6 12. Ng5 Qc8 13. exf5 gxf5 14. Re1 Rf6 15. d4\nQd7 16. Qa4 Bb7 17. d5 Nxd5 18. Nxe6 Nc7 19. Nxg7 Kxg7 20. Rad1 b5 21. Qc2 a5\n22. Bxc5 dxc5 23. Ne4 Qxd1 24. Qxd1 fxe4 25. Qg4+ Kf8 26. Qg5 Rf7 27. Bxe4 Re8\n28. Qh6+ Kg8 29. Bxh7+ Rxh7 30. Qg6+ 1-0\n				\n			You must activate JavaScript to enhance chess game visualization.		\n	\n	\n	\n		jQuery(document).ready(function($) {\n						$.chessgame.navigationButtonClass  = 'rpbchessboard-jQuery-enableSmoothness';\n			$.chessgame.navigationFrameClass   = 'wp-dialog';\n			$.chessgame.navigationFrameOptions = {"squareSize":32\,"showCoordinates":true\,"colorset":"original"\,"pieceset":"cburnett"\,"animationSpeed":200\,"showMoveArrow":true};\n			var selector = '#' + "rpbchessboard-69e80535a5f62-1" + ' .rpbchessboard-chessgameAnchor';\n			$(selector).removeClass('rpbchessboard-chessgameAnchor').chessgame({"pgn":"[Event \"POL-ch 55th\"]\r\n[Site \"Ksiaz\"]\r\n[Date \"1998.03.15\"]\r\n[Round \"4\"]\r\n[White \"Markowski\, Tomasz\"]\r\n[Black \"Cyborowski\, Lukasz\"]\r\n[Result \"1-0\"]\r\n[ECO \"B20\"]\r\n[WhiteElo \"2505\"]\r\n[BlackElo \"2425\"]\r\n[PlyCount \"59\"]\r\n[EventDate \"1998.03.12\"]\r\n[EventType \"tourn\"]\r\n[EventRounds \"13\"]\r\n[EventCountry \"POL\"]\r\n[EventCategory \"9\"]\r\n[SourceTitle \"CBM 063 Extra\"]\r\n[Source \"ChessBase\"]\r\n[SourceDate \"1998.04.29\"]\r\n\r\n1. g3 g6 2. Bg2 Bg7 3. e4 c5 4. d3 Nc6 5. f4 d6 6. Nf3 e6 7. O-O Nge7 8. c3 O-O\r\n9. Be3 f5 10. Nbd2 b6 11. Bf2 Ba6 12. Ng5 Qc8 13. exf5 gxf5 14. Re1 Rf6 15. d4\r\nQd7 16. Qa4 Bb7 17. d5 Nxd5 18. Nxe6 Nc7 19. Nxg7 Kxg7 20. Rad1 b5 21. Qc2 a5\r\n22. Bxc5 dxc5 23. Ne4 Qxd1 24. Qxd1 fxe4 25. Qg4+ Kf8 26. Qg5 Rf7 27. Bxe4 Re8\r\n28. Qh6+ Kg8 29. Bxh7+ Rxh7 30. Qg6+ 1-0"\,"pieceSymbols":"native"\,"navigationBoard":"above"\,"showFlipButton":true\,"showDownloadButton":true\,"navigationBoardOptions":{"squareSize":32\,"showCoordinates":true\,"colorset":"original"\,"pieceset":"cburnett"\,"animationSpeed":200\,"showMoveArrow":true}\,"diagramOptions":{"squareSize":32\,"showCoordinates":true\,"colorset":"original"\,"pieceset":"cburnett"\,"animationSpeed":200\,"showMoveArrow":true}});\n		});\n	\n\n\n \n\n
URL:https://thechesspedia.net/day/march-15/
CATEGORIES:March
ATTACH;FMTTYPE=image/png:https://thechesspedia.net/wp-content/uploads/2016/07/mar-15.png
END:VEVENT
END:VCALENDAR