
BEGIN:VCALENDAR
VERSION:2.0
PRODID:-//The Chesspedia - ECPv5.1.2.1//NONSGML v1.0//EN
CALSCALE:GREGORIAN
METHOD:PUBLISH
X-WR-CALNAME:The Chesspedia
X-ORIGINAL-URL:https://thechesspedia.net
X-WR-CALDESC:Events for The Chesspedia
BEGIN:VTIMEZONE
TZID:UTC
BEGIN:STANDARD
TZOFFSETFROM:+0000
TZOFFSETTO:+0000
TZNAME:UTC
DTSTART:20160101T000000
END:STANDARD
END:VTIMEZONE
BEGIN:VEVENT
DTSTART;VALUE=DATE:20160313
DTEND;VALUE=DATE:20160314
DTSTAMP:20260422T020744
CREATED:20160311T064543Z
LAST-MODIFIED:20170312T163121Z
UID:19615-1457827200-1457913599@thechesspedia.net
SUMMARY:March 13
DESCRIPTION:QUOTE OF THE DAY\n\nThere is no room for gallantry in chess.- Irving Chernev\n\nBIRTHS \nJohnatan Mestel (1957)\, an English Grandmaster and Chess Solving Grandmaster who became World Chess Solving Champion in 1997.\nMargareta Muresan (1950)\, a Romanian Woman Grandmaster who won the women’s Romanian  Championship three times.\nQuang Liem Le (1991)\, a Vietnamese Grandmaster who was World Blitz Champion in 2012.\nKlaudia Kulon (1992)\, a Polish Woman Grandmaster who won the U12 Girls’ World Championship in 2004 and the U14 Girls’ World Championship in 2006.\nLiza Soloviova (1993)\, a Ukraine Woman Grandmaster. \nCHESS EVENTS \n1896. The first Anglo-American cable match has been won by the American 4.5-3.5.\n1975 Alexandria (USSR) beat Ms. Levitina USSR 9-8 in the Women’s Candidates’ final match in Moscow.\n2012 In Gazianstep\, Turkey\, the Russian IM Valentina Gunina became the 2012 European Women’s Champion.\n2013  In Astana\, Kazakhstan\, Ukraine won the Women’s World Chess Team Championship ahead of China and Russia. \nWORLD EVENTS \n1138 German king Koenraad II von Hohenstaufen is crowned\n1697 Nojpetén\, capital of the last independent Maya kingdom\, fell to Spanish conquistadors\, the final step in the Spanish conquest of Guatemala.\n1809 Gustav IV Adolf of Sweden is deposed in a coup d’état.\n1845 Felix Mendelssohn’s Violin Concerto receives its première performance in Leipzig with Ferdinand David as soloist.\n1881 Alexander II of Russia is killed near his palace when a bomb is thrown at him.\n1921 Mongolia is proclaimed an independent monarchy\, ruled by Russian military officer Roman von Ungern-Sternberg as a dictator.\n1933 Great Depression: Banks in the U.S. begin to re-open.\n1954 First Indochina War: Viet Minh forces under Võ Nguyên Giáp unleashed a massive artillery barrage on the French to begin the Battle of Điện Biên Phủ\, the climactic battle in the First Indochina War.\n1138 German king Koenraad II von Hohenstaufen crowned.\n1979 European Monetary System is established\, ECU created.\n1986 Microsoft has its Initial public offering.\n1991 The United States Department of Justice announces that Exxon has agreed to pay $1 billion for the clean-up of the Exxon Valdez oil spill in Alaska. \n(Source:Wikipedia-Onthis day) \nGAME OF THE DAY \n\n\n \n\n\n	\n				[Event "FIDE Candidates"]\n[Site "Khanty-Mansiysk"]\n[Date "2014.03.13"]\n[Round "1"]\n[White "Anand\, Viswanathan"]\n[Black "Aronian\, Levon"]\n[Result "1-0"]\n[ECO "C88"]\n[WhiteElo "2770"]\n[BlackElo "2830"]\n[PlyCount "93"]\n[EventDate "2014.03.13"]\n[EventType "tourn"]\n[EventRounds "14"]\n[EventCountry "RUS"]\n[EventCategory "21"]\n[SourceTitle "CBM 160"]\n[Source "ChessBase"]\n[SourceDate "2014.05.15"]\n\n1. e4 e5 2. Nf3 Nc6 3. Bb5 a6 4. Ba4 Nf6 5. O-O Be7 6. Re1 b5 7. Bb3 O-O 8. h3\nBb7 9. d3 d5 10. exd5 Nxd5 11. Nbd2 Qd7 12. Nxe5 Nxe5 13. Rxe5 Nf6 14. Re1 Rae8\n15. Nf3 Bd6 16. Be3 Re7 17. d4 Rfe8 18. c3 h6 19. Ne5 Bxe5 20. dxe5 Rxe5 21.\nQxd7 Nxd7 22. Red1 Nf6 23. c4 c6 24. Rac1 R5e7 25. a4 bxc4 26. Bxc4 Nd5 27. Bc5\nRe4 28. f3 R4e5 29. Kf2 Bc8 30. Bf1 R5e6 31. Rd3 Nf4 32. Rb3 Rd8 33. Be3 Nd5\n34. Bd2 Nf6 35. Ba5 Rde8 36. Rb6 Re5 37. Bc3 Nd5 38. Bxe5 Nxb6 39. Bd4 Nxa4 40.\nRxc6 Rd8 41. Rc4 Bd7 42. b3 Bb5 43. Rb4 Nb2 44. Bxb5 axb5 45. Ke3 Re8+ 46. Kd2\nRd8 47. Kc3 1-0\n				\n			You must activate JavaScript to enhance chess game visualization.		\n	\n	\n	\n		jQuery(document).ready(function($) {\n						$.chessgame.navigationButtonClass  = 'rpbchessboard-jQuery-enableSmoothness';\n			$.chessgame.navigationFrameClass   = 'wp-dialog';\n			$.chessgame.navigationFrameOptions = {"squareSize":32\,"showCoordinates":true\,"colorset":"original"\,"pieceset":"cburnett"\,"animationSpeed":200\,"showMoveArrow":true};\n			var selector = '#' + "rpbchessboard-69e82d70b3561-1" + ' .rpbchessboard-chessgameAnchor';\n			$(selector).removeClass('rpbchessboard-chessgameAnchor').chessgame({"pgn":"[Event \"FIDE Candidates\"]\r\n[Site \"Khanty-Mansiysk\"]\r\n[Date \"2014.03.13\"]\r\n[Round \"1\"]\r\n[White \"Anand\, Viswanathan\"]\r\n[Black \"Aronian\, Levon\"]\r\n[Result \"1-0\"]\r\n[ECO \"C88\"]\r\n[WhiteElo \"2770\"]\r\n[BlackElo \"2830\"]\r\n[PlyCount \"93\"]\r\n[EventDate \"2014.03.13\"]\r\n[EventType \"tourn\"]\r\n[EventRounds \"14\"]\r\n[EventCountry \"RUS\"]\r\n[EventCategory \"21\"]\r\n[SourceTitle \"CBM 160\"]\r\n[Source \"ChessBase\"]\r\n[SourceDate \"2014.05.15\"]\r\n\r\n1. e4 e5 2. Nf3 Nc6 3. Bb5 a6 4. Ba4 Nf6 5. O-O Be7 6. Re1 b5 7. Bb3 O-O 8. h3\r\nBb7 9. d3 d5 10. exd5 Nxd5 11. Nbd2 Qd7 12. Nxe5 Nxe5 13. Rxe5 Nf6 14. Re1 Rae8\r\n15. Nf3 Bd6 16. Be3 Re7 17. d4 Rfe8 18. c3 h6 19. Ne5 Bxe5 20. dxe5 Rxe5 21.\r\nQxd7 Nxd7 22. Red1 Nf6 23. c4 c6 24. Rac1 R5e7 25. a4 bxc4 26. Bxc4 Nd5 27. Bc5\r\nRe4 28. f3 R4e5 29. Kf2 Bc8 30. Bf1 R5e6 31. Rd3 Nf4 32. Rb3 Rd8 33. Be3 Nd5\r\n34. Bd2 Nf6 35. Ba5 Rde8 36. Rb6 Re5 37. Bc3 Nd5 38. Bxe5 Nxb6 39. Bd4 Nxa4 40.\r\nRxc6 Rd8 41. Rc4 Bd7 42. b3 Bb5 43. Rb4 Nb2 44. Bxb5 axb5 45. Ke3 Re8+ 46. Kd2\r\nRd8 47. Kc3 1-0"\,"pieceSymbols":"native"\,"navigationBoard":"above"\,"showFlipButton":true\,"showDownloadButton":true\,"navigationBoardOptions":{"squareSize":32\,"showCoordinates":true\,"colorset":"original"\,"pieceset":"cburnett"\,"animationSpeed":200\,"showMoveArrow":true}\,"diagramOptions":{"squareSize":32\,"showCoordinates":true\,"colorset":"original"\,"pieceset":"cburnett"\,"animationSpeed":200\,"showMoveArrow":true}});\n		});\n	\n\n\n \n\n
URL:https://thechesspedia.net/day/march-13/
CATEGORIES:March
ATTACH;FMTTYPE=image/png:https://thechesspedia.net/wp-content/uploads/2016/07/mar-13.png
END:VEVENT
END:VCALENDAR