
BEGIN:VCALENDAR
VERSION:2.0
PRODID:-//The Chesspedia - ECPv5.1.2.1//NONSGML v1.0//EN
CALSCALE:GREGORIAN
METHOD:PUBLISH
X-WR-CALNAME:The Chesspedia
X-ORIGINAL-URL:https://thechesspedia.net
X-WR-CALDESC:Events for The Chesspedia
BEGIN:VTIMEZONE
TZID:UTC
BEGIN:STANDARD
TZOFFSETFROM:+0000
TZOFFSETTO:+0000
TZNAME:UTC
DTSTART:20160101T000000
END:STANDARD
END:VTIMEZONE
BEGIN:VEVENT
DTSTART;VALUE=DATE:20160312
DTEND;VALUE=DATE:20160313
DTSTAMP:20260422T020820
CREATED:20160311T064314Z
LAST-MODIFIED:20170312T092004Z
UID:19614-1457740800-1457827199@thechesspedia.net
SUMMARY:March 12
DESCRIPTION:QUOTE OF THE DAY\n\nKasparov doesn’t care about chess\, but only about himself and his political goals- Kirsan Ilyumzhinov\, 2015\n\nBIRTHS \nNatalia Ruchieva (1960)\, a Ukrainian Woman Grandmaster who became Russian Women’s Senior Champion in 2015.\nArthur Jakubiec (1973)\, a Polish Grandmaster and coach.\nMaria Leconte (1970)\,  a French Woman Grandmaster born in Azerbaijan who was French Women’s Champion in 2001.\nEduard Andreev (1980)\, a Ukrainian Grandmaster.\nAlexey Khruschiov (1982)\, a Moldovian Grandmaster who was Moldovian Champion in 2004.\nRadjabov\, Teimour\, AZE\, b-day 12.03.1987 an Azerbaijani chess Grandmaster who was twice a He has twice competed at the Candidates Tournaments in 2012 and 2013. \nWORLD EVENTS\n1609 Bermuda becomes an English colony.\n1622 Ignatius of Loyola and Francis Xavier\, founders of the Jesuits\, are canonized as saints by the Catholic Church.\n1848 2nd Republic established in France.\n1867 Last French troops leave Mexico.\n1868 Basutoland\, today called Lesotho\, is annexed by the United Kingdom.\n1894 Coca-Cola is bottled and sold for the first time in Vicksburg\, Mississippi\, by local soda fountain operator Joseph Biedenharn.\n1918 Moscow becomes the capital of Russia again after Saint Petersburg held this status for 215 years.\n1921 İstiklâl Marşı is adopted in the Grand National Assembly of Turkey.\n1938 Nazi Germany invades Austria (Anschluss).\n1950 Belgium votes (58%) for return of King Leopold III\n1930 Mahatma Gandhi leads a 200-mile march\, known as the Salt March\, to the sea in defiance of British opposition\, to protest the British monopoly on salt.\n1994 The Church of England ordains its first female priests.\n1999 Former Warsaw Pact members the Czech Republic\, Hungary and Poland join NATO.\n2003 Zoran Đinđić\, Prime Minister of Serbia\, is assassinated in Belgrade. \nGAME OF THE DAY \n\n\n \n\n\n	\n				[Event "Reykjavik Open"]\n[Site "Reykjavik ISL"]\n[Date "2016.03.12"]\n[EventDate "2016.03.08"]\n[Round "6.1"]\n[Result "1-0"]\n[White "Sergei Movsesian"]\n[Black "Richard Rapport"]\n[ECO "B43"]\n[WhiteElo "2653"]\n[BlackElo "2720"]\n[PlyCount "65"]\n\n1. e4 c5 2. Nf3 e6 3. d4 cxd4 4. Nxd4 a6 5. Nc3 b5 6. Bd3 Qb6\n7. Nf3 Qc7 8. O-O Bb7 9. Re1 Bc5 10. Ng5 d6 11. Qh5 g6 12. Qh3\nNd7 13. Be3 Ngf6 14. Rad1 Bxe3 15. Rxe3 b4 16. Ne2 Ne5 17. Nd4\nQe7 18. Be2 h6 19. f4 Ned7 20. Ngxe6 fxe6 21. Nxe6 Rc8 22. Bf3\nBc6 23. e5 dxe5 24. fxe5 Nh7 25. Ng7+ Qxg7 26. Qe6+ Qe7\n27. Qxg6+ Kd8 28. Bxc6 Nf8 29. Qe4 Kc7 30. Bb7 Qc5 31. Bxc8\nKxc8 32. Rd5 Qc7 33. Qxb4 1-0\n				\n			You must activate JavaScript to enhance chess game visualization.		\n	\n	\n	\n		jQuery(document).ready(function($) {\n						$.chessgame.navigationButtonClass  = 'rpbchessboard-jQuery-enableSmoothness';\n			$.chessgame.navigationFrameClass   = 'wp-dialog';\n			$.chessgame.navigationFrameOptions = {"squareSize":32\,"showCoordinates":true\,"colorset":"original"\,"pieceset":"cburnett"\,"animationSpeed":200\,"showMoveArrow":true};\n			var selector = '#' + "rpbchessboard-69e82d94f0b0b-1" + ' .rpbchessboard-chessgameAnchor';\n			$(selector).removeClass('rpbchessboard-chessgameAnchor').chessgame({"pgn":"[Event \"Reykjavik Open\"]\r\n[Site \"Reykjavik ISL\"]\r\n[Date \"2016.03.12\"]\r\n[EventDate \"2016.03.08\"]\r\n[Round \"6.1\"]\r\n[Result \"1-0\"]\r\n[White \"Sergei Movsesian\"]\r\n[Black \"Richard Rapport\"]\r\n[ECO \"B43\"]\r\n[WhiteElo \"2653\"]\r\n[BlackElo \"2720\"]\r\n[PlyCount \"65\"]\r\n\r\n1. e4 c5 2. Nf3 e6 3. d4 cxd4 4. Nxd4 a6 5. Nc3 b5 6. Bd3 Qb6\r\n7. Nf3 Qc7 8. O-O Bb7 9. Re1 Bc5 10. Ng5 d6 11. Qh5 g6 12. Qh3\r\nNd7 13. Be3 Ngf6 14. Rad1 Bxe3 15. Rxe3 b4 16. Ne2 Ne5 17. Nd4\r\nQe7 18. Be2 h6 19. f4 Ned7 20. Ngxe6 fxe6 21. Nxe6 Rc8 22. Bf3\r\nBc6 23. e5 dxe5 24. fxe5 Nh7 25. Ng7+ Qxg7 26. Qe6+ Qe7\r\n27. Qxg6+ Kd8 28. Bxc6 Nf8 29. Qe4 Kc7 30. Bb7 Qc5 31. Bxc8\r\nKxc8 32. Rd5 Qc7 33. Qxb4 1-0"\,"pieceSymbols":"native"\,"navigationBoard":"above"\,"showFlipButton":true\,"showDownloadButton":true\,"navigationBoardOptions":{"squareSize":32\,"showCoordinates":true\,"colorset":"original"\,"pieceset":"cburnett"\,"animationSpeed":200\,"showMoveArrow":true}\,"diagramOptions":{"squareSize":32\,"showCoordinates":true\,"colorset":"original"\,"pieceset":"cburnett"\,"animationSpeed":200\,"showMoveArrow":true}});\n		});\n	\n\n\n \n\n
URL:https://thechesspedia.net/day/march-12/
CATEGORIES:March
ATTACH;FMTTYPE=image/png:https://thechesspedia.net/wp-content/uploads/2016/07/mar-12.png
END:VEVENT
END:VCALENDAR