
BEGIN:VCALENDAR
VERSION:2.0
PRODID:-//The Chesspedia - ECPv5.1.2.1//NONSGML v1.0//EN
CALSCALE:GREGORIAN
METHOD:PUBLISH
X-WR-CALNAME:The Chesspedia
X-ORIGINAL-URL:https://thechesspedia.net
X-WR-CALDESC:Events for The Chesspedia
BEGIN:VTIMEZONE
TZID:UTC
BEGIN:STANDARD
TZOFFSETFROM:+0000
TZOFFSETTO:+0000
TZNAME:UTC
DTSTART:20160101T000000
END:STANDARD
END:VTIMEZONE
BEGIN:VEVENT
DTSTART;VALUE=DATE:20160606
DTEND;VALUE=DATE:20160607
DTSTAMP:20260423T095810
CREATED:20160712T122438Z
LAST-MODIFIED:20161028T083051Z
UID:19967-1465171200-1465257599@thechesspedia.net
SUMMARY:June 6
DESCRIPTION:QUOTE OF THE DAY \nThe blunders are all there on the board\, waiting to be made.- Savielly Tartakower\n
URL:https://thechesspedia.net/day/june-6/
CATEGORIES:June
ATTACH;FMTTYPE=image/png:https://thechesspedia.net/wp-content/uploads/2016/03/june-6.png
END:VEVENT
END:VCALENDAR