
BEGIN:VCALENDAR
VERSION:2.0
PRODID:-//The Chesspedia - ECPv5.1.2.1//NONSGML v1.0//EN
CALSCALE:GREGORIAN
METHOD:PUBLISH
X-WR-CALNAME:The Chesspedia
X-ORIGINAL-URL:https://thechesspedia.net
X-WR-CALDESC:Events for The Chesspedia
BEGIN:VTIMEZONE
TZID:UTC
BEGIN:STANDARD
TZOFFSETFROM:+0000
TZOFFSETTO:+0000
TZNAME:UTC
DTSTART:20160101T000000
END:STANDARD
END:VTIMEZONE
BEGIN:VEVENT
DTSTART;VALUE=DATE:20160604
DTEND;VALUE=DATE:20160605
DTSTAMP:20260422T003608
CREATED:20170603T122112Z
LAST-MODIFIED:20170603T185918Z
UID:19965-1464998400-1465084799@thechesspedia.net
SUMMARY:June 4
DESCRIPTION:QUOTE OF THE DAY \nIt is true\, in chess so far that men and women cannot be on the same level from an economic situation\, but there can always be a more reasonable way to combine the financial part and the players’ situation.- Hou Yifan\, 2016\nBIRTHS \nGiambattista Lolli (1698-1769)\, an Italian chess theorist and player.\nHenri Grob (1904-05.07.1974)\, a Swiss International Master and Champion.\nMikheil Mchedlishvili (1979)\, a Georgian Grandmaster who was Georgian Champion in 2001 and 2002.\nVinay Bhat (1984)\, an American Grandmaster born in Georgia\nOlga Girya (1991)\, a Russian Woman Grandmaster who was a member of the gold medal-winning Russian team in the 2014 Women’s Chess Olympiad.\nAryan Tari (1999)\, a Norwegian Grandmaster who was the 2015 Norwegian Champion. \nCHESS EVENTS \n1988 A. Karpov USSR won the first European Championship in Active Chess held in Gijon\, Spain. \nWORLD EVENTS \n1783 The Montgolfier brothers publicly demonstrate their montgolfière (hot air balloon).\n1812 Following Louisiana’s admittance as a U.S. state\, the Louisiana Territory is renamed the Missouri Territory.\n1878 Cyprus Convention: The Ottoman Empire cedes Cyprus to the United Kingdom but retains the nominal title.\n1896 Henry Ford completes the Ford Quadricycle\, his first gasoline-powered automobile\, and gives it a successful test run.\n1919 Women’s rights: The U.S. Congress approves the 19th Amendment to the United States Constitution\, which guarantees suffrage to women.\n1919 Women’s rights: The U.S. Congress approves the 19th Amendment to the United States Constitution\, which guarantees suffrage to women.\n1942 World War II: The Battle of Midway begins.\n1970 Tonga gains independence from the United Kingdom.\n1989 Ali Khamenei is elected as the new Supreme Leader of the Islamic Republic of Iran.\n(Source: Wikipedia) \nGAME OF THE DAY \n\n\n \n\n\n	\n				[Event "Marienbad"]\n[Site "Marienbad"]\n[Date "1925.??.??"]\n[Round "12"]\n[White "Rubinstein\, Akiba"]\n[Black "Janowski\, Dawid Markelowicz"]\n[Result "1-0"]\n[ECO "E32"]\n[PlyCount "49"]\n[EventDate "1925.??.??"]\n[EventType "tourn"]\n[EventRounds "15"]\n[EventCountry "CSR"]\n1. c4 Nf6 2. d4 b6 3. Nc3 Bb7 4. Qc2 e6 5. e4 Bb4 6. Bd3 c5 7. d5 exd5 8. exd5\nb5 9. b3 O-O 10. Nge2 d6 11. O-O bxc4 12. bxc4 Nbd7 13. f4 Re8 14. Ng3 Ba6 15.\nNce4 Nxe4 16. Nxe4 Nb6 17. Bb2 f6 18. Rf3 Rf8 19. Ng5 fxg5 20. Bxh7+ Kh8 21.\nBxg7+ Kxg7 22. Qg6+ Kh8 23. Rh3 Qd7 24. Bg8+ Qxh3 25. gxh3 1-0\n				\n			You must activate JavaScript to enhance chess game visualization.		\n	\n	\n	\n		jQuery(document).ready(function($) {\n						$.chessgame.navigationButtonClass  = 'rpbchessboard-jQuery-enableSmoothness';\n			$.chessgame.navigationFrameClass   = 'wp-dialog';\n			$.chessgame.navigationFrameOptions = {"squareSize":32\,"showCoordinates":true\,"colorset":"original"\,"pieceset":"cburnett"\,"animationSpeed":200\,"showMoveArrow":true};\n			var selector = '#' + "rpbchessboard-69e817f901a4c-1" + ' .rpbchessboard-chessgameAnchor';\n			$(selector).removeClass('rpbchessboard-chessgameAnchor').chessgame({"pgn":"[Event \"Marienbad\"]\r\n[Site \"Marienbad\"]\r\n[Date \"1925.??.??\"]\r\n[Round \"12\"]\r\n[White \"Rubinstein\, Akiba\"]\r\n[Black \"Janowski\, Dawid Markelowicz\"]\r\n[Result \"1-0\"]\r\n[ECO \"E32\"]\r\n[PlyCount \"49\"]\r\n[EventDate \"1925.??.??\"]\r\n[EventType \"tourn\"]\r\n[EventRounds \"15\"]\r\n[EventCountry \"CSR\"]\r\n1. c4 Nf6 2. d4 b6 3. Nc3 Bb7 4. Qc2 e6 5. e4 Bb4 6. Bd3 c5 7. d5 exd5 8. exd5\r\nb5 9. b3 O-O 10. Nge2 d6 11. O-O bxc4 12. bxc4 Nbd7 13. f4 Re8 14. Ng3 Ba6 15.\r\nNce4 Nxe4 16. Nxe4 Nb6 17. Bb2 f6 18. Rf3 Rf8 19. Ng5 fxg5 20. Bxh7+ Kh8 21.\r\nBxg7+ Kxg7 22. Qg6+ Kh8 23. Rh3 Qd7 24. Bg8+ Qxh3 25. gxh3 1-0"\,"pieceSymbols":"native"\,"navigationBoard":"above"\,"showFlipButton":true\,"showDownloadButton":true\,"navigationBoardOptions":{"squareSize":32\,"showCoordinates":true\,"colorset":"original"\,"pieceset":"cburnett"\,"animationSpeed":200\,"showMoveArrow":true}\,"diagramOptions":{"squareSize":32\,"showCoordinates":true\,"colorset":"original"\,"pieceset":"cburnett"\,"animationSpeed":200\,"showMoveArrow":true}});\n		});\n	\n\n\n \n\n
URL:https://thechesspedia.net/day/june-4/
CATEGORIES:June
ATTACH;FMTTYPE=image/png:https://thechesspedia.net/wp-content/uploads/2016/03/june-4.png
END:VEVENT
END:VCALENDAR